Workbook
Name Klub: Adrenalin!$D$18:$D$70
Name Klub: 'DP2014'!$D$19:$D$70
Name Klub: ParaStajerka!$D$16:$D$70
Name Klub: PWC!$D$18:$D$70
Name Klub: Ratitovec!$D$18:$D$70
Name Klub: SocaValley!$D$17:$D$60
Name klub: DP!$D$15:$D$70
Name Pilot: PWC!$C$18:$C$191
Name T1_: #REF!
Name T1_NOR: Adrenalin!$I$18:$I$70
Name T1_NOR: 'DP2014'!$I$19:$I$70
Name T1_NOR: ParaStajerka!$I$16:$I$70
Name T1_NOR: PWC!$I$18:$I$70
Name T1_NOR: Ratitovec!$I$18:$I$70
Name T1_NOR: SocaValley!$H$17:$H$60
Name T2_: #REF!
Name T2_NOR: Adrenalin!$K$18:$K$68
Name T2_NOR: 'DP2014'!$K$18:$K$70
Name T2_NOR: ParaStajerka!$K$18:$K$70
Name T2_NOR: PWC!$K$18:$K$70
Name T2_NOR: Ratitovec!$K$18:$K$68
Name T2_NOR: SocaValley!$J$17:$J$60
Name T3_: #REF!
Name T3_NOR: Adrenalin!$M$18:$M$70
Name T3_NOR: 'DP2014'!$M$18:$M$70
Name T3_NOR: ParaStajerka!$M$18:$M$70
Name T3_NOR: PWC!$M$18:$M$70
Name T3_NOR: Ratitovec!$M$18:$M$70
Name T3_NOR: SocaValley!$K$17:$K$60
Name T4_NOR: SocaValley!$M$17:$M$60
Name T4_NOR: SocaValley!$M$17:$M$60

Sheet DP
A1: Report created: 2013-08-02T19:46:20+02:00
A2: Slovenian - Croatian Open 2013
A4: 2013-07-28 to 2013-08-02
A5: Overall
A6: Total results | H6: =SUM(LARGE(I15:I59,{1;2;3})) -> 2959.9529
A7: Task | B7: Date | C7: Distance | H7: =SUMIF($D$15:$D$59,"KL Vrhnika"& LARGE(I15:I59,{1;2;3}),T1_) -> #REF!
A8: T1 Task 1 | B8: 2013-07-28 13:20 | C8: 40,1 km | D8: Race to Goal with 1 startgate(s)
A9: T2 Task2 | B9: 2013-07-30 13:00 | C9: 83,3 km | D9: Race to Goal with 1 startgate(s)
A10: T3 Task 3 | B10: 2013-07-31 13:00 | C10: 100,0 km | D10: Race to Goal with 1 startgate(s)
A11: T4 Task 5 | B11: 2013-08-01 13:00 | C11: 93,6 km | D11: Race to Goal with 1 startgate(s)
A12: T5 Task 6 | B12: 2013-08-02 13:00 | C12: 74,4 km | D12: Race to Goal with 1 startgate(s)
A14: # | B14: Id | C14: Name | D14: Klub | E14: Nat | F14: Glider | G14: Sponsor | H14: T 1 | I14: T1_ | J14: T 2 | K14: T 3 | L14: T3_ | M14: T 4 | N14: T 5 | O14: Total | Q14: Task 1 | R14: Klub | S14: T1 | T14: T2_ | U14: T3 | V14: T4 | W14: T5 | X14: SUM
A15: 1 | B15: 29 | C15: Primož Suša | D15: KL Vrhnika | E15: SLO | F15: OZONE ENZO | G15: camp-gabrje.com | H15: 829 | I15: =(1000*H15)/849 -> 976.44287 | J15: 1000 | K15: 985 | L15: 1000 | M15: 1000 | N15: 875 | O15: 4689 | Q15: 1 | R15: KL Vrhnika | S15: {=SUM(LARGE(IF(klub=R15,$I$15:$I$70,""),{1;2;3}))} -> 2868.0801 | T15: {=SUM(LARGE(IF(klub=$R15,J$15:J$70,""),{1;2;3}))} -> 2736 | U15: {=SUM(LARGE(IF(klub=$R15,L$15:L$70,""),{1;2;3}))} -> 2803.0457 | V15: {=SUM(LARGE(IF(klub=$R15,M$15:M$70,""),{1;2;3}))} -> 2911 | W15: {=SUM(LARGE(IF(klub=$R15,N$15:N$70,""),{1;2;3}))} -> 2705 | X15: =SUM(S15:U15) -> 8407.1258
A16: 2 | B16: 148 | C16: Dušan Orož | D16: Polet NG | E16: SLO | F16: OZONE ENZO | H16: 762 | I16: =(1000*H16)/849 -> 897.5265 | J16: 928 | K16: 977 | L16: =(1000*K16)/985 -> 991.87817 | M16: 884 | N16: 906 | O16: 4457 | Q16: 2 | R16: DJP Kovk | S16: {=SUM(LARGE(IF(klub=R16,$I$15:$I$70,""),{1;2;3}))} -> 2713.7809 | T16: {=SUM(LARGE(IF(klub=$R16,J$15:J$70,""),{1;2;3}))} -> 1818 | U16: {=SUM(LARGE(IF(klub=$R16,L$15:L$70,""),{1;2;3}))} -> 2436.5482 | V16: {=SUM(LARGE(IF(klub=$R16,M$15:M$70,""),{1;2;3}))} -> 1821 | W16: {=SUM(LARGE(IF(klub=$R16,N$15:N$70,""),{1;2;3}))} -> 2159 | X16: =SUM(S16:U16) -> 6968.3291
A17: 4 | B17: 217 | C17: Bojan Gaberšek | D17: KL Vrhnika | E17: SLO | F17: NIVIUK ICEPEAK 6 | G17: Avtodeli Gaberšek | H17: 819 | I17: =(1000*H17)/849 -> 964.66431 | J17: 704 | K17: 923 | L17: =(1000*K17)/985 -> 937.05584 | M17: 959 | N17: 847 | O17: 4252 | Q17: 3 | R17: DJP Metulj | S17: {=SUM(LARGE(IF(klub=R17,$I$15:$I$70,""),{1;2;3}))} -> 2619.5524 | T17: {=SUM(LARGE(IF(klub=$R17,J$15:J$70,""),{1;2;3}))} -> 2087 | U17: {=SUM(LARGE(IF(klub=$R17,L$15:L$70,""),{1;2;3}))} -> 1909.6447 | V17: {=SUM(LARGE(IF(klub=$R17,M$15:M$70,""),{1;2;3}))} -> 2217 | W17: {=SUM(LARGE(IF(klub=$R17,N$15:N$70,""),{1;2;3}))} -> 2299 | X17: =SUM(S17:U17) -> 6616.1971
A18: 6 | B18: 90 | C18: Marko Novak | D18: KL Vrhnika | E18: SLO | F18: OZONE ENZO | G18: nowa d.o.o. | H18: 787 | I18: =(1000*H18)/849 -> 926.97291 | J18: 572 | K18: 853 | L18: =(1000*K18)/985 -> 865.98985 | M18: 952 | N18: 983 | O18: 4147 | Q18: 4 | R18: KJP Krokar | S18: {=SUM(LARGE(IF(klub=R18,$I$15:$I$70,""),{1;2;3}))} -> 2240.2827 | T18: {=SUM(LARGE(IF(klub=$R18,J$15:J$70,""),{1;2;3}))} -> 2157 | U18: {=SUM(LARGE(IF(klub=$R18,L$15:L$70,""),{1;2;3}))} -> 2202.0305 | V18: {=SUM(LARGE(IF(klub=$R18,M$15:M$70,""),{1;2;3}))} -> 1958 | W18: {=SUM(LARGE(IF(klub=$R18,N$15:N$70,""),{1;2;3}))} -> 1752 | X18: =SUM(S18:U18) -> 6599.3131
A19: 7 | B19: 126 | C19: Miha Slamič | D19: Polet NG | E19: SLO | F19: NIVIUK ICEPEAK 6 | G19: Polet Nova Gorica | H19: 775 | I19: =(1000*H19)/849 -> 912.83863 | J19: 918 | K19: 768 | L19: =(1000*K19)/985 -> 779.69543 | M19: 806 | N19: 846 | O19: 4113 | Q19: 5 | R19: Lintvar | S19: {=SUM(LARGE(IF(klub=R19,$I$15:$I$70,""),{1;2;3}))} -> 2220.2591 | T19: {=SUM(LARGE(IF(klub=$R19,J$15:J$70,""),{1;2;3}))} -> 1846 | U19: {=SUM(LARGE(IF(klub=$R19,L$15:L$70,""),{1;2;3}))} -> 1829.4416 | V19: {=SUM(LARGE(IF(klub=$R19,M$15:M$70,""),{1;2;3}))} -> 1701 | W19: {=SUM(LARGE(IF(klub=$R19,N$15:N$70,""),{1;2;3}))} -> 1560 | X19: =SUM(S19:U19) -> 5895.7008
A20: 9 | B20: 5 | C20: Tomaž Eržen | D20: KJP Krokar | E20: SLO | F20: OZONE ENZO | G20: www.GearForFly.com, www.pronet-kr.si | H20: 691 | I20: =(1000*H20)/849 -> 813.8987 | J20: 803 | K20: 966 | L20: =(1000*K20)/985 -> 980.71066 | M20: 736 | N20: 817 | O20: 4013 | Q20: 6 | R20: Polet NG | S20: {=SUM(LARGE(IF(klub=R20,$I$15:$I$70,""),{1;2;3}))} -> 1810.3651 | T20: {=SUM(LARGE(IF(klub=$R20,J$15:J$70,""),{1;2;3}))} -> 1846 | U20: {=SUM(LARGE(IF(klub=$R20,L$15:L$70,""),{1;2;3}))} -> 1771.5736 | V20: {=SUM(LARGE(IF(klub=$R20,M$15:M$70,""),{1;2;3}))} -> 1690 | W20: {=SUM(LARGE(IF(klub=$R20,N$15:N$70,""),{1;2;3}))} -> 1752 | X20: =SUM(S20:U20) -> 5427.9387
A21: 10 | B21: 214 | C21: Aljaž Valič | D21: DJP Kovk | E21: SLO | F21: TRIPLE SEVEN GLIDERS QEEN | G21: TripleSeven Gliders | H21: 849 | I21: 1000 | J21: 392 | K21: 939 | L21: =(1000*K21)/985 -> 953.29949 | M21: 965 | N21: 827 | O21: 3972 | Q21: 7 | R21: Adrenalin | S21: {=SUM(LARGE(IF(klub=R21,$I$15:$I$70,""),{1;2;3}))} -> 930.50648 | T21: {=SUM(LARGE(IF(klub=$R21,J$15:J$70,""),{1;2;3}))} -> 1122 | U21: {=SUM(LARGE(IF(klub=$R21,L$15:L$70,""),{1;2;3}))} -> 1079.1878 | V21: {=SUM(LARGE(IF(klub=$R21,M$15:M$70,""),{1;2;3}))} -> 1282 | W21: {=SUM(LARGE(IF(klub=$R21,N$15:N$70,""),{1;2;3}))} -> 1171 | X21: =SUM(S21:U21) -> 3131.6943
A22: 12 | B22: 611 | C22: Miha Razinger | D22: KL Vrhnika | E22: SLO | F22: OZONE Enzo | H22: 698 | I22: =(1000*H22)/849 -> 822.1437 | J22: 894 | K22: 851 | L22: =(1000*K22)/985 -> 863.95939 | M22: 742 | N22: 766 | O22: 3951 | Q22: 8 | R22: EOL Celje | S22: {=SUM(LARGE(IF(klub=R22,$I$15:$I$70,""),{1;2;3}))} -> 1209.6584 | T22: {=SUM(LARGE(IF(klub=$R22,J$15:J$70,""),{1;2;3}))} -> 721 | U22: {=SUM(LARGE(IF(klub=$R22,L$15:L$70,""),{1;2;3}))} -> 981.72589 | V22: {=SUM(LARGE(IF(klub=$R22,M$15:M$70,""),{1;2;3}))} -> 880 | W22: {=SUM(LARGE(IF(klub=$R22,N$15:N$70,""),{1;2;3}))} -> 343 | X22: =SUM(S22:U22) -> 2912.3843
A23: 15 | B23: 7 | C23: Dušan Durkovič | D23: DJP Metulj | E23: SLO | F23: NOVA MENTOR 3 | G23: Hard Work :-) | H23: 782 | I23: =(1000*H23)/849 -> 921.08363 | J23: 898 | K23: 664 | L23: =(1000*K23)/985 -> 674.11168 | M23: 707 | N23: 710 | O23: 3761 | Q23: 9 | R23: DPL Posočje | S23: {=SUM(LARGE(IF(klub=R23,$I$15:$I$70,""),{1;2;3}))} -> 1227.3263 | T23: {=SUM(LARGE(IF(klub=$R23,J$15:J$70,""),{1;2;3}))} -> 403 | U23: {=SUM(LARGE(IF(klub=$R23,L$15:L$70,""),{1;2;3}))} -> 1054.8223 | V23: {=SUM(LARGE(IF(klub=$R23,M$15:M$70,""),{1;2;3}))} -> 861 | W23: {=SUM(LARGE(IF(klub=$R23,N$15:N$70,""),{1;2;3}))} -> 579 | X23: =SUM(S23:U23) -> 2685.1486
A24: 16 | B24: 414 | C24: Urban Valič | D24: DJP Kovk | E24: SLO | F24: TRIPLE SEVEN GLIDERS Queen | G24: Triple Seven Gliders | H24: 835 | I24: =(1000*H24)/849 -> 983.51001 | J24: 910 | K24: 926 | L24: =(1000*K24)/985 -> 940.10152 | M24: 206 | N24: 847 | O24: 3724 | Q24: 10 | R24: DJP Parakrilec | S24: {=SUM(LARGE(IF(klub=R24,$I$15:$I$70,""),{1;2;3}))} -> 766.78445 | T24: {=SUM(LARGE(IF(klub=$R24,J$15:J$70,""),{1;2;3}))} -> 671 | U24: {=SUM(LARGE(IF(klub=$R24,L$15:L$70,""),{1;2;3}))} -> 1047.7157 | V24: {=SUM(LARGE(IF(klub=$R24,M$15:M$70,""),{1;2;3}))} -> 241 | W24: {=SUM(LARGE(IF(klub=$R24,N$15:N$70,""),{1;2;3}))} -> 421 | X24: =SUM(S24:U24) -> 2485.5002
A25: 20 | B25: 37 | C25: Simon Konavec | D25: Adrenalin | E25: SLO | F25: NOVA MENTOR 3 | G25: Društvo Adrenalin, www.nova-wings.si | H25: 790 | I25: =(1000*H25)/849 -> 930.50648 | J25: 701 | K25: 553 | L25: =(1000*K25)/985 -> 561.42132 | M25: 706 | N25: 712 | O25: 3462 | Q25: 11 | R25: DJP Cumulus | S25: {=SUM(LARGE(IF(klub=R25,$I$15:$I$70,""),{1;2;3}))} -> 425.20612 | T25: {=SUM(LARGE(IF(klub=$R25,J$15:J$70,""),{1;2;3}))} -> 757 | U25: {=SUM(LARGE(IF(klub=$R25,L$15:L$70,""),{1;2;3}))} -> 820.30457 | V25: {=SUM(LARGE(IF(klub=$R25,M$15:M$70,""),{1;2;3}))} -> 1086 | W25: {=SUM(LARGE(IF(klub=$R25,N$15:N$70,""),{1;2;3}))} -> 904 | X25: =SUM(S25:U25) -> 2002.5107
A26: 21 | B26: 523 | C26: Jošt Napret | D26: DJP Metulj | E26: SLO | F26: NIVIUK IP6 | G26: www.naviter.com | H26: 812 | I26: =(1000*H26)/849 -> 956.41932 | J26: 504 | K26: 248 | L26: =(1000*K26)/985 -> 251.77665 | M26: 820 | N26: 1000 | O26: 3384 | Q26: 12 | R26: DPL Lesce-Bled | S26: {=SUM(LARGE(IF(klub=R26,$I$15:$I$70,""),{1;2;3}))} -> #NUM! | T26: {=SUM(LARGE(IF(klub=$R26,J$15:J$70,""),{1;2;3}))} -> #NUM! | U26: {=SUM(LARGE(IF(klub=$R26,L$15:L$70,""),{1;2;3}))} -> #NUM! | V26: {=SUM(LARGE(IF(klub=$R26,M$15:M$70,""),{1;2;3}))} -> #NUM! | W26: {=SUM(LARGE(IF(klub=$R26,N$15:N$70,""),{1;2;3}))} -> #NUM! | X26: =SUM(S26:U26) -> #NUM!
A27: 23 | B27: 39 | C27: Rok Dolinšek | D27: KL Vrhnika | E27: SLO | F27: NIVIUK ICEPEAK 6 | G27: Troia d.o.o., ŠD Oktan | H27: 666 | I27: =(1000*H27)/849 -> 784.4523 | J27: 842 | K27: 281 | L27: =(1000*K27)/985 -> 285.27919 | M27: 826 | N27: 479 | O27: 3094
A28: 24 | B28: 303 | C28: Miran Fridau | D28: Lintvar | E28: SLO | F28: NIVIUK ARTIK 3 | G28: Rigips Slovenija | H28: 705 | I28: =(1000*H28)/849 -> 830.38869 | J28: 669 | K28: 544 | L28: =(1000*K28)/985 -> 552.28426 | M28: 585 | N28: 569 | O28: 3072
A29: 26 | B29: 140 | C29: Damjan Lotrič | D29: KJP Krokar | E29: SLO | F29: OZONE MANTRA M4 | H29: 623 | I29: =(1000*H29)/849 -> 733.80448 | J29: 789 | K29: 665 | L29: =(1000*K29)/985 -> 675.1269 | M29: 646 | N29: 291 | O29: 3014
A30: 30 | B30: 58 | C30: Jože Molek | D30: DJP Cumulus | E30: SLO | F30: Ozone Delta 2 | H30: 0 | I30: =(1000*H30)/849 -> 0 | J30: 676 | K30: 561 | L30: =(1000*K30)/985 -> 569.54315 | M30: 801 | N30: 767 | O30: 2805
A31: 31 | B31: 545 | C31: Tomaž Toplak | D31: KL Vrhnika | E31: SLO | F31: NIVIUK IC6 | G31: ardi INT d.o.o. | H31: 640 | I31: =(1000*H31)/849 -> 753.82803 | J31: 645 | K31: 232 | L31: =(1000*K31)/985 -> 235.53299 | M31: 590 | N31: 694 | O31: 2801
A32: 32 | B32: 1011 | C32: Andrej Erznožnik | D32: KL Vrhnika | E32: SLO | F32: OZONE MANTRA M4 | H32: 579 | I32: =(1000*H32)/849 -> 681.9788 | J32: 481 | K32: 497 | L32: =(1000*K32)/985 -> 504.56853 | M32: 623 | N32: 557 | O32: 2737
A33: 33 | B33: 73 | C33: Damjan Čretnik | D33: Lintvar | E33: SLO | F33: NIVIUK ARTIK 27 | G33: www.lintvar.si | H33: 711 | I33: =(1000*H33)/849 -> 837.45583 | J33: 686 | K33: 687 | L33: =(1000*K33)/985 -> 697.46193 | M33: 354 | N33: 274 | O33: 2712
A34: 35 | B34: 748 | C34: Stojan Kranjc | D34: DJP Kovk | E34: SLO | F34: TRIPLE SEVEN GLIDERS QUEEN | H34: 533 | I34: =(1000*H34)/849 -> 627.79741 | J34: 481 | K34: 519 | L34: =(1000*K34)/985 -> 526.90355 | M34: 650 | N34: 485 | O34: 2668
A35: 36 | B35: 10 | C35: Stane Jakopič | D35: DJP Metulj | E35: SLO | F35: OZONE DELTA2 | H35: 140 | I35: =(1000*H35)/849 -> 164.89988 | J35: 685 | K35: 688 | L35: =(1000*K35)/985 -> 698.47716 | M35: 690 | N35: 457 | O35: 2660
A36: 37 | B36: 4224 | C36: Sebastjan Podbregar | D36: EOL Celje | E36: SLO | F36: TRIPLE SEVEN GLIDERS QUEEN | H36: 615 | I36: =(1000*H36)/849 -> 724.38163 | J36: 474 | K36: 706 | L36: =(1000*K36)/985 -> 716.75127 | M36: 617 | N36: 206 | O36: 2618
A37: 38 | B37: 32 | C37: Mohor Prevc | D37: KJP Krokar | E37: SLO | F37: AXIS VENUS 2 | H37: 484 | I37: =(1000*H37)/849 -> 570.08245 | J37: 565 | K37: 514 | L37: =(1000*K37)/985 -> 521.82741 | M37: 546 | N37: 421 | O37: 2530
A38: 42 | B38: 1403 | C38: Alojz Tovornik | D38: DJP Metulj | E38: SLO | F38: OZONE M4 | G38: www.metujmania.com | H38: 630 | I38: =(1000*H38)/849 -> 742.04947 | J38: 384 | K38: 260 | L38: =(1000*K38)/985 -> 263.95939 | M38: 589 | N38: 589 | O38: 2452
A39: 43 | B39: 2500 | C39: Miha Senica | D39: DJP Metulj | E39: SLO | F39: NOVA FACTOR | H39: 590 | I39: =(1000*H39)/849 -> 694.93522 | J39: 426 | K39: 529 | L39: =(1000*K39)/985 -> 537.05584 | M39: 335 | N39: 562 | O39: 2442
A40: 47 | B40: 25377 | C40: Jernej Štefanec | D40: Lintvar | E40: SLO | F40: NIVIUK ARTIK3 | H40: 140 | I40: =(1000*H40)/849 -> 164.89988 | J40: 491 | K40: 533 | L40: =(1000*K40)/985 -> 541.11675 | M40: 575 | N40: 570 | O40: 2309
A41: 48 | B41: 25212 | C41: Sandi Kristić | D41: KJP Krokar | E41: SLO | F41: OZONE DELTA | G41: www.skiil.si | H41: 511 | I41: =(1000*H41)/849 -> 601.88457 | J41: 255 | K41: 532 | L41: =(1000*K41)/985 -> 540.10152 | M41: 518 | N41: 469 | O41: 2285
A42: 49 | B42: 82 | C42: Boštjan Svetlin | D42: KJP Krokar | E42: SLO | F42: AXIS VENUS 2 | H42: 588 | I42: =(1000*H42)/849 -> 692.57951 | J42: 435 | K42: 538 | L42: =(1000*K42)/985 -> 546.19289 | M42: 338 | N42: 374 | O42: 2273
...

Sheet Skupno-SPORT
D1: Rezultati slovenske lige v preletih z jadralnimi padali SERIAL CLASS | R1: Sezona 2013
B2: Mesto | C2: Name | D2: Glider | E2: T 1 | F2: T 2 | G2: T 3 | H2: T 4 | I2: T 5 | J2: T 6 | K2: T 7 | L2: T 8 | M2: T 9 | N2: T 10 | O2: T 11 | P2: T 12 | Q2: T 13 | R2: T 14 | S2: T 15 | T2: SUM | U2: - | V2: Skupno
B3: 1 | C3: Stojan Kranjc | D3: TRIPLE SEVEN QUEEN | E3: 0 | F3: 0 | G3: 0 | H3: 0 | I3: 0 | J3: 627.79741 | K3: 481 | L3: 526.90355 | M3: 650 | N3: 485 | O3: 1000 | P3: 500 | Q3: 514.56311 | R3: 457.7823 | S3: 784.49144 | T3: =SUM(E3:S3) -> 6027.5378 | U3: 0 | V3: 6028
B4: 3 | C4: Simon Konavec | D4: Nova Mentor 3 | E4: 0 | F4: 0 | G4: 0 | H4: 0 | I4: 0 | J4: 930.50648 | K4: 701 | L4: 561.42132 | M4: 706 | N4: 712 | O4: 0 | P4: 0 | Q4: 521.0356 | R4: 144.45575 | S4: 792.54783 | T4: 5068.967 | U4: 0 | V4: 5068.967
B5: 4 | C5: Miran Fridau | D5: NIVIUK ARTIK 3 | E5: 0 | F5: 0 | G5: 524.25181 | H5: 584.46866 | I5: 306.28803 | J5: 830.38869 | K5: 669 | L5: 552.28426 | M5: 585 | N5: 569 | O5: 0 | P5: 0 | Q5: 0 | R5: 0 | S5: 0 | T5: 4620.6815 | U5: 0 | V5: 4620.6815
B6: 5 | C6: Igor Eržen | D6: MAC-PARA MARVEL | E6: 346.38554 | F6: 297.61905 | G6: 59.855521 | H6: 89.918256 | I6: 59.837728 | J6: 611.30742 | K6: 256 | L6: 514.72081 | M6: 576 | N6: 137 | O6: 0 | P6: 0 | Q6: 469.25566 | R6: 548.32146 | S6: 611.27895 | T6: 4577.5004 | U6: 119.69325 | V6: 4457.8072
B7: 6 | C7: Stane Jakopič | D7: OZONE DELTA 2 | E7: 0 | F7: 0 | G7: 481.94014 | H7: 566.75749 | I7: 565.92292 | J7: 164.89988 | K7: 685 | L7: 698.47716 | M7: 690 | N7: 457 | O7: 0 | P7: 0 | Q7: 0 | R7: 0 | S7: 0 | T7: 4309.9976 | U7: 0 | V7: 4309.9976
B8: 7 | C8: Aljaž Valič | D8: TRIPLE SEVEN QUEEN | E8: 0 | F8: 0 | G8: 0 | H8: 0 | I8: 0 | J8: 1000 | K8: 392 | L8: 953.29949 | M8: 965 | N8: 827 | O8: 0 | P8: 0 | Q8: 0 | R8: 0 | S8: 0 | T8: 4137.2995 | U8: 0 | V8: 4137.2995
B9: 8 | C9: Dušan Durkovič | D9: NOVA MENTOR 3 | E9: 0 | F9: 0 | G9: 0 | H9: 0 | I9: 0 | J9: 921.08363 | K9: 898 | L9: 674.11168 | M9: 707 | N9: 710 | O9: 0 | P9: 0 | Q9: 0 | R9: 0 | S9: 0 | T9: 3910.1953 | U9: 0 | V9: 3910.1953
B10: 9 | C10: Urban Valič | D10: TRIPLE SEVEN QUEEN | E10: 0 | F10: 0 | G10: 0 | H10: 0 | I10: 0 | J10: 983.51001 | K10: 910 | L10: 940.10152 | M10: 206 | N10: 847 | O10: 0 | P10: 0 | Q10: 0 | R10: 0 | S10: 0 | T10: 3886.6115 | U10: 0 | V10: 3886.6115
B11: 10 | C11: Mojca Pišek | D11: NIVIUK ARTIK 3 | E11: 0 | F11: 0 | G11: 0 | H11: 0 | I11: 0 | J11: 552.41461 | K11: 435 | L11: 579.69543 | M11: 541 | N11: 162 | O11: 0 | P11: 0 | Q11: 470.87379 | R11: 525.941 | S11: 514.60222 | T11: 3781.527 | U11: 0 | V11: 3781.527
B12: 11 | C12: Sandi Kristić | D12: OZONE DELTA M | E12: 0 | F12: 0 | G12: 499.484 | H12: 335.14986 | I12: 259.63489 | J12: 601.88457 | K12: 255 | L12: 540.10152 | M12: 518 | N12: 469 | O12: 0 | P12: 0 | Q12: 0 | R12: 0 | S12: 0 | T12: 3478.2548 | U12: 0 | V12: 3478.2548
B13: 12 | C13: Grega Rutar | D13: OZONE DELTA 2 | E13: 327.30924 | F13: 291.66667 | G13: 0 | H13: 0 | I13: 0 | J13: 638.39812 | K13: 380 | L13: 565.48223 | M13: 533 | N13: 137 | O13: 0 | P13: 0 | Q13: 0 | R13: 0 | S13: 0 | T13: 2872.8563 | U13: 0 | V13: 2872.8563
B14: 13 | C14: Damjan Čretnik | D14: NIVIUK ARTIK 3 25 | E14: 0 | F14: 0 | G14: 0 | H14: 0 | I14: 0 | J14: 837.45583 | K14: 686 | L14: 697.46193 | M14: 354 | N14: 274 | O14: 0 | P14: 0 | Q14: 0 | R14: 0 | S14: 0 | T14: 2848.9178 | U14: 0 | V14: 2848.9178
B15: 14 | C15: Toni Pljakoski | D15: OZONE DELTA 2 | E15: 0 | F15: 0 | G15: 501.54799 | H15: 344.68665 | I15: 0 | J15: 699.64664 | K15: 427 | L15: 543.14721 | M15: 0 | N15: 137 | O15: 0 | P15: 0 | Q15: 0 | R15: 0 | S15: 0 | T15: 2653.0285 | U15: 0 | V15: 2653.0285
B16: 15 | C16: Miha Senica | D16: Nova Factor 2 | E16: 0 | F16: 0 | G16: 0 | H16: 0 | I16: 0 | J16: 694.93522 | K16: 426 | L16: 537.05584 | M16: 335 | N16: 562 | O16: 0 | P16: 0 | Q16: 0 | R16: 0 | S16: 0 | T16: 2554.9911 | U16: 0 | V16: 2554.9911
B17: 16 | C17: Peter Kocjan | D17: NIVIUK HOOK 3 | E17: 0 | F17: 0 | G17: 191.95046 | H17: 331.06267 | I17: 508.11359 | J17: 408.71614 | K17: 216 | L17: 350.25381 | M17: 127 | N17: 421 | O17: 0 | P17: 0 | Q17: 0 | R17: 0 | S17: 0 | T17: 2554.0967 | U17: 0 | V17: 2554.0967
B18: 17 | C18: Jernej Štefanec | D18: NIVIUK ARTIK3 | E18: 0 | F18: 0 | G18: 0 | H18: 0 | I18: 0 | J18: 164.89988 | K18: 491 | L18: 541.11675 | M18: 575 | N18: 570 | O18: 0 | P18: 0 | Q18: 0 | R18: 0 | S18: 0 | T18: 2342.0166 | U18: 0 | V18: 2342.0166
B19: 18 | C19: Urban Purkat | D19: OZONE DELTA 2 | E19: 0 | F19: 0 | G19: 530.44376 | H19: 346.04905 | I19: 349.89858 | J19: 730.27091 | K19: 0 | L19: 0 | M19: 0 | N19: 0 | O19: 0 | P19: 0 | Q19: 0 | R19: 0 | S19: 0 | T19: 1956.6623 | U19: 0 | V19: 1956.6623
B20: 19 | C20: Roman Lotrič | D20: NOVA TRITON | E20: 0 | F20: 0 | G20: 523.21981 | H20: 786.10354 | I20: 559.83773 | J20: 0 | K20: 0 | L20: 0 | M20: 0 | N20: 0 | O20: 0 | P20: 0 | Q20: 0 | R20: 0 | S20: 0 | T20: 1869.1611 | U20: 0 | V20: 1869.1611
B21: 20 | C21: Aleš Žumer | D21: OZONE DELTA 2 | E21: 0 | F21: 0 | G21: 552.11558 | H21: 343.32425 | I21: 704.86815 | J21: 0 | K21: 0 | L21: 0 | M21: 0 | N21: 0 | O21: 0 | P21: 0 | Q21: 0 | R21: 0 | S21: 0 | T21: 1600.308 | U21: 0 | V21: 1600.308
B22: 21 | C22: Žan Fridau | D22: TRIPLE SEVEN GLIDERS ROOK | E22: 0 | F22: 0 | G22: 0 | H22: 0 | I22: 0 | J22: 552.41461 | K22: 92 | L22: 189.84772 | M22: 141 | N22: 137 | O22: 0 | P22: 0 | Q22: 0 | R22: 0 | S22: 0 | T22: 1112.2623 | U22: 0 | V22: 1112.2623
B23: 22 | C23: Rok Lotrič | D23: TRIPLE SEVEN GLIDERS ROOK | E23: 0 | F23: 0 | G23: 216.71827 | H23: 341.96185 | I23: 500 | J23: 0 | K23: 0 | L23: 0 | M23: 0 | N23: 0 | O23: 0 | P23: 0 | Q23: 0 | R23: 0 | S23: 0 | T23: 1058.6801 | U23: 0 | V23: 1058.6801
B24: 23 | C24: Špela Šterk | D24: NOVA MENTOR 2 | E24: 0 | F24: 0 | G24: 0 | H24: 0 | I24: 0 | J24: 0 | K24: 0 | L24: 0 | M24: 0 | N24: 0 | O24: 0 | P24: 0 | Q24: 380.2589 | R24: 188.19939 | S24: 279.95972 | T24: 848.41801 | U24: 0 | V24: 848.41801
B25: 24 | C25: Tomaž Veber | D25: NOVA FACTOR 2 | E25: 0 | F25: 0 | G25: 59.855521 | H25: 295.64033 | I25: 292.08925 | J25: 0 | K25: 0 | L25: 0 | M25: 0 | N25: 0 | O25: 0 | P25: 0 | Q25: 0 | R25: 0 | S25: 0 | T25: 647.5851 | U25: 0 | V25: 647.5851
B26: 25 | C26: Peter Frelih | D26: NOVA FACTOR 2 | E26: 0 | F26: 0 | G26: 198.14241 | H26: 341.96185 | I26: 0 | J26: 0 | K26: 0 | L26: 0 | M26: 0 | N26: 0 | O26: 0 | P26: 0 | Q26: 0 | R26: 0 | S26: 0 | T26: 540.10427 | U26: 0 | V26: 540.10427
B27: 26 | C27: Aljaž Sajovic | D27: MAC-PARA EDEN 5 | E27: 0 | F27: 0 | G27: 59.855521 | H27: 292.91553 | I27: 59.837728 | J27: 0 | K27: 0 | L27: 0 | M27: 0 | N27: 0 | O27: 0 | P27: 0 | Q27: 0 | R27: 0 | S27: 0 | T27: 412.60878 | U27: 0 | V27: 412.60878
B28: 27 | C28: Matic Egart | D28: MAC-PARA EDEN 5 | E28: 0 | F28: 0 | G28: 0 | H28: 361.03542 | I28: 0 | J28: 0 | K28: 0 | L28: 0 | M28: 0 | N28: 0 | O28: 0 | P28: 0 | Q28: 0 | R28: 0 | S28: 0 | T28: 361.03542 | U28: 0 | V28: 361.03542
B29: 28 | C29: Nikolaj Činku | D29: MAC-PARA MARVEL | E29: 0 | F29: 0 | G29: 0 | H29: 196.18529 | I29: 120.68966 | J29: 0 | K29: 0 | L29: 0 | M29: 0 | N29: 0 | O29: 0 | P29: 0 | Q29: 0 | R29: 0 | S29: 0 | T29: 316.87494 | U29: 0 | V29: 316.87494

Sheet Skupno-FUN
D1: Rezultati slovenske lige v preletih z jadralnimi padali FUN CLASS | R1: Sezona 2013
B2: Mesto | C2: Name | D2: Glider | E2: T 1 | F2: T 2 | G2: T 3 | H2: T 4 | I2: T 5 | J2: T 6 | K2: T 7 | L2: T 8 | M2: T 9 | N2: T 10 | O2: T 11 | P2: T 12 | Q2: T 13 | R2: T 14 | S2: T 15 | T2: SUM | U2: - | V2: Skupno
B3: 1 | C3: Simon Konavec | D3: Nova Mentor 3 | E3: =IFERROR(VLOOKUP(Tabela225[[#This Row],[Name]],#REF!,7,FALSE),"0") -> 0 | F3: =IFERROR(VLOOKUP(Tabela225[[#This Row],[Name]],#REF!,9,FALSE),"0") -> 0 | G3: =IFERROR(VLOOKUP(Tabela225[[#This Row],[Name]],#REF!,7,FALSE),"0") -> 0 | H3: =IFERROR(VLOOKUP(Tabela225[[#This Row],[Name]],#REF!,9,FALSE),"0") -> 0 | I3: =IFERROR(VLOOKUP(Tabela225[[#This Row],[Name]],#REF!,11,FALSE),"0") -> 0 | J3: =IFERROR(VLOOKUP(Tabela225[[#This Row],[Name]],DP!$C$15:$N$59,7,FALSE),"0") -> 930.50648 | K3: =IFERROR(VLOOKUP(Tabela225[[#This Row],[Name]],DP!$C$15:$N$59,8,FALSE),"0") -> 701 | L3: =IFERROR(VLOOKUP(Tabela225[[#This Row],[Name]],DP!$C$15:$N$59,10,FALSE),"0") -> 561.42132 | M3: =IFERROR(VLOOKUP(Tabela225[[#This Row],[Name]],DP!$C$15:$N$59,11,FALSE),"0") -> 706 | N3: =IFERROR(VLOOKUP(Tabela225[[#This Row],[Name]],DP!$C$15:$N$59,12,FALSE),"0") -> 712 | O3: 0 | P3: 0 | Q3: =IFERROR(VLOOKUP(Tabela225[[#This Row],[Name]],#REF!,6,FALSE),"0") -> 0 | R3: =IFERROR(VLOOKUP(Tabela225[[#This Row],[Name]],#REF!,8,FALSE),"0") -> 0 | S3: =IFERROR(VLOOKUP(Tabela225[[#This Row],[Name]],#REF!,10,FALSE),"0") -> 0 | T3: =SUM(E3:S3) -> 3610.9278 | U3: 0 | V3: =T3-U3 -> 3610.9278
B4: 2 | C4: Dušan Durkovič | D4: NOVA MENTOR 3 | E4: =IFERROR(VLOOKUP(Tabela225[[#This Row],[Name]],#REF!,7,FALSE),"0") -> 0 | F4: =IFERROR(VLOOKUP(Tabela225[[#This Row],[Name]],#REF!,9,FALSE),"0") -> 0 | G4: =IFERROR(VLOOKUP(Tabela225[[#This Row],[Name]],#REF!,7,FALSE),"0") -> 0 | H4: =IFERROR(VLOOKUP(Tabela225[[#This Row],[Name]],#REF!,9,FALSE),"0") -> 0 | I4: =IFERROR(VLOOKUP(Tabela225[[#This Row],[Name]],#REF!,11,FALSE),"0") -> 0 | J4: =IFERROR(VLOOKUP(Tabela225[[#This Row],[Name]],DP!$C$15:$N$59,7,FALSE),"0") -> 921.08363 | K4: =IFERROR(VLOOKUP(Tabela225[[#This Row],[Name]],DP!$C$15:$N$59,8,FALSE),"0") -> 898 | L4: =IFERROR(VLOOKUP(Tabela225[[#This Row],[Name]],DP!$C$15:$N$59,10,FALSE),"0") -> 674.11168 | M4: =IFERROR(VLOOKUP(Tabela225[[#This Row],[Name]],DP!$C$15:$N$59,11,FALSE),"0") -> 707 | N4: =IFERROR(VLOOKUP(Tabela225[[#This Row],[Name]],DP!$C$15:$N$59,12,FALSE),"0") -> 710 | O4: 0 | P4: 0 | Q4: =IFERROR(VLOOKUP(Tabela225[[#This Row],[Name]],#REF!,6,FALSE),"0") -> 0 | R4: =IFERROR(VLOOKUP(Tabela225[[#This Row],[Name]],#REF!,8,FALSE),"0") -> 0 | S4: =IFERROR(VLOOKUP(Tabela225[[#This Row],[Name]],#REF!,10,FALSE),"0") -> 0 | T4: =SUM(E4:S4) -> 3910.1953 | U4: 0 | V4: =T4-U4 -> 3910.1953
B5: 3 | C5: Peter Kocjan | D5: NIVIUK HOOK 3 | E5: =IFERROR(VLOOKUP(Tabela225[[#This Row],[Name]],#REF!,7,FALSE),"0") -> 0 | F5: =IFERROR(VLOOKUP(Tabela225[[#This Row],[Name]],#REF!,9,FALSE),"0") -> 0 | G5: =IFERROR(VLOOKUP(Tabela225[[#This Row],[Name]],#REF!,7,FALSE),"0") -> 0 | H5: =IFERROR(VLOOKUP(Tabela225[[#This Row],[Name]],#REF!,9,FALSE),"0") -> 0 | I5: =IFERROR(VLOOKUP(Tabela225[[#This Row],[Name]],#REF!,11,FALSE),"0") -> 0 | J5: =IFERROR(VLOOKUP(Tabela225[[#This Row],[Name]],DP!$C$15:$N$59,7,FALSE),"0") -> 408.71614 | K5: =IFERROR(VLOOKUP(Tabela225[[#This Row],[Name]],DP!$C$15:$N$59,8,FALSE),"0") -> 216 | L5: =IFERROR(VLOOKUP(Tabela225[[#This Row],[Name]],DP!$C$15:$N$59,10,FALSE),"0") -> 350.25381 | M5: =IFERROR(VLOOKUP(Tabela225[[#This Row],[Name]],DP!$C$15:$N$59,11,FALSE),"0") -> 127 | N5: =IFERROR(VLOOKUP(Tabela225[[#This Row],[Name]],DP!$C$15:$N$59,12,FALSE),"0") -> 421 | O5: 0 | P5: 0 | Q5: =IFERROR(VLOOKUP(Tabela225[[#This Row],[Name]],#REF!,6,FALSE),"0") -> 0 | R5: =IFERROR(VLOOKUP(Tabela225[[#This Row],[Name]],#REF!,8,FALSE),"0") -> 0 | S5: =IFERROR(VLOOKUP(Tabela225[[#This Row],[Name]],#REF!,10,FALSE),"0") -> 0 | T5: =SUM(E5:S5) -> 1522.9699 | U5: 0 | V5: =T5-U5 -> 1522.9699
B6: 4 | C6: Žan Fridau | D6: TRIPLE SEVEN GLIDERS ROOK | E6: =IFERROR(VLOOKUP(Tabela225[[#This Row],[Name]],#REF!,7,FALSE),"0") -> 0 | F6: =IFERROR(VLOOKUP(Tabela225[[#This Row],[Name]],#REF!,9,FALSE),"0") -> 0 | G6: =IFERROR(VLOOKUP(Tabela225[[#This Row],[Name]],#REF!,7,FALSE),"0") -> 0 | H6: =IFERROR(VLOOKUP(Tabela225[[#This Row],[Name]],#REF!,9,FALSE),"0") -> 0 | I6: =IFERROR(VLOOKUP(Tabela225[[#This Row],[Name]],#REF!,11,FALSE),"0") -> 0 | J6: =IFERROR(VLOOKUP(Tabela225[[#This Row],[Name]],DP!$C$15:$N$59,7,FALSE),"0") -> 552.41461 | K6: =IFERROR(VLOOKUP(Tabela225[[#This Row],[Name]],DP!$C$15:$N$59,8,FALSE),"0") -> 92 | L6: =IFERROR(VLOOKUP(Tabela225[[#This Row],[Name]],DP!$C$15:$N$59,10,FALSE),"0") -> 189.84772 | M6: =IFERROR(VLOOKUP(Tabela225[[#This Row],[Name]],DP!$C$15:$N$59,11,FALSE),"0") -> 141 | N6: =IFERROR(VLOOKUP(Tabela225[[#This Row],[Name]],DP!$C$15:$N$59,12,FALSE),"0") -> 137 | O6: 0 | P6: 0 | Q6: =IFERROR(VLOOKUP(Tabela225[[#This Row],[Name]],#REF!,6,FALSE),"0") -> 0 | R6: =IFERROR(VLOOKUP(Tabela225[[#This Row],[Name]],#REF!,8,FALSE),"0") -> 0 | S6: =IFERROR(VLOOKUP(Tabela225[[#This Row],[Name]],#REF!,10,FALSE),"0") -> 0 | T6: =SUM(E6:S6) -> 1112.2623 | U6: 0 | V6: =T6-U6 -> 1112.2623
B7: 5 | C7: Rok Lotrič | D7: TRIPLE SEVEN GLIDERS ROOK | E7: =IFERROR(VLOOKUP(Tabela225[[#This Row],[Name]],#REF!,7,FALSE),"0") -> 0 | F7: =IFERROR(VLOOKUP(Tabela225[[#This Row],[Name]],#REF!,9,FALSE),"0") -> 0 | G7: =IFERROR(VLOOKUP(Tabela225[[#This Row],[Name]],#REF!,7,FALSE),"0") -> 0 | H7: =IFERROR(VLOOKUP(Tabela225[[#This Row],[Name]],#REF!,9,FALSE),"0") -> 0 | I7: =IFERROR(VLOOKUP(Tabela225[[#This Row],[Name]],#REF!,11,FALSE),"0") -> 0 | J7: =IFERROR(VLOOKUP(Tabela225[[#This Row],[Name]],DP!$C$15:$N$59,7,FALSE),"0") -> 0 | K7: =IFERROR(VLOOKUP(Tabela225[[#This Row],[Name]],DP!$C$15:$N$59,8,FALSE),"0") -> 0 | L7: =IFERROR(VLOOKUP(Tabela225[[#This Row],[Name]],DP!$C$15:$N$59,10,FALSE),"0") -> 0 | M7: =IFERROR(VLOOKUP(Tabela225[[#This Row],[Name]],DP!$C$15:$N$59,11,FALSE),"0") -> 0 | N7: =IFERROR(VLOOKUP(Tabela225[[#This Row],[Name]],DP!$C$15:$N$59,12,FALSE),"0") -> 0 | O7: 0 | P7: 0 | Q7: =IFERROR(VLOOKUP(Tabela225[[#This Row],[Name]],#REF!,6,FALSE),"0") -> 0 | R7: =IFERROR(VLOOKUP(Tabela225[[#This Row],[Name]],#REF!,8,FALSE),"0") -> 0 | S7: =IFERROR(VLOOKUP(Tabela225[[#This Row],[Name]],#REF!,10,FALSE),"0") -> 0 | T7: =SUM(E7:S7) -> 0 | U7: 0 | V7: =T7-U7 -> 0
B8: 6 | C8: Špela Šterk | D8: NOVA MENTOR 2 | E8: =IFERROR(VLOOKUP(Tabela225[[#This Row],[Name]],#REF!,7,FALSE),"0") -> 0 | F8: =IFERROR(VLOOKUP(Tabela225[[#This Row],[Name]],#REF!,9,FALSE),"0") -> 0 | G8: =IFERROR(VLOOKUP(Tabela225[[#This Row],[Name]],#REF!,7,FALSE),"0") -> 0 | H8: =IFERROR(VLOOKUP(Tabela225[[#This Row],[Name]],#REF!,9,FALSE),"0") -> 0 | I8: =IFERROR(VLOOKUP(Tabela225[[#This Row],[Name]],#REF!,11,FALSE),"0") -> 0 | J8: =IFERROR(VLOOKUP(Tabela225[[#This Row],[Name]],DP!$C$15:$N$59,7,FALSE),"0") -> 0 | K8: =IFERROR(VLOOKUP(Tabela225[[#This Row],[Name]],DP!$C$15:$N$59,8,FALSE),"0") -> 0 | L8: =IFERROR(VLOOKUP(Tabela225[[#This Row],[Name]],DP!$C$15:$N$59,10,FALSE),"0") -> 0 | M8: =IFERROR(VLOOKUP(Tabela225[[#This Row],[Name]],DP!$C$15:$N$59,11,FALSE),"0") -> 0 | N8: =IFERROR(VLOOKUP(Tabela225[[#This Row],[Name]],DP!$C$15:$N$59,12,FALSE),"0") -> 0 | O8: 0 | P8: 0 | Q8: =IFERROR(VLOOKUP(Tabela225[[#This Row],[Name]],#REF!,6,FALSE),"0") -> 0 | R8: =IFERROR(VLOOKUP(Tabela225[[#This Row],[Name]],#REF!,8,FALSE),"0") -> 0 | S8: =IFERROR(VLOOKUP(Tabela225[[#This Row],[Name]],#REF!,10,FALSE),"0") -> 0 | T8: =SUM(E8:S8) -> 0 | U8: 0 | V8: =T8-U8 -> 0
B9: 7 | C9: Aljaž Sajovic | D9: MAC-PARA EDEN 5 | E9: =IFERROR(VLOOKUP(Tabela225[[#This Row],[Name]],#REF!,7,FALSE),"0") -> 0 | F9: =IFERROR(VLOOKUP(Tabela225[[#This Row],[Name]],#REF!,9,FALSE),"0") -> 0 | G9: =IFERROR(VLOOKUP(Tabela225[[#This Row],[Name]],#REF!,7,FALSE),"0") -> 0 | H9: =IFERROR(VLOOKUP(Tabela225[[#This Row],[Name]],#REF!,9,FALSE),"0") -> 0 | I9: =IFERROR(VLOOKUP(Tabela225[[#This Row],[Name]],#REF!,11,FALSE),"0") -> 0 | J9: =IFERROR(VLOOKUP(Tabela225[[#This Row],[Name]],DP!$C$15:$N$59,7,FALSE),"0") -> 0 | K9: =IFERROR(VLOOKUP(Tabela225[[#This Row],[Name]],DP!$C$15:$N$59,8,FALSE),"0") -> 0 | L9: =IFERROR(VLOOKUP(Tabela225[[#This Row],[Name]],DP!$C$15:$N$59,10,FALSE),"0") -> 0 | M9: =IFERROR(VLOOKUP(Tabela225[[#This Row],[Name]],DP!$C$15:$N$59,11,FALSE),"0") -> 0 | N9: =IFERROR(VLOOKUP(Tabela225[[#This Row],[Name]],DP!$C$15:$N$59,12,FALSE),"0") -> 0 | O9: 0 | P9: 0 | Q9: =IFERROR(VLOOKUP(Tabela225[[#This Row],[Name]],#REF!,6,FALSE),"0") -> 0 | R9: =IFERROR(VLOOKUP(Tabela225[[#This Row],[Name]],#REF!,8,FALSE),"0") -> 0 | S9: =IFERROR(VLOOKUP(Tabela225[[#This Row],[Name]],#REF!,10,FALSE),"0") -> 0 | T9: =SUM(E9:S9) -> 0 | U9: 0 | V9: =T9-U9 -> 0
B10: 8 | C10: Matic Egart | D10: MAC-PARA EDEN 5 | E10: =IFERROR(VLOOKUP(Tabela225[[#This Row],[Name]],#REF!,7,FALSE),"0") -> 0 | F10: =IFERROR(VLOOKUP(Tabela225[[#This Row],[Name]],#REF!,9,FALSE),"0") -> 0 | G10: =IFERROR(VLOOKUP(Tabela225[[#This Row],[Name]],#REF!,7,FALSE),"0") -> 0 | H10: =IFERROR(VLOOKUP(Tabela225[[#This Row],[Name]],#REF!,9,FALSE),"0") -> 0 | I10: =IFERROR(VLOOKUP(Tabela225[[#This Row],[Name]],#REF!,11,FALSE),"0") -> 0 | J10: =IFERROR(VLOOKUP(Tabela225[[#This Row],[Name]],DP!$C$15:$N$59,7,FALSE),"0") -> 0 | K10: =IFERROR(VLOOKUP(Tabela225[[#This Row],[Name]],DP!$C$15:$N$59,8,FALSE),"0") -> 0 | L10: =IFERROR(VLOOKUP(Tabela225[[#This Row],[Name]],DP!$C$15:$N$59,10,FALSE),"0") -> 0 | M10: =IFERROR(VLOOKUP(Tabela225[[#This Row],[Name]],DP!$C$15:$N$59,11,FALSE),"0") -> 0 | N10: =IFERROR(VLOOKUP(Tabela225[[#This Row],[Name]],DP!$C$15:$N$59,12,FALSE),"0") -> 0 | O10: 0 | P10: 0 | Q10: =IFERROR(VLOOKUP(Tabela225[[#This Row],[Name]],#REF!,6,FALSE),"0") -> 0 | R10: =IFERROR(VLOOKUP(Tabela225[[#This Row],[Name]],#REF!,8,FALSE),"0") -> 0 | S10: =IFERROR(VLOOKUP(Tabela225[[#This Row],[Name]],#REF!,10,FALSE),"0") -> 0 | T10: =SUM(E10:S10) -> 0 | U10: 0 | V10: =T10-U10 -> 0

Sheet PWC
A1: Report created: 2014-03-30T18:54:19+02:00
A3: PARAGLIDING WINTER CUP 2014
A5: 2014-03-26 to 2014-03-30
A7: Overall
A9: Total results
A11: Provisional
A13: Task | B13: Date | C13: Distance
A14: T1 TASK 1 | B14: 2014-03-28 12:00 | C14: 55,1 km | D14: Race to Goal with 1 startgate(s)
A15: T2 TASK 2 | B15: 2014-03-29 12:25 | C15: 99,8 km | D15: Race to Goal with 1 startgate(s)
A16: T3 Task 3 | B16: 2014-03-30 12:45 | C16: 66,8 km | D16: Race to Goal with 1 startgate(s)
A18: # | B18: Id | C18: Name | D18: Klub | E18: Nat | F18: Glider | G18: Sponsor | H18: T 1 | I18: T1 NOR | J18: T 2 | K18: T2 NOR | L18: T 3 | M18: T3 NOR | N18: Total | Q18: Mesto | R18: Klub | S18: T1 | T18: T2 | U18: T3 | V18: Skupno
A19: 1 | B19: 148 | C19: Dušan Orož | D19: DJP Kajuh | E19: SLO | F19: OZONE EN2O | H19: 52 | I19: =(H19*500)/54 -> 481.48148 | J19: 945 | K19: =(J19*1000)/957 -> 987.46082 | L19: 900 | M19: =L19*1000/997 -> 902.70812 | N19: 1897 | Q19: 1 | R19: DJP Kajuh | S19: {=SUM(LARGE(IF(Klub=$R19,T1_NOR,""),{1;2;3}))} -> 481.48148 | T19: {=SUM(LARGE(IF(Klub=$R19,T2_NOR,""),{1;2;3}))} -> 987.46082 | U19: {=SUM(LARGE(IF(Klub=$R19,T3_NOR,""),{1;2;3}))} -> 902.70812 | V19: =SUM(S19:U19) -> 2371.6504
A20: 2 | B20: 217 | C20: Bojan Gaberšek | D20: KL Vrhnika | E20: SLO | F20: NIVIUK ICEPEAK 6 | H20: 50 | I20: =(H20*500)/54 -> 462.96296 | J20: 945 | K20: =(J20*1000)/957 -> 987.46082 | L20: 891 | M20: =L20*1000/997 -> 893.68104 | N20: 1886 | Q20: 2 | R20: KL Vrhnika | S20: {=SUM(LARGE(IF(Klub=$R20,T1_NOR,""),{1;2;3}))} -> 1407.4074 | T20: {=SUM(LARGE(IF(Klub=$R20,T2_NOR,""),{1;2;3}))} -> 2410.6583 | U20: {=SUM(LARGE(IF(Klub=$R20,T3_NOR,""),{1;2;3}))} -> 2816.4493 | V20: =SUM(S20:U20) -> 6634.5151
A21: 3 | B21: 378 | C21: Jože Molek | D21: DJP Cumulus | E21: SLO | F21: OZONE ENZO2 | H21: 40 | I21: =(H21*500)/54 -> 370.37037 | J21: 957 | K21: =(J21*1000)/957 -> 1000 | L21: 756 | M21: =L21*1000/997 -> 758.27482 | N21: 1753 | Q21: 3 | R21: DJP Cumulus | S21: {=SUM(LARGE(IF(Klub=$R21,T1_NOR,""),{1;2;3}))} -> 370.37037 | T21: {=SUM(LARGE(IF(Klub=$R21,T2_NOR,""),{1;2;3}))} -> 1469.1745 | U21: {=SUM(LARGE(IF(Klub=$R21,T3_NOR,""),{1;2;3}))} -> 1276.8305 | V21: =SUM(S21:U21) -> 3116.3754
A22: 4 | B22: 230973 | C22: Tilen Ceglar | D22: DJP Metulj | E22: SLO | F22: Ozone Enzo 2 | H22: 51 | I22: =(H22*500)/54 -> 472.22222 | J22: 710 | K22: =(J22*1000)/957 -> 741.90178 | L22: 959 | M22: =L22*1000/997 -> 961.88566 | N22: 1720 | Q22: 4 | R22: DJP Metulj | S22: {=SUM(LARGE(IF(Klub=$R22,T1_NOR,""),{1;2;3}))} -> 1305.5556 | T22: {=SUM(LARGE(IF(Klub=$R22,T2_NOR,""),{1;2;3}))} -> 2161.9645 | U22: {=SUM(LARGE(IF(Klub=$R22,T3_NOR,""),{1;2;3}))} -> 1989.9699 | V22: =SUM(S22:U22) -> 5457.4899
A23: 5 | B23: 17 | C23: Jurij Vidic | D23: KL Vrhnika | E23: SVN | F23: OZONE ENZO | G23: Agring | H23: 51 | I23: =(H23*500)/54 -> 472.22222 | J23: 671 | K23: =(J23*1000)/957 -> 701.14943 | L23: 997 | M23: =L23*1000/997 -> 1000 | N23: 1719 | Q23: 5 | R23: DJP Kovk | S23: {=SUM(LARGE(IF(Klub=$R23,T1_NOR,""),{1;2;3}))} -> 935.18519 | T23: {=SUM(LARGE(IF(Klub=$R23,T2_NOR,""),{1;2;3}))} -> 1810.8673 | U23: {=SUM(LARGE(IF(Klub=$R23,T3_NOR,""),{1;2;3}))} -> 1770.3109 | V23: =SUM(S23:U23) -> 4516.3634
A24: 6 | B24: 214 | C24: Aljaž Valič | D24: DJP Kovk | E24: SLO | F24: TRIPLE SEVEN GLIDERS QUEEN | G24: TripleSeven Gliders | H24: 40 | I24: =(H24*500)/54 -> 370.37037 | J24: 697 | K24: =(J24*1000)/957 -> 728.31766 | L24: 855 | M24: =L24*1000/997 -> 857.57272 | N24: 1592 | Q24: 6 | R24: KJP Krokar | S24: {=SUM(LARGE(IF(Klub=$R24,T1_NOR,""),{1;2;3}))} -> 1277.7778 | T24: {=SUM(LARGE(IF(Klub=$R24,T2_NOR,""),{1;2;3}))} -> 2179.7283 | U24: {=SUM(LARGE(IF(Klub=$R24,T3_NOR,""),{1;2;3}))} -> 1802.4072 | V24: =SUM(S24:U24) -> 5259.9133
A25: 7 | B25: 7 | C25: Dušan Durkovič | D25: DJP Metulj | E25: SLO | F25: NOVA TRITON | H25: 50 | I25: =(H25*500)/54 -> 462.96296 | J25: 727 | K25: =(J25*1000)/957 -> 759.66562 | L25: 732 | M25: =L25*1000/997 -> 734.20261 | N25: 1509 | Q25: 7 | R25: Lintvar | S25: {=SUM(LARGE(IF(Klub=$R25,T1_NOR,""),{1;2;3}))} -> 1250 | T25: {=SUM(LARGE(IF(Klub=$R25,T2_NOR,""),{1;2;3}))} -> 1471.2644 | U25: {=SUM(LARGE(IF(Klub=$R25,T3_NOR,""),{1;2;3}))} -> 1772.317 | V25: =SUM(S25:U25) -> 4493.5813
A26: 8 | B26: 5 | C26: Tomaž Eržen | D26: KJP Krokar | E26: SLO | F26: OZONE ENZO | G26: www.GearForFly.com, www.pronet-kr.si | H26: 54 | I26: =(H26*500)/54 -> 500 | J26: 739 | K26: =(J26*1000)/957 -> 772.20481 | L26: 679 | M26: =L26*1000/997 -> 681.04313 | N26: 1472 | Q26: 8 | R26: Polet Kamnik | S26: {=SUM(LARGE(IF(Klub=$R26,T1_NOR,""),{1;2;3}))} -> 555.55556 | T26: {=SUM(LARGE(IF(Klub=$R26,T2_NOR,""),{1;2;3}))} -> 518.28631 | U26: {=SUM(LARGE(IF(Klub=$R26,T3_NOR,""),{1;2;3}))} -> 476.42929 | V26: =SUM(S26:U26) -> 1550.2712
A27: 9 | B27: 6 | C27: Anže Pristov | D27: Lintvar | E27: SVN | F27: NIVIUK ICEPEAK 6 | G27: be-xtreme.eu | H27: 51 | I27: =(H27*500)/54 -> 472.22222 | J27: 671 | K27: =(J27*1000)/957 -> 701.14943 | L27: 692 | M27: =L27*1000/997 -> 694.08225 | N27: 1414 | Q27: 9 | R27: DJP Parakrilec | S27: {=SUM(LARGE(IF(Klub=$R27,T1_NOR,""),{1;2;3}))} -> 277.77778 | T27: {=SUM(LARGE(IF(Klub=$R27,T2_NOR,""),{1;2;3}))} -> 321.83908 | U27: {=SUM(LARGE(IF(Klub=$R27,T3_NOR,""),{1;2;3}))} -> 440.32096 | V27: =SUM(S27:U27) -> 1039.9378
A28: 10 | B28: 90 | C28: Marko Novak | D28: KL Vrhnika | E28: SLO | F28: OZONE ENZO | G28: nowa d.o.o. | H28: 30 | I28: =(H28*500)/54 -> 277.77778 | J28: 691 | K28: =(J28*1000)/957 -> 722.04807 | L28: 692 | M28: =L28*1000/997 -> 694.08225 | N28: 1413 | Q28: 10 | R28: Adrenalin | S28: {=SUM(LARGE(IF(Klub=$R28,T1_NOR,""),{1;2;3}))} -> 555.55556 | T28: {=SUM(LARGE(IF(Klub=$R28,T2_NOR,""),{1;2;3}))} -> 655.17241 | U28: {=SUM(LARGE(IF(Klub=$R28,T3_NOR,""),{1;2;3}))} -> 628.88666 | V28: =SUM(S28:U28) -> 1839.6146
A29: 11 | B29: 29 | C29: Primož Suša | D29: KL Vrhnika | E29: SLO | F29: OZONE ENZO | G29: camp-gabrje.com | H29: 51 | I29: =(H29*500)/54 -> 472.22222 | J29: 430 | K29: =(J29*1000)/957 -> 449.32079 | L29: 920 | M29: =L29*1000/997 -> 922.7683 | N29: 1401 | Q29: 11 | R29: DPL Ikar SG | S29: {=SUM(LARGE(IF(Klub=$R29,T1_NOR,""),{1;2;3}))} -> #NUM! | T29: {=SUM(LARGE(IF(Klub=$R29,T2_NOR,""),{1;2;3}))} -> #NUM! | U29: {=SUM(LARGE(IF(Klub=$R29,T3_NOR,""),{1;2;3}))} -> #NUM! | V29: =SUM(S29:U29) -> #NUM!
A30: 12 | B30: 549 | C30: Miha Kavčič | D30: KJP Krokar | E30: SLO | F30: NIVIUK ICEPEAK 6 | G30: Moj Tošl | H30: 43 | I30: =(H30*500)/54 -> 398.14815 | J30: 752 | K30: =(J30*1000)/957 -> 785.78892 | L30: 531 | M30: =L30*1000/997 -> 532.59779 | N30: 1326 | Q30: 12 | R30: DPL Posočje | S30: {=SUM(LARGE(IF(Klub=$R30,T1_NOR,""),{1;2;3}))} -> 277.77778 | T30: {=SUM(LARGE(IF(Klub=$R30,T2_NOR,""),{1;2;3}))} -> 449.32079 | U30: {=SUM(LARGE(IF(Klub=$R30,T3_NOR,""),{1;2;3}))} -> 152.45737 | V30: =SUM(S30:U30) -> 879.55594
A31: 13 | B31: 81 | C31: Klemen Peljhan | D31: KJP Krokar | E31: SLO | F31: MACPARA MARVEL | G31: Bowling City | H31: 41 | I31: =(H31*500)/54 -> 379.62963 | J31: 595 | K31: =(J31*1000)/957 -> 621.73459 | L31: 587 | M31: =L31*1000/997 -> 588.7663 | N31: 1223 | Q31: 13 | R31: Albatros Celje | S31: {=SUM(LARGE(IF(Klub=$R31,T1_NOR,""),{1;2;3}))} -> 277.77778 | T31: {=SUM(LARGE(IF(Klub=$R31,T2_NOR,""),{1;2;3}))} -> 197.49216 | U31: {=SUM(LARGE(IF(Klub=$R31,T3_NOR,""),{1;2;3}))} -> 125.37613 | V31: =SUM(S31:U31) -> 600.64607
A32: 14 | B32: 1719 | C32: Boštjan Poročnik | D32: KL Vrhnika | E32: SLO | F32: OZONE MANTRA 6 | G32: Lajka d.o.o. | H32: 47 | I32: =(H32*500)/54 -> 435.18519 | J32: 321 | K32: =(J32*1000)/957 -> 335.4232 | L32: 741 | M32: =L32*1000/997 -> 743.22969 | N32: 1109
A33: 15 | B33: 568 | C33: Tomaž Toplak | D33: KL Vrhnika | E33: SLO | F33: NIVIUK IC6 | G33: ardi INT d.o.o. | H33: 30 | I33: =(H33*500)/54 -> 277.77778 | J33: 425 | K33: =(J33*1000)/957 -> 444.09613 | L33: 599 | M33: =L33*1000/997 -> 600.80241 | N33: 1054
A34: 16 | B34: 73 | C34: Damjan Čretnik | D34: Lintvar | E34: SVN | F34: NIVIUK ICEPEAK 7 | G34: www.jadralno-padalstvo.si | H34: 54 | I34: =(H34*500)/54 -> 500 | J34: 305 | K34: =(J34*1000)/957 -> 318.70428 | L34: 638 | M34: =L34*1000/997 -> 639.91976 | N34: 997
A35: 17 | B35: 27 | C35: Rok Golob | D35: DJP Cumulus | E35: SLO | F35: OZONE MANTRA 6 | G35: Krka d.d. | I35: =(H35*500)/54 -> 0 | J35: 449 | K35: =(J35*1000)/957 -> 469.1745 | L35: 517 | M35: =L35*1000/997 -> 518.55567 | N35: 966
A36: 18 | B36: 523 | C36: Jošt Napret | D36: DJP Metulj | E36: SLO | F36: OZONE ENZO2 | G36: www.naviter.com | H36: 40 | I36: =(H36*500)/54 -> 370.37037 | J36: 632 | K36: =(J36*1000)/957 -> 660.39707 | L36: 293 | M36: =L36*1000/997 -> 293.88164 | N36: 965
A37: 19 | B37: 8790 | C37: Luka Slak | D37: Polet Kamnik | E37: SLO | F37: OZONE MANTRA M6 | H37: 30 | I37: =(H37*500)/54 -> 277.77778 | J37: 427 | K37: =(J37*1000)/957 -> 446.186 | L37: 475 | M37: =L37*1000/997 -> 476.42929 | N37: 932
A38: 20 | B38: 748 | C38: Stojan Kranjc | D38: DJP Kovk | E38: SLO | F38: TRIPLE SEVEN GLIDERS QUEEN | H38: 30 | I38: =(H38*500)/54 -> 277.77778 | J38: 422 | K38: =(J38*1000)/957 -> 440.96134 | L38: 471 | M38: =L38*1000/997 -> 472.41725 | N38: 923
A39: 21 | B39: 414 | C39: Urban Valič | D39: DJP Kovk | E39: SLO | F39: TRIPLE SEVEN GLIDERS QUEEN | G39: Triple Seven Gliders | H39: 0 | I39: =(H39*500)/54 -> 0 | J39: 614 | K39: =(J39*1000)/957 -> 641.5883 | L39: 292 | M39: =L39*1000/997 -> 292.87864 | N39: 906
A40: 22 | B40: 36030 | C40: Mitja Jug | D40: KL Vrhnika | E40: SLO | F40: GIN-GLIDERS CARRERA | G40: Guštanj d.o.o. | H40: 30 | I40: =(H40*500)/54 -> 277.77778 | J40: 373 | K40: =(J40*1000)/957 -> 389.75967 | L40: 454 | M40: =L40*1000/997 -> 455.3661 | N40: 857
A41: 23 | B41: 230975 | C41: Boštjan Svetlin | D41: KJP Krokar | E41: SLO | F41: TRIPLE SEVEN GLIDERS QUEEN | I41: =(H41*500)/54 -> 0 | J41: 424 | K41: =(J41*1000)/957 -> 443.0512 | L41: 430 | M41: =L41*1000/997 -> 431.29388 | N41: 854
A42: 24 | B42: 126 | C42: Miha Slamič | D42: DJP Kovk | E42: SLO | F42: TRIPLE SEVEN GLIDERS QUEEN | G42: Triple Seven Gliders; Polet Nova Gorica | H42: 31 | I42: =(H42*500)/54 -> 287.03704 | J42: 354 | K42: =(J42*1000)/957 -> 369.90596 | L42: 439 | M42: =L42*1000/997 -> 440.32096 | N42: 824
A43: 25 | B43: 24 | C43: Igor Eržen | D43: KJP Krokar | E43: SLO | F43: MAC-PARA ELAN | G43: Hotel Creina d.o.o., GBD d.d., Balinoa d.o.o. | H43: 41 | I43: =(H43*500)/54 -> 379.62963 | J43: 427 | K43: =(J43*1000)/957 -> 446.186 | L43: 313 | M43: =L43*1000/997 -> 313.94183 | N43: 781
A44: 26 | B44: 321 | C44: Branko Žnuderl | D44: DJP Parakrilec | E44: SLO | F44: OZONE MANTRA M6 | G44: RM PLUS d.o.o. - Podjetje za tržno raziskovanje in | H44: 30 | I44: =(H44*500)/54 -> 277.77778 | J44: 308 | K44: =(J44*1000)/957 -> 321.83908 | L44: 439 | M44: =L44*1000/997 -> 440.32096 | N44: 777
A45: 27 | B45: 911 | C45: Toni Pljakoski | D45: DJP Kovk | E45: SLO | F45: BGD TALA | G45: www.tomatosport.si | H45: 30 | I45: =(H45*500)/54 -> 277.77778 | J45: 278 | K45: =(J45*1000)/957 -> 290.49112 | L45: 429 | M45: =L45*1000/997 -> 430.29087 | N45: 737
A46: 28 | B46: 909 | C46: Mojca Pišek | D46: Lintvar | E46: SLO | F46: BGD TALA | G46: Moj mesar Jože s.p., www.lintvar.si | H46: 30 | I46: =(H46*500)/54 -> 277.77778 | J46: 276 | K46: =(J46*1000)/957 -> 288.40125 | L46: 429 | M46: =L46*1000/997 -> 430.29087 | N46: 735
A47: 29 | B47: 331 | C47: Tomaž Trstenjak | D47: KL Vrhnika | E47: SLO | F47: NIVIUK PEAK | G47: PAMA d.o.o ,T&Tehnik | H47: 30 | I47: =(H47*500)/54 -> 277.77778 | J47: 69 | K47: =(J47*1000)/957 -> 72.100313 | L47: 589 | M47: =L47*1000/997 -> 590.77232 | N47: 688
...

Sheet ParaStajerka
A1: Report created: 2014-05-26T21:10:21+02:00
A3: ParaStajerka
A5: 2014-05-23 to 2014-05-25
A7: ParaStajerka2014
A9: Total results
A11: Provisional
A13: Task | B13: Date | C13: Distance
A14: T1 Stajerka_T1 | B14: 2014-05-25 12:30 | C14: 42,2 km | D14: Race to Goal with 1 startgate(s)
A16: # | B16: Id | C16: Name | D16: Klub | E16: Nat | F16: Glider | G16: Sponsor | H16: T 1 | I16: T1_NOR | J16: Total | Q16: Mesto | R16: Klub | S16: T1 | T16: T2 | U16: T3 | V16: Skupno
A17: 1 | B17: 217 | C17: Bojan Gaberšek | D17: KL Vrhnika | E17: SLO | F17: NIVIUK ICEPEAK 7pro | H17: 538 | I17: =H17*1000/538 -> 1000 | J17: 538 | Q17: 1 | R17: DJP Kajuh | S17: {=SUM(LARGE(IF(Klub=$R17,T1_NOR,""),{1;2;3}))} -> 1745.3532 | T17: {=SUM(LARGE(IF(Klub=$R17,T2_NOR,""),{1;2;3}))} -> 0 | U17: {=SUM(LARGE(IF(Klub=$R17,T3_NOR,""),{1;2;3}))} -> 0 | V17: =SUM(S17:U17) -> 1745.3532
A18: 2 | B18: 1719 | C18: Boštjan Poročnik | D18: KL Vrhnika | E18: SVN | F18: OZONE MANTRA 6 | G18: Lajka d.o.o. | H18: 503 | I18: =H18*1000/538 -> 934.94424 | J18: 503 | Q18: 2 | R18: KL Vrhnika | S18: {=SUM(LARGE(IF(Klub=$R18,T1_NOR,""),{1;2;3}))} -> 2124.5353 | T18: {=SUM(LARGE(IF(Klub=$R18,T2_NOR,""),{1;2;3}))} -> 0 | U18: {=SUM(LARGE(IF(Klub=$R18,T3_NOR,""),{1;2;3}))} -> 0 | V18: =SUM(S18:U18) -> 2124.5353
A19: 3 | B19: 25 | C19: Tilen Ceglar | D19: DJP Metulj | E19: SVN | F19: OZONE ENZO 2 | G19: Naviter | H19: 497 | I19: =H19*1000/538 -> 923.79182 | J19: 497 | Q19: 3 | R19: DJP Cumulus | S19: {=SUM(LARGE(IF(Klub=$R19,T1_NOR,""),{1;2;3}))} -> #NUM! | T19: {=SUM(LARGE(IF(Klub=$R19,T2_NOR,""),{1;2;3}))} -> #NUM! | U19: {=SUM(LARGE(IF(Klub=$R19,T3_NOR,""),{1;2;3}))} -> #NUM! | V19: =SUM(S19:U19) -> #NUM!
A20: 4 | B20: 148 | C20: Dušan Orož | D20: DJP Kajuh | E20: SVN | F20: OZONE EN2O | H20: 482 | I20: =H20*1000/538 -> 895.91078 | J20: 482 | Q20: 4 | R20: DJP Metulj | S20: {=SUM(LARGE(IF(Klub=$R20,T1_NOR,""),{1;2;3}))} -> 923.79182 | T20: {=SUM(LARGE(IF(Klub=$R20,T2_NOR,""),{1;2;3}))} -> 0 | U20: {=SUM(LARGE(IF(Klub=$R20,T3_NOR,""),{1;2;3}))} -> 0 | V20: =SUM(S20:U20) -> 923.79182
A21: 5 | B21: 2780 | C21: Uroš Detiček | D21: DJP Kajuh | E21: SVN | F21: MAC-PARA MAGUS XC2 | H21: 386 | I21: =H21*1000/538 -> 717.47212 | J21: 386 | Q21: 5 | R21: DJP Kovk | S21: {=SUM(LARGE(IF(Klub=$R21,T1_NOR,""),{1;2;3}))} -> #NUM! | T21: {=SUM(LARGE(IF(Klub=$R21,T2_NOR,""),{1;2;3}))} -> #NUM! | U21: {=SUM(LARGE(IF(Klub=$R21,T3_NOR,""),{1;2;3}))} -> #NUM! | V21: =SUM(S21:U21) -> #NUM!
A22: 6 | B22: 81 | C22: Klemen Peljhan | D22: KJP Krokar | E22: SLO | F22: GIN-GLIDERS CARRERA | G22: Bowling City | H22: 385 | I22: =H22*1000/538 -> 715.61338 | J22: 385 | Q22: 6 | R22: KJP Krokar | S22: {=SUM(LARGE(IF(Klub=$R22,T1_NOR,""),{1;2;3}))} -> #NUM! | T22: {=SUM(LARGE(IF(Klub=$R22,T2_NOR,""),{1;2;3}))} -> #NUM! | U22: {=SUM(LARGE(IF(Klub=$R22,T3_NOR,""),{1;2;3}))} -> #NUM! | V22: =SUM(S22:U22) -> #NUM!
A23: 7 | B23: 5 | C23: Tomaž Eržen | D23: KJP Krokar | E23: SVN | F23: OZONE ENZO | G23: www.GearForFly.com, www.pronet-kr.si | H23: 289 | I23: =H23*1000/538 -> 537.17472 | J23: 289 | Q23: 7 | R23: Lintvar | S23: {=SUM(LARGE(IF(Klub=$R23,T1_NOR,""),{1;2;3}))} -> #NUM! | T23: {=SUM(LARGE(IF(Klub=$R23,T2_NOR,""),{1;2;3}))} -> #NUM! | U23: {=SUM(LARGE(IF(Klub=$R23,T3_NOR,""),{1;2;3}))} -> #NUM! | V23: =SUM(S23:U23) -> #NUM!
A24: 9 | B24: 36030 | C24: Mitja Jug | D24: KL Vrhnika | E24: SVN | F24: GIN-GLIDERS CARRERA | G24: Guštanj d.o.o. | H24: 102 | I24: =H24*1000/538 -> 189.59108 | J24: 102 | Q24: 8 | R24: Polet Kamnik | S24: {=SUM(LARGE(IF(Klub=$R24,T1_NOR,""),{1;2;3}))} -> #NUM! | T24: {=SUM(LARGE(IF(Klub=$R24,T2_NOR,""),{1;2;3}))} -> #NUM! | U24: {=SUM(LARGE(IF(Klub=$R24,T3_NOR,""),{1;2;3}))} -> #NUM! | V24: =SUM(S24:U24) -> #NUM!
A25: 10 | B25: 2332 | C25: Domen Jevšenak | D25: DJP Kajuh | E25: SLO | F25: NIVIUK PEAK 2 | H25: 71 | I25: =H25*1000/538 -> 131.97026 | J25: 71 | Q25: 9 | R25: DJP Parakrilec | S25: {=SUM(LARGE(IF(Klub=$R25,T1_NOR,""),{1;2;3}))} -> #NUM! | T25: {=SUM(LARGE(IF(Klub=$R25,T2_NOR,""),{1;2;3}))} -> #NUM! | U25: {=SUM(LARGE(IF(Klub=$R25,T3_NOR,""),{1;2;3}))} -> #NUM! | V25: =SUM(S25:U25) -> #NUM!
D26: DJP Metulj | Q26: 10 | R26: Adrenalin | S26: {=SUM(LARGE(IF(Klub=$R26,T1_NOR,""),{1;2;3}))} -> #NUM! | T26: {=SUM(LARGE(IF(Klub=$R26,T2_NOR,""),{1;2;3}))} -> #NUM! | U26: {=SUM(LARGE(IF(Klub=$R26,T3_NOR,""),{1;2;3}))} -> #NUM! | V26: =SUM(S26:U26) -> #NUM!
D27: DJP Metulj | Q27: 11 | R27: DPL Ikar SG | S27: {=SUM(LARGE(IF(Klub=$R27,T1_NOR,""),{1;2;3}))} -> #NUM! | T27: {=SUM(LARGE(IF(Klub=$R27,T2_NOR,""),{1;2;3}))} -> #NUM! | U27: {=SUM(LARGE(IF(Klub=$R27,T3_NOR,""),{1;2;3}))} -> #NUM! | V27: =SUM(S27:U27) -> #NUM!
Q28: 12 | R28: DPL Posočje | S28: {=SUM(LARGE(IF(Klub=$R28,T1_NOR,""),{1;2;3}))} -> #NUM! | T28: {=SUM(LARGE(IF(Klub=$R28,T2_NOR,""),{1;2;3}))} -> #NUM! | U28: {=SUM(LARGE(IF(Klub=$R28,T3_NOR,""),{1;2;3}))} -> #NUM! | V28: =SUM(S28:U28) -> #NUM!
Q29: 13 | R29: Albatros Celje | S29: {=SUM(LARGE(IF(Klub=$R29,T1_NOR,""),{1;2;3}))} -> #NUM! | T29: {=SUM(LARGE(IF(Klub=$R29,T2_NOR,""),{1;2;3}))} -> #NUM! | U29: {=SUM(LARGE(IF(Klub=$R29,T3_NOR,""),{1;2;3}))} -> #NUM! | V29: =SUM(S29:U29) -> #NUM!

Sheet Adrenalin
A1: Report created: 2014-07-06T17:02:06+02:00
A3: Liga Adrenalin 2014
A5: 2014-07-03 to 2014-07-06
A7: Overall
A9: Total results
A11: Provisional
A13: Task | B13: Date | C13: Distance
A14: T1 T1 | B14: 2014-07-04 12:45 | C14: 72,2 km
A15: T2 T2 | B15: 2014-07-05 12:30 | C15: 20,9 km
A16: T3 T3 | B16: 2014-07-06 12:10 | C16: 53,7 km
A18: # | B18: Id | C18: Name | D18: Klub | E18: Nat | F18: Glider | G18: Sponsor | H18: T 1 | I18: T1_NOR | J18: T 2 | K18: T2_NOR | L18: T 3 | M18: T3_NOR | N18: Total | Q18: Mesto | R18: Klub | S18: T1 | T18: T2 | U18: T3 | V18: Skupno
A19: 1 | B19: 17 | C19: Jurij Vidic | D19: KL Vrhnika | E19: SLO | F19: OZONE ENZO | G19: Agring | H19: 994 | I19: =H19*1000/994 -> 1000 | J19: 267 | K19: =J19*1000/318 -> 839.62264 | L19: 927 | M19: =L19*1000/989 -> 937.31041 | N19: 2188 | Q19: 1 | R19: DJP Kajuh | S19: {=SUM(LARGE(IF(Klub=$R19,T1_NOR,""),{1;2;3}))} -> 974.84909 | T19: {=SUM(LARGE(IF(Klub=$R19,T2_NOR,""),{1;2;3}))} -> 949.68553 | U19: {=SUM(LARGE(IF(Klub=$R19,T3_NOR,""),{1;2;3}))} -> 877.6542 | V19: =SUM(S19:U19) -> 2802.1888
A20: 2 | B20: 25 | C20: Tilen Ceglar | D20: DJP Metulj | E20: SLO | F20: OZONE ENZO 2 | G20: Naviter | H20: 958 | I20: =H20*1000/994 -> 963.7827 | J20: 311 | K20: =J20*1000/318 -> 977.98742 | L20: 897 | M20: =L20*1000/989 -> 906.97674 | N20: 2166 | Q20: 2 | R20: KL Vrhnika | S20: {=SUM(LARGE(IF(Klub=$R20,T1_NOR,""),{1;2;3}))} -> 2136.8209 | T20: {=SUM(LARGE(IF(Klub=$R20,T2_NOR,""),{1;2;3}))} -> 1525.1572 | U20: {=SUM(LARGE(IF(Klub=$R20,T3_NOR,""),{1;2;3}))} -> 1521.7391 | V20: =SUM(S20:U20) -> 5183.7173
A21: 3 | B21: 148 | C21: Dušan Orož | D21: DJP Kajuh | E21: SLO | F21: OZONE EN2O | H21: 969 | I21: =H21*1000/994 -> 974.84909 | J21: 302 | K21: =J21*1000/318 -> 949.68553 | L21: 868 | M21: =L21*1000/989 -> 877.6542 | N21: 2139 | Q21: 3 | R21: DJP Cumulus | S21: {=SUM(LARGE(IF(Klub=$R21,T1_NOR,""),{1;2;3}))} -> 863.17907 | T21: {=SUM(LARGE(IF(Klub=$R21,T2_NOR,""),{1;2;3}))} -> 1000 | U21: {=SUM(LARGE(IF(Klub=$R21,T3_NOR,""),{1;2;3}))} -> 883.72093 | V21: =SUM(S21:U21) -> 2746.9
A22: 4 | B22: 378 | C22: Jože Molek | D22: DJP Cumulus | E22: SLO | F22: OZONE ENZO2 | H22: 858 | I22: =H22*1000/994 -> 863.17907 | J22: 318 | K22: =J22*1000/318 -> 1000 | L22: 874 | M22: =L22*1000/989 -> 883.72093 | N22: 2050 | Q22: 4 | R22: DJP Metulj | S22: {=SUM(LARGE(IF(Klub=$R22,T1_NOR,""),{1;2;3}))} -> 2391.3481 | T22: {=SUM(LARGE(IF(Klub=$R22,T2_NOR,""),{1;2;3}))} -> 2122.6415 | U22: {=SUM(LARGE(IF(Klub=$R22,T3_NOR,""),{1;2;3}))} -> 2228.5137 | V22: =SUM(S22:U22) -> 6742.5032
A23: 5 | B23: 523 | C23: Jošt Napret | D23: DJP Metulj | E23: SLO | F23: OZONE ENZO2 | G23: www.naviter.com | H23: 919 | I23: =H23*1000/994 -> 924.54728 | J23: 134 | K23: =J23*1000/318 -> 421.38365 | L23: 989 | M23: =L23*1000/989 -> 1000 | N23: 2042 | Q23: 5 | R23: DJP Kovk | S23: {=SUM(LARGE(IF(Klub=$R23,T1_NOR,""),{1;2;3}))} -> 633.80282 | T23: {=SUM(LARGE(IF(Klub=$R23,T2_NOR,""),{1;2;3}))} -> 1166.6667 | U23: {=SUM(LARGE(IF(Klub=$R23,T3_NOR,""),{1;2;3}))} -> 1077.8564 | V23: =SUM(S23:U23) -> 2878.3259
A24: 6 | B24: 217 | C24: Bojan Gaberšek | D24: DPL Ikar SG | E24: SLO | F24: NIVIUK ICEPEAK 7 pro | H24: 628 | I24: =H24*1000/994 -> 631.79074 | J24: 139 | K24: =J24*1000/318 -> 437.10692 | L24: 586 | M24: =L24*1000/989 -> 592.51769 | N24: 1353 | Q24: 6 | R24: KJP Krokar | S24: {=SUM(LARGE(IF(Klub=$R24,T1_NOR,""),{1;2;3}))} -> 1660.9658 | T24: {=SUM(LARGE(IF(Klub=$R24,T2_NOR,""),{1;2;3}))} -> 2327.044 | U24: {=SUM(LARGE(IF(Klub=$R24,T3_NOR,""),{1;2;3}))} -> 1370.0708 | V24: =SUM(S24:U24) -> 5358.0806
A25: 7 | B25: 5 | C25: Tomaž Eržen | D25: KJP Krokar | E25: SLO | F25: OZONE ENZO | G25: www.GearForFly.com, www.pronet-kr.si | H25: 818 | I25: =H25*1000/994 -> 822.93763 | J25: 228 | K25: =J25*1000/318 -> 716.98113 | L25: 272 | M25: =L25*1000/989 -> 275.02528 | N25: 1318 | Q25: 7 | R25: Lintvar | S25: {=SUM(LARGE(IF(Klub=$R25,T1_NOR,""),{1;2;3}))} -> 1718.3099 | T25: {=SUM(LARGE(IF(Klub=$R25,T2_NOR,""),{1;2;3}))} -> 1547.1698 | U25: {=SUM(LARGE(IF(Klub=$R25,T3_NOR,""),{1;2;3}))} -> 1062.6896 | V25: =SUM(S25:U25) -> 4328.1693
A26: 8 | B26: 414 | C26: Urban Valič | D26: DJP Kovk | E26: SLO | F26: TRIPLE SEVEN GLIDERS QUEEN | G26: Triple Seven Gliders | H26: 407 | I26: =H26*1000/994 -> 409.45674 | J26: 194 | K26: =J26*1000/318 -> 610.06289 | L26: 616 | M26: =L26*1000/989 -> 622.85137 | N26: 1217 | Q26: 8 | R26: Polet Kamnik | S26: {=SUM(LARGE(IF(Klub=$R26,T1_NOR,""),{1;2;3}))} -> #NUM! | T26: {=SUM(LARGE(IF(Klub=$R26,T2_NOR,""),{1;2;3}))} -> #NUM! | U26: {=SUM(LARGE(IF(Klub=$R26,T3_NOR,""),{1;2;3}))} -> #NUM! | V26: =SUM(S26:U26) -> #NUM!
A27: 9 | B27: 303 | C27: Miran Fridau | D27: Lintvar | E27: SLO | F27: NIVIUK PEAK 3 | G27: Rigips Slovenija | H27: 494 | I27: =H27*1000/994 -> 496.98189 | J27: 230 | K27: =J27*1000/318 -> 723.27044 | L27: 472 | M27: =L27*1000/989 -> 477.24975 | N27: 1196 | Q27: 9 | R27: DJP Parakrilec | S27: {=SUM(LARGE(IF(Klub=$R27,T1_NOR,""),{1;2;3}))} -> #NUM! | T27: {=SUM(LARGE(IF(Klub=$R27,T2_NOR,""),{1;2;3}))} -> #NUM! | U27: {=SUM(LARGE(IF(Klub=$R27,T3_NOR,""),{1;2;3}))} -> #NUM! | V27: =SUM(S27:U27) -> #NUM!
A28: 10 | B28: 2104 | C28: Borut Koler | D28: Lintvar | E28: SLO | F28: NIVIUK PEAK 3 | H28: 606 | I28: =H28*1000/994 -> 609.65795 | J28: 228 | K28: =J28*1000/318 -> 716.98113 | L28: 318 | M28: =L28*1000/989 -> 321.53691 | N28: 1152 | Q28: 10 | R28: Adrenalin | S28: {=SUM(LARGE(IF(Klub=$R28,T1_NOR,""),{1;2;3}))} -> 838.02817 | T28: {=SUM(LARGE(IF(Klub=$R28,T2_NOR,""),{1;2;3}))} -> 1292.4528 | U28: {=SUM(LARGE(IF(Klub=$R28,T3_NOR,""),{1;2;3}))} -> 609.70677 | V28: =SUM(S28:U28) -> 2740.1878
A29: 11 | B29: 540632 | C29: Klemen Peljhan | D29: KJP Krokar | E29: SLO | F29: GING GLIDERS CARERRA | H29: 466 | I29: =H29*1000/994 -> 468.81288 | J29: 259 | K29: =J29*1000/318 -> 814.46541 | L29: 425 | M29: =L29*1000/989 -> 429.727 | N29: 1150 | Q29: 11 | R29: DPL Ikar SG | S29: {=SUM(LARGE(IF(Klub=$R29,T1_NOR,""),{1;2;3}))} -> 801.81087 | T29: {=SUM(LARGE(IF(Klub=$R29,T2_NOR,""),{1;2;3}))} -> 770.44025 | U29: {=SUM(LARGE(IF(Klub=$R29,T3_NOR,""),{1;2;3}))} -> 1000 | V29: =SUM(S29:U29) -> 2572.2511
A30: 12 | B30: 90 | C30: Marko Novak | D30: KL Vrhnika | E30: SLO | F30: OZONE ENZO | G30: nowa d.o.o. | H30: 640 | I30: =H30*1000/994 -> 643.86318 | J30: 126 | K30: =J30*1000/318 -> 396.22642 | L30: 298 | M30: =L30*1000/989 -> 301.31446 | N30: 1064 | Q30: 12 | R30: DPL Posočje | S30: {=SUM(LARGE(IF(Klub=$R30,T1_NOR,""),{1;2;3}))} -> #NUM! | T30: {=SUM(LARGE(IF(Klub=$R30,T2_NOR,""),{1;2;3}))} -> #NUM! | U30: {=SUM(LARGE(IF(Klub=$R30,T3_NOR,""),{1;2;3}))} -> #NUM! | V30: =SUM(S30:U30) -> #NUM!
A31: 13 | B31: 7 | C31: Dušan Durkovič | D31: DJP Metulj | E31: SLO | F31: NOVA MENTOR3 | H31: 500 | I31: =H31*1000/994 -> 503.01811 | J31: 230 | K31: =J31*1000/318 -> 723.27044 | L31: 318 | M31: =L31*1000/989 -> 321.53691 | N31: 1048 | Q31: 13 | R31: Albatros Celje | S31: {=SUM(LARGE(IF(Klub=$R31,T1_NOR,""),{1;2;3}))} -> #NUM! | T31: {=SUM(LARGE(IF(Klub=$R31,T2_NOR,""),{1;2;3}))} -> #NUM! | U31: {=SUM(LARGE(IF(Klub=$R31,T3_NOR,""),{1;2;3}))} -> #NUM! | V31: =SUM(S31:U31) -> #NUM!
A32: 14 | B32: 540631 | C32: Sandi Kristić | D32: KJP Krokar | E32: SLO | F32: Ozone Mantra 6 | H32: 61 | I32: =H32*1000/994 -> 61.368209 | J32: 253 | K32: =J32*1000/318 -> 795.59748 | L32: 632 | M32: =L32*1000/989 -> 639.02932 | N32: 946
A33: 15 | B33: 6 | C33: Anže Pristov | D33: Lintvar | E33: SLO | F33: NIVIUK ICEPEAK 6 | G33: be-xtreme.eu | H33: 608 | I33: =H33*1000/994 -> 611.67002 | J33: 34 | K33: =J33*1000/318 -> 106.91824 | L33: 261 | M33: =L33*1000/989 -> 263.90293 | N33: 903
A34: 16 | B34: 568 | C34: Tomaž Toplak | D34: KL Vrhnika | E34: SLO | F34: NIVIUK IC6 | G34: ardi INT d.o.o. | H34: 490 | I34: =H34*1000/994 -> 492.95775 | J34: 92 | K34: =J34*1000/318 -> 289.30818 | L34: 280 | M34: =L34*1000/989 -> 283.11426 | N34: 862
A35: 17 | B35: 602 | C35: Tadej Krevh | D35: Adrenalin | E35: SLO | F35: GIN-GLIDERS CARRERA | H35: 352 | I35: =H35*1000/994 -> 354.12475 | J35: 185 | K35: =J35*1000/318 -> 581.76101 | L35: 316 | M35: =L35*1000/989 -> 319.51466 | N35: 853
A36: 18 | B36: 748 | C36: Stojan Kranjc | D36: DJP Kovk | E36: SLO | F36: TRIPLE SEVEN GLIDERS QUEEN | H36: 223 | I36: =H36*1000/994 -> 224.34608 | J36: 177 | K36: =J36*1000/318 -> 556.60377 | L36: 450 | M36: =L36*1000/989 -> 455.00506 | N36: 850
A37: 19 | B37: 24 | C37: Igor Eržen | D37: KJP Krokar | E37: SLO | F37: MAC-PARA ELAN | G37: Hotel Creina d.o.o., GBD d.d., Balinoa d.o.o. | H37: 367 | I37: =H37*1000/994 -> 369.21529 | J37: 131 | K37: =J37*1000/318 -> 411.94969 | L37: 298 | M37: =L37*1000/989 -> 301.31446 | N37: 796
A38: 20 | B38: 36030 | C38: Mitja Jug | D38: DPL Ikar SG | E38: SLO | F38: GIN-GLIDERS CARRERA | G38: Guštanj d.o.o. | H38: 169 | I38: =H38*1000/994 -> 170.02012 | J38: 106 | K38: =J38*1000/318 -> 333.33333 | L38: 403 | M38: =L38*1000/989 -> 407.48231 | N38: 678
A39: 23 | B39: 37 | C39: Simon Konavec | D39: Adrenalin | E39: SLO | F39: NOVA TRITON 2 | G39: Team Adrenalin, Nova Wings | H39: 381 | I39: =H39*1000/994 -> 383.2998 | J39: 34 | K39: =J39*1000/318 -> 106.91824 | M39: =L39*1000/989 -> 0 | N39: 415
A40: 24 | B40: 474 | C40: Špela Šterk | D40: Adrenalin | E40: SLO | F40: NOVA MENTOR 2 | H40: 100 | I40: =H40*1000/994 -> 100.60362 | J40: 124 | K40: =J40*1000/318 -> 389.93711 | L40: 142 | M40: =L40*1000/989 -> 143.57937 | N40: 366
A41: 25 | B41: 1905 | C41: Lara Leban | D41: Adrenalin | E41: SLO | F41: TRIPLE SEVEN GLIDERS PAWN | H41: 85 | I41: =H41*1000/994 -> 85.513078 | J41: 102 | K41: =J41*1000/318 -> 320.75472 | L41: 145 | M41: =L41*1000/989 -> 146.61274 | N41: 332
H42: =MAX(H19:H41) -> 994 | J42: =MAX(J19:J41) -> 318 | L42: =MAX(L19:L41) -> 989
D43: DJP Cumulus
D44: DJP Cumulus
D45: DJP Kajuh
D46: DJP Kajuh
D47: DJP Kovk
...

Sheet Ratitovec
A1: Report created: 2014-06-28T17:05:55+02:00
A3: Ratitovec 2014
A5: 2014-06-26 to 2014-06-29
A7: Rat2014 T1-T-2-T3
A9: Total results
A11: Provisional
A13: Task | B13: Date | C13: Distance
A14: T1 Rat2014_T1 | B14: 2014-06-26 12:00 | C14: 52,5 km
A15: T2 Rat T2 | B15: 2014-06-27 12:00 | C15: 33,7 km
A16: T3 Rat2014 T3 | B16: 2014-06-28 12:45 | C16: 40,5 km
A18: # | B18: Id | C18: Name | D18: Klub | E18: Nat | F18: Glider | G18: Sponsor | H18: T 1 | I18: T1_NOR | J18: T 2 | K18: T2_NOR | L18: T 3 | M18: T3_NOR | N18: Total | Q18: Mesto | R18: Klub | S18: T1 | T18: T2 | U18: T3 | V18: Skupno
A19: 1 | B19: 523 | C19: Jošt Napret | D19: DJP Metulj | E19: SVN | F19: OZONE ENZO2 | G19: www.naviter.com | H19: 581 | I19: =H19*1000/970 -> 598.96907 | J19: 1000 | K19: =J19*1000/1000 -> 1000 | L19: 994 | M19: =L19*1000/994 -> 1000 | N19: 2575 | Q19: 1 | R19: DJP Kajuh | S19: {=SUM(LARGE(IF(Klub=$R19,T1_NOR,""),{1;2;3}))} -> 0 | T19: {=SUM(LARGE(IF(Klub=$R19,T2_NOR,""),{1;2;3}))} -> 872 | U19: {=SUM(LARGE(IF(Klub=$R19,T3_NOR,""),{1;2;3}))} -> 800.80483 | V19: =SUM(S19:U19) -> 1672.8048
A20: 2 | B20: 5 | C20: Tomaž Eržen | D20: KJP Krokar | E20: SVN | F20: OZONE ENZO | G20: www.GearForFly.com, www.pronet-kr.si | H20: 564 | I20: =H20*1000/970 -> 581.4433 | J20: 738 | K20: =J20*1000/1000 -> 738 | L20: 901 | M20: =L20*1000/994 -> 906.43863 | N20: 2203 | Q20: 2 | R20: KL Vrhnika | S20: {=SUM(LARGE(IF(Klub=$R20,T1_NOR,""),{1;2;3}))} -> 531.95876 | T20: {=SUM(LARGE(IF(Klub=$R20,T2_NOR,""),{1;2;3}))} -> 397 | U20: {=SUM(LARGE(IF(Klub=$R20,T3_NOR,""),{1;2;3}))} -> 2083.501 | V20: =SUM(S20:U20) -> 3012.4598
A21: 3 | B21: 124 | C21: Roman Lotrič | D21: KJP Krokar | E21: SVN | F21: NOVA TRITON | H21: 516 | I21: =H21*1000/970 -> 531.95876 | J21: 810 | K21: =J21*1000/1000 -> 810 | L21: 873 | M21: =L21*1000/994 -> 878.26962 | N21: 2199 | Q21: 3 | R21: DJP Cumulus | S21: {=SUM(LARGE(IF(Klub=$R21,T1_NOR,""),{1;2;3}))} -> 1000 | T21: {=SUM(LARGE(IF(Klub=$R21,T2_NOR,""),{1;2;3}))} -> 0 | U21: {=SUM(LARGE(IF(Klub=$R21,T3_NOR,""),{1;2;3}))} -> 991.95171 | V21: =SUM(S21:U21) -> 1991.9517
A22: 5 | B22: 511 | C22: Matija Žumer | D22: KJP Krokar | E22: SVN | F22: U.P. SUMMIT XC3 | H22: 512 | I22: =H22*1000/970 -> 527.83505 | J22: 605 | K22: =J22*1000/1000 -> 605 | L22: 892 | M22: =L22*1000/994 -> 897.38431 | N22: 2009 | Q22: 4 | R22: DJP Metulj | S22: {=SUM(LARGE(IF(Klub=$R22,T1_NOR,""),{1;2;3}))} -> 598.96907 | T22: {=SUM(LARGE(IF(Klub=$R22,T2_NOR,""),{1;2;3}))} -> 1774 | U22: {=SUM(LARGE(IF(Klub=$R22,T3_NOR,""),{1;2;3}))} -> 1174.0443 | V22: =SUM(S22:U22) -> 3547.0133
