Workbook
Name Klub: Adrenalin!$D$18:$D$70
Name Klub: 'DP2014'!$D$19:$D$70
Name Klub: ParaStajerka!$D$16:$D$70
Name Klub: PWC!$D$18:$D$70
Name Klub: Ratitovec!$D$18:$D$70
Name Klub: SocaValley!$D$17:$D$60
Name klub: DP!$D$15:$D$70
Name Pilot: PWC!$C$18:$C$191
Name T1_: #REF!
Name T1_NOR: Adrenalin!$I$18:$I$70
Name T1_NOR: 'DP2014'!$I$19:$I$70
Name T1_NOR: ParaStajerka!$I$16:$I$70
Name T1_NOR: PWC!$I$18:$I$70
Name T1_NOR: Ratitovec!$I$18:$I$70
Name T1_NOR: SocaValley!$H$17:$H$60
Name T2_: #REF!
Name T2_NOR: Adrenalin!$K$18:$K$68
Name T2_NOR: 'DP2014'!$K$18:$K$70
Name T2_NOR: ParaStajerka!$K$18:$K$70
Name T2_NOR: PWC!$K$18:$K$70
Name T2_NOR: Ratitovec!$K$18:$K$68
Name T2_NOR: SocaValley!$J$17:$J$60
Name T3_: #REF!
Name T3_NOR: Adrenalin!$M$18:$M$70
Name T3_NOR: 'DP2014'!$M$18:$M$70
Name T3_NOR: ParaStajerka!$M$18:$M$70
Name T3_NOR: PWC!$M$18:$M$70
Name T3_NOR: Ratitovec!$M$18:$M$70
Name T3_NOR: SocaValley!$K$17:$K$60
Name T4_NOR: SocaValley!$M$17:$M$60
Name T4_NOR: SocaValley!$M$17:$M$60

Sheet DP
A1: Report created: 2013-08-02T19:46:20+02:00
A2: Slovenian - Croatian Open 2013
A4: 2013-07-28 to 2013-08-02
A5: Overall
A6: Total results | H6: =SUM(LARGE(I15:I59,{1;2;3})) -> 2959.9529
A7: Task | B7: Date | C7: Distance | H7: =SUMIF($D$15:$D$59,"KL Vrhnika"& LARGE(I15:I59,{1;2;3}),T1_) -> #REF!
A8: T1 Task 1 | B8: 2013-07-28 13:20 | C8: 40,1 km | D8: Race to Goal with 1 startgate(s)
A9: T2 Task2 | B9: 2013-07-30 13:00 | C9: 83,3 km | D9: Race to Goal with 1 startgate(s)
A10: T3 Task 3 | B10: 2013-07-31 13:00 | C10: 100,0 km | D10: Race to Goal with 1 startgate(s)
A11: T4 Task 5 | B11: 2013-08-01 13:00 | C11: 93,6 km | D11: Race to Goal with 1 startgate(s)
A12: T5 Task 6 | B12: 2013-08-02 13:00 | C12: 74,4 km | D12: Race to Goal with 1 startgate(s)
A14: # | B14: Id | C14: Name | D14: Klub | E14: Nat | F14: Glider | G14: Sponsor | H14: T 1 | I14: T1_ | J14: T 2 | K14: T 3 | L14: T3_ | M14: T 4 | N14: T 5 | O14: Total | Q14: Task 1 | R14: Klub | S14: T1 | T14: T2_ | U14: T3 | V14: T4 | W14: T5 | X14: SUM
A15: 1 | B15: 29 | C15: Primož Suša | D15: KL Vrhnika | E15: SLO | F15: OZONE ENZO | G15: camp-gabrje.com | H15: 829 | I15: =(1000*H15)/849 -> 976.44287 | J15: 1000 | K15: 985 | L15: 1000 | M15: 1000 | N15: 875 | O15: 4689 | Q15: 1 | R15: KL Vrhnika | S15: {=SUM(LARGE(IF(klub=R15,$I$15:$I$70,""),{1;2;3}))} -> 2868.0801 | T15: {=SUM(LARGE(IF(klub=$R15,J$15:J$70,""),{1;2;3}))} -> 2736 | U15: {=SUM(LARGE(IF(klub=$R15,L$15:L$70,""),{1;2;3}))} -> 2803.0457 | V15: {=SUM(LARGE(IF(klub=$R15,M$15:M$70,""),{1;2;3}))} -> 2911 | W15: {=SUM(LARGE(IF(klub=$R15,N$15:N$70,""),{1;2;3}))} -> 2705 | X15: =SUM(S15:U15) -> 8407.1258
A16: 2 | B16: 148 | C16: Dušan Orož | D16: Polet NG | E16: SLO | F16: OZONE ENZO | H16: 762 | I16: =(1000*H16)/849 -> 897.5265 | J16: 928 | K16: 977 | L16: =(1000*K16)/985 -> 991.87817 | M16: 884 | N16: 906 | O16: 4457 | Q16: 2 | R16: DJP Kovk | S16: {=SUM(LARGE(IF(klub=R16,$I$15:$I$70,""),{1;2;3}))} -> 2713.7809 | T16: {=SUM(LARGE(IF(klub=$R16,J$15:J$70,""),{1;2;3}))} -> 1818 | U16: {=SUM(LARGE(IF(klub=$R16,L$15:L$70,""),{1;2;3}))} -> 2436.5482 | V16: {=SUM(LARGE(IF(klub=$R16,M$15:M$70,""),{1;2;3}))} -> 1821 | W16: {=SUM(LARGE(IF(klub=$R16,N$15:N$70,""),{1;2;3}))} -> 2159 | X16: =SUM(S16:U16) -> 6968.3291
A17: 4 | B17: 217 | C17: Bojan Gaberšek | D17: KL Vrhnika | E17: SLO | F17: NIVIUK ICEPEAK 6 | G17: Avtodeli Gaberšek | H17: 819 | I17: =(1000*H17)/849 -> 964.66431 | J17: 704 | K17: 923 | L17: =(1000*K17)/985 -> 937.05584 | M17: 959 | N17: 847 | O17: 4252 | Q17: 3 | R17: DJP Metulj | S17: {=SUM(LARGE(IF(klub=R17,$I$15:$I$70,""),{1;2;3}))} -> 2619.5524 | T17: {=SUM(LARGE(IF(klub=$R17,J$15:J$70,""),{1;2;3}))} -> 2087 | U17: {=SUM(LARGE(IF(klub=$R17,L$15:L$70,""),{1;2;3}))} -> 1909.6447 | V17: {=SUM(LARGE(IF(klub=$R17,M$15:M$70,""),{1;2;3}))} -> 2217 | W17: {=SUM(LARGE(IF(klub=$R17,N$15:N$70,""),{1;2;3}))} -> 2299 | X17: =SUM(S17:U17) -> 6616.1971
A18: 6 | B18: 90 | C18: Marko Novak | D18: KL Vrhnika | E18: SLO | F18: OZONE ENZO | G18: nowa d.o.o. | H18: 787 | I18: =(1000*H18)/849 -> 926.97291 | J18: 572 | K18: 853 | L18: =(1000*K18)/985 -> 865.98985 | M18: 952 | N18: 983 | O18: 4147 | Q18: 4 | R18: KJP Krokar | S18: {=SUM(LARGE(IF(klub=R18,$I$15:$I$70,""),{1;2;3}))} -> 2240.2827 | T18: {=SUM(LARGE(IF(klub=$R18,J$15:J$70,""),{1;2;3}))} -> 2157 | U18: {=SUM(LARGE(IF(klub=$R18,L$15:L$70,""),{1;2;3}))} -> 2202.0305 | V18: {=SUM(LARGE(IF(klub=$R18,M$15:M$70,""),{1;2;3}))} -> 1958 | W18: {=SUM(LARGE(IF(klub=$R18,N$15:N$70,""),{1;2;3}))} -> 1752 | X18: =SUM(S18:U18) -> 6599.3131
A19: 7 | B19: 126 | C19: Miha Slamič | D19: Polet NG | E19: SLO | F19: NIVIUK ICEPEAK 6 | G19: Polet Nova Gorica | H19: 775 | I19: =(1000*H19)/849 -> 912.83863 | J19: 918 | K19: 768 | L19: =(1000*K19)/985 -> 779.69543 | M19: 806 | N19: 846 | O19: 4113 | Q19: 5 | R19: Lintvar | S19: {=SUM(LARGE(IF(klub=R19,$I$15:$I$70,""),{1;2;3}))} -> 2220.2591 | T19: {=SUM(LARGE(IF(klub=$R19,J$15:J$70,""),{1;2;3}))} -> 1846 | U19: {=SUM(LARGE(IF(klub=$R19,L$15:L$70,""),{1;2;3}))} -> 1829.4416 | V19: {=SUM(LARGE(IF(klub=$R19,M$15:M$70,""),{1;2;3}))} -> 1701 | W19: {=SUM(LARGE(IF(klub=$R19,N$15:N$70,""),{1;2;3}))} -> 1560 | X19: =SUM(S19:U19) -> 5895.7008
A20: 9 | B20: 5 | C20: Tomaž Eržen | D20: KJP Krokar | E20: SLO | F20: OZONE ENZO | G20: www.GearForFly.com, www.pronet-kr.si | H20: 691 | I20: =(1000*H20)/849 -> 813.8987 | J20: 803 | K20: 966 | L20: =(1000*K20)/985 -> 980.71066 | M20: 736 | N20: 817 | O20: 4013 | Q20: 6 | R20: Polet NG | S20: {=SUM(LARGE(IF(klub=R20,$I$15:$I$70,""),{1;2;3}))} -> 1810.3651 | T20: {=SUM(LARGE(IF(klub=$R20,J$15:J$70,""),{1;2;3}))} -> 1846 | U20: {=SUM(LARGE(IF(klub=$R20,L$15:L$70,""),{1;2;3}))} -> 1771.5736 | V20: {=SUM(LARGE(IF(klub=$R20,M$15:M$70,""),{1;2;3}))} -> 1690 | W20: {=SUM(LARGE(IF(klub=$R20,N$15:N$70,""),{1;2;3}))} -> 1752 | X20: =SUM(S20:U20) -> 5427.9387
A21: 10 | B21: 214 | C21: Aljaž Valič | D21: DJP Kovk | E21: SLO | F21: TRIPLE SEVEN GLIDERS QEEN | G21: TripleSeven Gliders | H21: 849 | I21: 1000 | J21: 392 | K21: 939 | L21: =(1000*K21)/985 -> 953.29949 | M21: 965 | N21: 827 | O21: 3972 | Q21: 7 | R21: Adrenalin | S21: {=SUM(LARGE(IF(klub=R21,$I$15:$I$70,""),{1;2;3}))} -> 930.50648 | T21: {=SUM(LARGE(IF(klub=$R21,J$15:J$70,""),{1;2;3}))} -> 1122 | U21: {=SUM(LARGE(IF(klub=$R21,L$15:L$70,""),{1;2;3}))} -> 1079.1878 | V21: {=SUM(LARGE(IF(klub=$R21,M$15:M$70,""),{1;2;3}))} -> 1282 | W21: {=SUM(LARGE(IF(klub=$R21,N$15:N$70,""),{1;2;3}))} -> 1171 | X21: =SUM(S21:U21) -> 3131.6943
A22: 12 | B22: 611 | C22: Miha Razinger | D22: KL Vrhnika | E22: SLO | F22: OZONE Enzo | H22: 698 | I22: =(1000*H22)/849 -> 822.1437 | J22: 894 | K22: 851 | L22: =(1000*K22)/985 -> 863.95939 | M22: 742 | N22: 766 | O22: 3951 | Q22: 8 | R22: EOL Celje | S22: {=SUM(LARGE(IF(klub=R22,$I$15:$I$70,""),{1;2;3}))} -> 1209.6584 | T22: {=SUM(LARGE(IF(klub=$R22,J$15:J$70,""),{1;2;3}))} -> 721 | U22: {=SUM(LARGE(IF(klub=$R22,L$15:L$70,""),{1;2;3}))} -> 981.72589 | V22: {=SUM(LARGE(IF(klub=$R22,M$15:M$70,""),{1;2;3}))} -> 880 | W22: {=SUM(LARGE(IF(klub=$R22,N$15:N$70,""),{1;2;3}))} -> 343 | X22: =SUM(S22:U22) -> 2912.3843
A23: 15 | B23: 7 | C23: Dušan Durkovič | D23: DJP Metulj | E23: SLO | F23: NOVA MENTOR 3 | G23: Hard Work :-) | H23: 782 | I23: =(1000*H23)/849 -> 921.08363 | J23: 898 | K23: 664 | L23: =(1000*K23)/985 -> 674.11168 | M23: 707 | N23: 710 | O23: 3761 | Q23: 9 | R23: DPL Posočje | S23: {=SUM(LARGE(IF(klub=R23,$I$15:$I$70,""),{1;2;3}))} -> 1227.3263 | T23: {=SUM(LARGE(IF(klub=$R23,J$15:J$70,""),{1;2;3}))} -> 403 | U23: {=SUM(LARGE(IF(klub=$R23,L$15:L$70,""),{1;2;3}))} -> 1054.8223 | V23: {=SUM(LARGE(IF(klub=$R23,M$15:M$70,""),{1;2;3}))} -> 861 | W23: {=SUM(LARGE(IF(klub=$R23,N$15:N$70,""),{1;2;3}))} -> 579 | X23: =SUM(S23:U23) -> 2685.1486
A24: 16 | B24: 414 | C24: Urban Valič | D24: DJP Kovk | E24: SLO | F24: TRIPLE SEVEN GLIDERS Queen | G24: Triple Seven Gliders | H24: 835 | I24: =(1000*H24)/849 -> 983.51001 | J24: 910 | K24: 926 | L24: =(1000*K24)/985 -> 940.10152 | M24: 206 | N24: 847 | O24: 3724 | Q24: 10 | R24: DJP Parakrilec | S24: {=SUM(LARGE(IF(klub=R24,$I$15:$I$70,""),{1;2;3}))} -> 766.78445 | T24: {=SUM(LARGE(IF(klub=$R24,J$15:J$70,""),{1;2;3}))} -> 671 | U24: {=SUM(LARGE(IF(klub=$R24,L$15:L$70,""),{1;2;3}))} -> 1047.7157 | V24: {=SUM(LARGE(IF(klub=$R24,M$15:M$70,""),{1;2;3}))} -> 241 | W24: {=SUM(LARGE(IF(klub=$R24,N$15:N$70,""),{1;2;3}))} -> 421 | X24: =SUM(S24:U24) -> 2485.5002
A25: 20 | B25: 37 | C25: Simon Konavec | D25: Adrenalin | E25: SLO | F25: NOVA MENTOR 3 | G25: Društvo Adrenalin, www.nova-wings.si | H25: 790 | I25: =(1000*H25)/849 -> 930.50648 | J25: 701 | K25: 553 | L25: =(1000*K25)/985 -> 561.42132 | M25: 706 | N25: 712 | O25: 3462 | Q25: 11 | R25: DJP Cumulus | S25: {=SUM(LARGE(IF(klub=R25,$I$15:$I$70,""),{1;2;3}))} -> 425.20612 | T25: {=SUM(LARGE(IF(klub=$R25,J$15:J$70,""),{1;2;3}))} -> 757 | U25: {=SUM(LARGE(IF(klub=$R25,L$15:L$70,""),{1;2;3}))} -> 820.30457 | V25: {=SUM(LARGE(IF(klub=$R25,M$15:M$70,""),{1;2;3}))} -> 1086 | W25: {=SUM(LARGE(IF(klub=$R25,N$15:N$70,""),{1;2;3}))} -> 904 | X25: =SUM(S25:U25) -> 2002.5107
A26: 21 | B26: 523 | C26: Jošt Napret | D26: DJP Metulj | E26: SLO | F26: NIVIUK IP6 | G26: www.naviter.com | H26: 812 | I26: =(1000*H26)/849 -> 956.41932 | J26: 504 | K26: 248 | L26: =(1000*K26)/985 -> 251.77665 | M26: 820 | N26: 1000 | O26: 3384 | Q26: 12 | R26: DPL Lesce-Bled | S26: {=SUM(LARGE(IF(klub=R26,$I$15:$I$70,""),{1;2;3}))} -> #NUM! | T26: {=SUM(LARGE(IF(klub=$R26,J$15:J$70,""),{1;2;3}))} -> #NUM! | U26: {=SUM(LARGE(IF(klub=$R26,L$15:L$70,""),{1;2;3}))} -> #NUM! | V26: {=SUM(LARGE(IF(klub=$R26,M$15:M$70,""),{1;2;3}))} -> #NUM! | W26: {=SUM(LARGE(IF(klub=$R26,N$15:N$70,""),{1;2;3}))} -> #NUM! | X26: =SUM(S26:U26) -> #NUM!
A27: 23 | B27: 39 | C27: Rok Dolinšek | D27: KL Vrhnika | E27: SLO | F27: NIVIUK ICEPEAK 6 | G27: Troia d.o.o., ŠD Oktan | H27: 666 | I27: =(1000*H27)/849 -> 784.4523 | J27: 842 | K27: 281 | L27: =(1000*K27)/985 -> 285.27919 | M27: 826 | N27: 479 | O27: 3094
A28: 24 | B28: 303 | C28: Miran Fridau | D28: Lintvar | E28: SLO | F28: NIVIUK ARTIK 3 | G28: Rigips Slovenija | H28: 705 | I28: =(1000*H28)/849 -> 830.38869 | J28: 669 | K28: 544 | L28: =(1000*K28)/985 -> 552.28426 | M28: 585 | N28: 569 | O28: 3072
A29: 26 | B29: 140 | C29: Damjan Lotrič | D29: KJP Krokar | E29: SLO | F29: OZONE MANTRA M4 | H29: 623 | I29: =(1000*H29)/849 -> 733.80448 | J29: 789 | K29: 665 | L29: =(1000*K29)/985 -> 675.1269 | M29: 646 | N29: 291 | O29: 3014
A30: 30 | B30: 58 | C30: Jože Molek | D30: DJP Cumulus | E30: SLO | F30: Ozone Delta 2 | H30: 0 | I30: =(1000*H30)/849 -> 0 | J30: 676 | K30: 561 | L30: =(1000*K30)/985 -> 569.54315 | M30: 801 | N30: 767 | O30: 2805
A31: 31 | B31: 545 | C31: Tomaž Toplak | D31: KL Vrhnika | E31: SLO | F31: NIVIUK IC6 | G31: ardi INT d.o.o. | H31: 640 | I31: =(1000*H31)/849 -> 753.82803 | J31: 645 | K31: 232 | L31: =(1000*K31)/985 -> 235.53299 | M31: 590 | N31: 694 | O31: 2801
A32: 32 | B32: 1011 | C32: Andrej Erznožnik | D32: KL Vrhnika | E32: SLO | F32: OZONE MANTRA M4 | H32: 579 | I32: =(1000*H32)/849 -> 681.9788 | J32: 481 | K32: 497 | L32: =(1000*K32)/985 -> 504.56853 | M32: 623 | N32: 557 | O32: 2737
A33: 33 | B33: 73 | C33: Damjan Čretnik | D33: Lintvar | E33: SLO | F33: NIVIUK ARTIK 27 | G33: www.lintvar.si | H33: 711 | I33: =(1000*H33)/849 -> 837.45583 | J33: 686 | K33: 687 | L33: =(1000*K33)/985 -> 697.46193 | M33: 354 | N33: 274 | O33: 2712
A34: 35 | B34: 748 | C34: Stojan Kranjc | D34: DJP Kovk | E34: SLO | F34: TRIPLE SEVEN GLIDERS QUEEN | H34: 533 | I34: =(1000*H34)/849 -> 627.79741 | J34: 481 | K34: 519 | L34: =(1000*K34)/985 -> 526.90355 | M34: 650 | N34: 485 | O34: 2668
A35: 36 | B35: 10 | C35: Stane Jakopič | D35: DJP Metulj | E35: SLO | F35: OZONE DELTA2 | H35: 140 | I35: =(1000*H35)/849 -> 164.89988 | J35: 685 | K35: 688 | L35: =(1000*K35)/985 -> 698.47716 | M35: 690 | N35: 457 | O35: 2660
A36: 37 | B36: 4224 | C36: Sebastjan Podbregar | D36: EOL Celje | E36: SLO | F36: TRIPLE SEVEN GLIDERS QUEEN | H36: 615 | I36: =(1000*H36)/849 -> 724.38163 | J36: 474 | K36: 706 | L36: =(1000*K36)/985 -> 716.75127 | M36: 617 | N36: 206 | O36: 2618
A37: 38 | B37: 32 | C37: Mohor Prevc | D37: KJP Krokar | E37: SLO | F37: AXIS VENUS 2 | H37: 484 | I37: =(1000*H37)/849 -> 570.08245 | J37: 565 | K37: 514 | L37: =(1000*K37)/985 -> 521.82741 | M37: 546 | N37: 421 | O37: 2530
A38: 42 | B38: 1403 | C38: Alojz Tovornik | D38: DJP Metulj | E38: SLO | F38: OZONE M4 | G38: www.metujmania.com | H38: 630 | I38: =(1000*H38)/849 -> 742.04947 | J38: 384 | K38: 260 | L38: =(1000*K38)/985 -> 263.95939 | M38: 589 | N38: 589 | O38: 2452
A39: 43 | B39: 2500 | C39: Miha Senica | D39: DJP Metulj | E39: SLO | F39: NOVA FACTOR | H39: 590 | I39: =(1000*H39)/849 -> 694.93522 | J39: 426 | K39: 529 | L39: =(1000*K39)/985 -> 537.05584 | M39: 335 | N39: 562 | O39: 2442
A40: 47 | B40: 25377 | C40: Jernej Štefanec | D40: Lintvar | E40: SLO | F40: NIVIUK ARTIK3 | H40: 140 | I40: =(1000*H40)/849 -> 164.89988 | J40: 491 | K40: 533 | L40: =(1000*K40)/985 -> 541.11675 | M40: 575 | N40: 570 | O40: 2309
A41: 48 | B41: 25212 | C41: Sandi Kristić | D41: KJP Krokar | E41: SLO | F41: OZONE DELTA | G41: www.skiil.si | H41: 511 | I41: =(1000*H41)/849 -> 601.88457 | J41: 255 | K41: 532 | L41: =(1000*K41)/985 -> 540.10152 | M41: 518 | N41: 469 | O41: 2285
A42: 49 | B42: 82 | C42: Boštjan Svetlin | D42: KJP Krokar | E42: SLO | F42: AXIS VENUS 2 | H42: 588 | I42: =(1000*H42)/849 -> 692.57951 | J42: 435 | K42: 538 | L42: =(1000*K42)/985 -> 546.19289 | M42: 338 | N42: 374 | O42: 2273
A43: 53 | B43: 909 | C43: Mojca Pišek | D43: Lintvar | E43: SLO | F43: NIVIUK ARTIK 3 | G43: Moj mesar Jože s.p., www.lintvar.si | H43: 469 | I43: =(1000*H43)/849 -> 552.41461 | J43: 435 | K43: 571 | L43: =(1000*K43)/985 -> 579.69543 | M43: 541 | N43: 162 | O43: 2178
A44: 54 | B44: 331 | C44: Tomaž Trstenjak | D44: KL Vrhnika | E44: SLO | F44: NIVIUK ICEPEAK 6 | G44: PAMA d.o.o ,T&T Air Šport - Tehnik | H44: 615 | I44: =(1000*H44)/849 -> 724.38163 | J44: 641 | K44: 161 | L44: =(1000*K44)/985 -> 163.45178 | M44: 429 | N44: 309 | O44: 2155
A45: 55 | B45: 141 | C45: Grega Rutar | D45: DPL Posočje | E45: SLO | F45: OZONE DELTA 2 | G45: DPL Posočje | H45: 542 | I45: =(1000*H45)/849 -> 638.39812 | J45: 380 | K45: 557 | L45: =(1000*K45)/985 -> 565.48223 | M45: 533 | N45: 137 | O45: 2149
A46: 59 | B46: 24 | C46: Igor Eržen | D46: KJP Krokar | E46: SLO | F46: MAC-PARA MARVEL | G46: Hotel Creina d.o.o., GBD d.d., Balinoa d.o.o. | H46: 519 | I46: =(1000*H46)/849 -> 611.30742 | J46: 256 | K46: 507 | L46: =(1000*K46)/985 -> 514.72081 | M46: 576 | N46: 137 | O46: 1995
A47: 60 | B47: 1639 | C47: Klavdij Rakušček | D47: Adrenalin | E47: SLO | F47: Aircross U Sport 2 | I47: =(1000*H47)/849 -> 0 | J47: 421 | K47: 510 | L47: =(1000*K47)/985 -> 517.7665 | M47: 576 | N47: 459 | O47: 1966
A48: 61 | B48: 3270 | C48: Milan Perko | D48: DJP Metulj | E48: SLO | F48: NIVIUK ARTIK3 | H48: 535 | I48: =(1000*H48)/849 -> 630.15312 | J48: 200 | K48: 247 | L48: =(1000*K48)/985 -> 250.76142 | M48: 603 | N48: 318 | O48: 1903
A49: 62 | B49: 114 | C49: Aleš Lipušček | D49: DPL Posočje | E49: SLO | F49: AXIS VENUS 2 | G49: DPL Posočje | H49: 500 | I49: =(1000*H49)/849 -> 588.92815 | J49: 23 | K49: 482 | L49: =(1000*K49)/985 -> 489.3401 | M49: 328 | N49: 442 | O49: 1775
A50: 65 | B50: 321 | C50: Branko Žnuderl | D50: DJP Parakrilec | E50: SLO | F50: ADVANCE OMEGA 8 | G50: RM PLUS d.o.o. - Podjetje za tržno raziskovanje in | H50: 140 | I50: =(1000*H50)/849 -> 164.89988 | J50: 435 | K50: 504 | L50: =(1000*K50)/985 -> 511.67513 | M50: 212 | N50: 421 | O50: 1712
A51: 66 | B51: 605 | C51: Primož Ciglič | D51: KJP Krokar | E51: SLO | F51: GIN-GLIDERS BOOMERANG GTO | H51: 140 | I51: =(1000*H51)/849 -> 164.89988 | J51: 510 | K51: 247 | L51: =(1000*K51)/985 -> 250.76142 | M51: 335 | N51: 466 | O51: 1698
A52: 67 | B52: 911 | C52: Toni Pljakoski | D52: DJP Kovk | E52: SLO | F52: OZONE DELTA2 | G52: Topit d.o.o. | H52: 594 | I52: =(1000*H52)/849 -> 699.64664 | J52: 427 | K52: 535 | L52: =(1000*K52)/985 -> 543.14721 | M52: 0 | N52: 137 | O52: 1693
A53: 69 | B53: 269 | C53: Peter Kocjan | D53: Lintvar | E53: SLO | F53: NIVIUK HOOK 3 | G53: Avtoma d.o.o. | H53: 347 | I53: =(1000*H53)/849 -> 408.71614 | J53: 216 | K53: 345 | L53: =(1000*K53)/985 -> 350.25381 | M53: 127 | N53: 421 | O53: 1456
A54: 71 | B54: 1230 | C54: Tanika Virtovšek | D54: EOL Celje | E54: SLO | F54: NIVIUK PEAK 1 | H54: 412 | I54: =(1000*H54)/849 -> 485.2768 | J54: 247 | K54: 261 | L54: =(1000*K54)/985 -> 264.97462 | M54: 263 | N54: 137 | O54: 1320
A55: 72 | B55: 1169 | C55: Egon Šmigoc | D55: DJP Parakrilec | E55: SLO | F55: MAC-PARA MAGUS XC | H55: 511 | I55: =(1000*H55)/849 -> 601.88457 | J55: 236 | K55: 528 | L55: =(1000*K55)/985 -> 536.04061 | M55: 29 | N55: 0 | O55: 1304
A56: 75 | B56: 18 | C56: Matej Belčič | D56: DJP Cumulus | E56: SLO | F56: AIRCROSS U SPORT 2 | H56: 361 | I56: =(1000*H56)/849 -> 425.20612 | J56: 81 | K56: 247 | L56: =(1000*K56)/985 -> 250.76142 | M56: 285 | N56: 137 | O56: 1111
A57: 76 | B57: 2235 | C57: Žan Fridau | D57: Lintvar | E57: SLO | F57: TRIPLE SEVEN GLIDERS ROOK | G57: ata | H57: 469 | I57: =(1000*H57)/849 -> 552.41461 | J57: 92 | K57: 187 | L57: =(1000*K57)/985 -> 189.84772 | M57: 141 | N57: 137 | O57: 1026
A58: 86 | B58: 432 | C58: Dejan Zupanc | D58: KJP Krokar | E58: SLO | F58: MAC-PARA MAGUS XC2 | H58: 140 | I58: =(1000*H58)/849 -> 164.89988 | J58: 239 | K58: 247 | L58: =(1000*K58)/985 -> 250.76142 | M58: 61 | N58: 137 | O58: 824
A59: 90 | B59: 2929 | C59: Urban Purkat | D59: DJP Kovk | E59: SLO | F59: OZONE DELTA 2 | G59: www.topit.si | H59: 620 | I59: =(1000*H59)/849 -> 730.27091 | J59: 0 | L59: =(1000*K59)/985 -> 0 | M59: 0 | N59: 0 | O59: 620
D60: DJP Cumulus | H60: =MAX(H15:H59) -> 849
D61: Adrenalin
D62: DPL Posočje
D63: EOL Celje
D64: DJP Parakrilec
D65: Polet NG
D66: DPL Lesce-Bled
D67: DPL Lesce-Bled

Sheet Skupno-SPORT
D1: Rezultati slovenske lige v preletih z jadralnimi padali SERIAL CLASS | R1: Sezona 2013
B2: Mesto | C2: Name | D2: Glider | E2: T 1 | F2: T 2 | G2: T 3 | H2: T 4 | I2: T 5 | J2: T 6 | K2: T 7 | L2: T 8 | M2: T 9 | N2: T 10 | O2: T 11 | P2: T 12 | Q2: T 13 | R2: T 14 | S2: T 15 | T2: SUM | U2: - | V2: Skupno
B3: 1 | C3: Stojan Kranjc | D3: TRIPLE SEVEN QUEEN | E3: 0 | F3: 0 | G3: 0 | H3: 0 | I3: 0 | J3: 627.79741 | K3: 481 | L3: 526.90355 | M3: 650 | N3: 485 | O3: 1000 | P3: 500 | Q3: 514.56311 | R3: 457.7823 | S3: 784.49144 | T3: =SUM(E3:S3) -> 6027.5378 | U3: 0 | V3: 6028
B4: 3 | C4: Simon Konavec | D4: Nova Mentor 3 | E4: 0 | F4: 0 | G4: 0 | H4: 0 | I4: 0 | J4: 930.50648 | K4: 701 | L4: 561.42132 | M4: 706 | N4: 712 | O4: 0 | P4: 0 | Q4: 521.0356 | R4: 144.45575 | S4: 792.54783 | T4: 5068.967 | U4: 0 | V4: 5068.967
B5: 4 | C5: Miran Fridau | D5: NIVIUK ARTIK 3 | E5: 0 | F5: 0 | G5: 524.25181 | H5: 584.46866 | I5: 306.28803 | J5: 830.38869 | K5: 669 | L5: 552.28426 | M5: 585 | N5: 569 | O5: 0 | P5: 0 | Q5: 0 | R5: 0 | S5: 0 | T5: 4620.6815 | U5: 0 | V5: 4620.6815
B6: 5 | C6: Igor Eržen | D6: MAC-PARA MARVEL | E6: 346.38554 | F6: 297.61905 | G6: 59.855521 | H6: 89.918256 | I6: 59.837728 | J6: 611.30742 | K6: 256 | L6: 514.72081 | M6: 576 | N6: 137 | O6: 0 | P6: 0 | Q6: 469.25566 | R6: 548.32146 | S6: 611.27895 | T6: 4577.5004 | U6: 119.69325 | V6: 4457.8072
B7: 6 | C7: Stane Jakopič | D7: OZONE DELTA 2 | E7: 0 | F7: 0 | G7: 481.94014 | H7: 566.75749 | I7: 565.92292 | J7: 164.89988 | K7: 685 | L7: 698.47716 | M7: 690 | N7: 457 | O7: 0 | P7: 0 | Q7: 0 | R7: 0 | S7: 0 | T7: 4309.9976 | U7: 0 | V7: 4309.9976
B8: 7 | C8: Aljaž Valič | D8: TRIPLE SEVEN QUEEN | E8: 0 | F8: 0 | G8: 0 | H8: 0 | I8: 0 | J8: 1000 | K8: 392 | L8: 953.29949 | M8: 965 | N8: 827 | O8: 0 | P8: 0 | Q8: 0 | R8: 0 | S8: 0 | T8: 4137.2995 | U8: 0 | V8: 4137.2995
B9: 8 | C9: Dušan Durkovič | D9: NOVA MENTOR 3 | E9: 0 | F9: 0 | G9: 0 | H9: 0 | I9: 0 | J9: 921.08363 | K9: 898 | L9: 674.11168 | M9: 707 | N9: 710 | O9: 0 | P9: 0 | Q9: 0 | R9: 0 | S9: 0 | T9: 3910.1953 | U9: 0 | V9: 3910.1953
B10: 9 | C10: Urban Valič | D10: TRIPLE SEVEN QUEEN | E10: 0 | F10: 0 | G10: 0 | H10: 0 | I10: 0 | J10: 983.51001 | K10: 910 | L10: 940.10152 | M10: 206 | N10: 847 | O10: 0 | P10: 0 | Q10: 0 | R10: 0 | S10: 0 | T10: 3886.6115 | U10: 0 | V10: 3886.6115
B11: 10 | C11: Mojca Pišek | D11: NIVIUK ARTIK 3 | E11: 0 | F11: 0 | G11: 0 | H11: 0 | I11: 0 | J11: 552.41461 | K11: 435 | L11: 579.69543 | M11: 541 | N11: 162 | O11: 0 | P11: 0 | Q11: 470.87379 | R11: 525.941 | S11: 514.60222 | T11: 3781.527 | U11: 0 | V11: 3781.527
B12: 11 | C12: Sandi Kristić | D12: OZONE DELTA M | E12: 0 | F12: 0 | G12: 499.484 | H12: 335.14986 | I12: 259.63489 | J12: 601.88457 | K12: 255 | L12: 540.10152 | M12: 518 | N12: 469 | O12: 0 | P12: 0 | Q12: 0 | R12: 0 | S12: 0 | T12: 3478.2548 | U12: 0 | V12: 3478.2548
B13: 12 | C13: Grega Rutar | D13: OZONE DELTA 2 | E13: 327.30924 | F13: 291.66667 | G13: 0 | H13: 0 | I13: 0 | J13: 638.39812 | K13: 380 | L13: 565.48223 | M13: 533 | N13: 137 | O13: 0 | P13: 0 | Q13: 0 | R13: 0 | S13: 0 | T13: 2872.8563 | U13: 0 | V13: 2872.8563
B14: 13 | C14: Damjan Čretnik | D14: NIVIUK ARTIK 3 25 | E14: 0 | F14: 0 | G14: 0 | H14: 0 | I14: 0 | J14: 837.45583 | K14: 686 | L14: 697.46193 | M14: 354 | N14: 274 | O14: 0 | P14: 0 | Q14: 0 | R14: 0 | S14: 0 | T14: 2848.9178 | U14: 0 | V14: 2848.9178
B15: 14 | C15: Toni Pljakoski | D15: OZONE DELTA 2 | E15: 0 | F15: 0 | G15: 501.54799 | H15: 344.68665 | I15: 0 | J15: 699.64664 | K15: 427 | L15: 543.14721 | M15: 0 | N15: 137 | O15: 0 | P15: 0 | Q15: 0 | R15: 0 | S15: 0 | T15: 2653.0285 | U15: 0 | V15: 2653.0285
B16: 15 | C16: Miha Senica | D16: Nova Factor 2 | E16: 0 | F16: 0 | G16: 0 | H16: 0 | I16: 0 | J16: 694.93522 | K16: 426 | L16: 537.05584 | M16: 335 | N16: 562 | O16: 0 | P16: 0 | Q16: 0 | R16: 0 | S16: 0 | T16: 2554.9911 | U16: 0 | V16: 2554.9911
B17: 16 | C17: Peter Kocjan | D17: NIVIUK HOOK 3 | E17: 0 | F17: 0 | G17: 191.95046 | H17: 331.06267 | I17: 508.11359 | J17: 408.71614 | K17: 216 | L17: 350.25381 | M17: 127 | N17: 421 | O17: 0 | P17: 0 | Q17: 0 | R17: 0 | S17: 0 | T17: 2554.0967 | U17: 0 | V17: 2554.0967
B18: 17 | C18: Jernej Štefanec | D18: NIVIUK ARTIK3 | E18: 0 | F18: 0 | G18: 0 | H18: 0 | I18: 0 | J18: 164.89988 | K18: 491 | L18: 541.11675 | M18: 575 | N18: 570 | O18: 0 | P18: 0 | Q18: 0 | R18: 0 | S18: 0 | T18: 2342.0166 | U18: 0 | V18: 2342.0166
B19: 18 | C19: Urban Purkat | D19: OZONE DELTA 2 | E19: 0 | F19: 0 | G19: 530.44376 | H19: 346.04905 | I19: 349.89858 | J19: 730.27091 | K19: 0 | L19: 0 | M19: 0 | N19: 0 | O19: 0 | P19: 0 | Q19: 0 | R19: 0 | S19: 0 | T19: 1956.6623 | U19: 0 | V19: 1956.6623
B20: 19 | C20: Roman Lotrič | D20: NOVA TRITON | E20: 0 | F20: 0 | G20: 523.21981 | H20: 786.10354 | I20: 559.83773 | J20: 0 | K20: 0 | L20: 0 | M20: 0 | N20: 0 | O20: 0 | P20: 0 | Q20: 0 | R20: 0 | S20: 0 | T20: 1869.1611 | U20: 0 | V20: 1869.1611
B21: 20 | C21: Aleš Žumer | D21: OZONE DELTA 2 | E21: 0 | F21: 0 | G21: 552.11558 | H21: 343.32425 | I21: 704.86815 | J21: 0 | K21: 0 | L21: 0 | M21: 0 | N21: 0 | O21: 0 | P21: 0 | Q21: 0 | R21: 0 | S21: 0 | T21: 1600.308 | U21: 0 | V21: 1600.308
B22: 21 | C22: Žan Fridau | D22: TRIPLE SEVEN GLIDERS ROOK | E22: 0 | F22: 0 | G22: 0 | H22: 0 | I22: 0 | J22: 552.41461 | K22: 92 | L22: 189.84772 | M22: 141 | N22: 137 | O22: 0 | P22: 0 | Q22: 0 | R22: 0 | S22: 0 | T22: 1112.2623 | U22: 0 | V22: 1112.2623
B23: 22 | C23: Rok Lotrič | D23: TRIPLE SEVEN GLIDERS ROOK | E23: 0 | F23: 0 | G23: 216.71827 | H23: 341.96185 | I23: 500 | J23: 0 | K23: 0 | L23: 0 | M23: 0 | N23: 0 | O23: 0 | P23: 0 | Q23: 0 | R23: 0 | S23: 0 | T23: 1058.6801 | U23: 0 | V23: 1058.6801
B24: 23 | C24: Špela Šterk | D24: NOVA MENTOR 2 | E24: 0 | F24: 0 | G24: 0 | H24: 0 | I24: 0 | J24: 0 | K24: 0 | L24: 0 | M24: 0 | N24: 0 | O24: 0 | P24: 0 | Q24: 380.2589 | R24: 188.19939 | S24: 279.95972 | T24: 848.41801 | U24: 0 | V24: 848.41801
B25: 24 | C25: Tomaž Veber | D25: NOVA FACTOR 2 | E25: 0 | F25: 0 | G25: 59.855521 | H25: 295.64033 | I25: 292.08925 | J25: 0 | K25: 0 | L25: 0 | M25: 0 | N25: 0 | O25: 0 | P25: 0 | Q25: 0 | R25: 0 | S25: 0 | T25: 647.5851 | U25: 0 | V25: 647.5851
B26: 25 | C26: Peter Frelih | D26: NOVA FACTOR 2 | E26: 0 | F26: 0 | G26: 198.14241 | H26: 341.96185 | I26: 0 | J26: 0 | K26: 0 | L26: 0 | M26: 0 | N26: 0 | O26: 0 | P26: 0 | Q26: 0 | R26: 0 | S26: 0 | T26: 540.10427 | U26: 0 | V26: 540.10427
B27: 26 | C27: Aljaž Sajovic | D27: MAC-PARA EDEN 5 | E27: 0 | F27: 0 | G27: 59.855521 | H27: 292.91553 | I27: 59.837728 | J27: 0 | K27: 0 | L27: 0 | M27: 0 | N27: 0 | O27: 0 | P27: 0 | Q27: 0 | R27: 0 | S27: 0 | T27: 412.60878 | U27: 0 | V27: 412.60878
B28: 27 | C28: Matic Egart | D28: MAC-PARA EDEN 5 | E28: 0 | F28: 0 | G28: 0 | H28: 361.03542 | I28: 0 | J28: 0 | K28: 0 | L28: 0 | M28: 0 | N28: 0 | O28: 0 | P28: 0 | Q28: 0 | R28: 0 | S28: 0 | T28: 361.03542 | U28: 0 | V28: 361.03542
B29: 28 | C29: Nikolaj Činku | D29: MAC-PARA MARVEL | E29: 0 | F29: 0 | G29: 0 | H29: 196.18529 | I29: 120.68966 | J29: 0 | K29: 0 | L29: 0 | M29: 0 | N29: 0 | O29: 0 | P29: 0 | Q29: 0 | R29: 0 | S29: 0 | T29: 316.87494 | U29: 0 | V29: 316.87494

Sheet Skupno-FUN
D1: Rezultati slovenske lige v preletih z jadralnimi padali FUN CLASS | R1: Sezona 2013
B2: Mesto | C2: Name | D2: Glider | E2: T 1 | F2: T 2 | G2: T 3 | H2: T 4 | I2: T 5 | J2: T 6 | K2: T 7 | L2: T 8 | M2: T 9 | N2: T 10 | O2: T 11 | P2: T 12 | Q2: T 13 | R2: T 14 | S2: T 15 | T2: SUM | U2: - | V2: Skupno
B3: 1 | C3: Simon Konavec | D3: Nova Mentor 3 | E3: =IFERROR(VLOOKUP(Tabela225[[#This Row],[Name]],#REF!,7,FALSE),"0") -> 0 | F3: =IFERROR(VLOOKUP(Tabela225[[#This Row],[Name]],#REF!,9,FALSE),"0") -> 0 | G3: =IFERROR(VLOOKUP(Tabela225[[#This Row],[Name]],#REF!,7,FALSE),"0") -> 0 | H3: =IFERROR(VLOOKUP(Tabela225[[#This Row],[Name]],#REF!,9,FALSE),"0") -> 0 | I3: =IFERROR(VLOOKUP(Tabela225[[#This Row],[Name]],#REF!,11,FALSE),"0") -> 0 | J3: =IFERROR(VLOOKUP(Tabela225[[#This Row],[Name]],DP!$C$15:$N$59,7,FALSE),"0") -> 930.50648 | K3: =IFERROR(VLOOKUP(Tabela225[[#This Row],[Name]],DP!$C$15:$N$59,8,FALSE),"0") -> 701 | L3: =IFERROR(VLOOKUP(Tabela225[[#This Row],[Name]],DP!$C$15:$N$59,10,FALSE),"0") -> 561.42132 | M3: =IFERROR(VLOOKUP(Tabela225[[#This Row],[Name]],DP!$C$15:$N$59,11,FALSE),"0") -> 706 | N3: =IFERROR(VLOOKUP(Tabela225[[#This Row],[Name]],DP!$C$15:$N$59,12,FALSE),"0") -> 712 | O3: 0 | P3: 0 | Q3: =IFERROR(VLOOKUP(Tabela225[[#This Row],[Name]],#REF!,6,FALSE),"0") -> 0 | R3: =IFERROR(VLOOKUP(Tabela225[[#This Row],[Name]],#REF!,8,FALSE),"0") -> 0 | S3: =IFERROR(VLOOKUP(Tabela225[[#This Row],[Name]],#REF!,10,FALSE),"0") -> 0 | T3: =SUM(E3:S3) -> 3610.9278 | U3: 0 | V3: =T3-U3 -> 3610.9278
B4: 2 | C4: Dušan Durkovič | D4: NOVA MENTOR 3 | E4: =IFERROR(VLOOKUP(Tabela225[[#This Row],[Name]],#REF!,7,FALSE),"0") -> 0 | F4: =IFERROR(VLOOKUP(Tabela225[[#This Row],[Name]],#REF!,9,FALSE),"0") -> 0 | G4: =IFERROR(VLOOKUP(Tabela225[[#This Row],[Name]],#REF!,7,FALSE),"0") -> 0 | H4: =IFERROR(VLOOKUP(Tabela225[[#This Row],[Name]],#REF!,9,FALSE),"0") -> 0 | I4: =IFERROR(VLOOKUP(Tabela225[[#This Row],[Name]],#REF!,11,FALSE),"0") -> 0 | J4: =IFERROR(VLOOKUP(Tabela225[[#This Row],[Name]],DP!$C$15:$N$59,7,FALSE),"0") -> 921.08363 | K4: =IFERROR(VLOOKUP(Tabela225[[#This Row],[Name]],DP!$C$15:$N$59,8,FALSE),"0") -> 898 | L4: =IFERROR(VLOOKUP(Tabela225[[#This Row],[Name]],DP!$C$15:$N$59,10,FALSE),"0") -> 674.11168 | M4: =IFERROR(VLOOKUP(Tabela225[[#This Row],[Name]],DP!$C$15:$N$59,11,FALSE),"0") -> 707 | N4: =IFERROR(VLOOKUP(Tabela225[[#This Row],[Name]],DP!$C$15:$N$59,12,FALSE),"0") -> 710 | O4: 0 | P4: 0 | Q4: =IFERROR(VLOOKUP(Tabela225[[#This Row],[Name]],#REF!,6,FALSE),"0") -> 0 | R4: =IFERROR(VLOOKUP(Tabela225[[#This Row],[Name]],#REF!,8,FALSE),"0") -> 0 | S4: =IFERROR(VLOOKUP(Tabela225[[#This Row],[Name]],#REF!,10,FALSE),"0") -> 0 | T4: =SUM(E4:S4) -> 3910.1953 | U4: 0 | V4: =T4-U4 -> 3910.1953
B5: 3 | C5: Peter Kocjan | D5: NIVIUK HOOK 3 | E5: =IFERROR(VLOOKUP(Tabela225[[#This Row],[Name]],#REF!,7,FALSE),"0") -> 0 | F5: =IFERROR(VLOOKUP(Tabela225[[#This Row],[Name]],#REF!,9,FALSE),"0") -> 0 | G5: =IFERROR(VLOOKUP(Tabela225[[#This Row],[Name]],#REF!,7,FALSE),"0") -> 0 | H5: =IFERROR(VLOOKUP(Tabela225[[#This Row],[Name]],#REF!,9,FALSE),"0") -> 0 | I5: =IFERROR(VLOOKUP(Tabela225[[#This Row],[Name]],#REF!,11,FALSE),"0") -> 0 | J5: =IFERROR(VLOOKUP(Tabela225[[#This Row],[Name]],DP!$C$15:$N$59,7,FALSE),"0") -> 408.71614 | K5: =IFERROR(VLOOKUP(Tabela225[[#This Row],[Name]],DP!$C$15:$N$59,8,FALSE),"0") -> 216 | L5: =IFERROR(VLOOKUP(Tabela225[[#This Row],[Name]],DP!$C$15:$N$59,10,FALSE),"0") -> 350.25381 | M5: =IFERROR(VLOOKUP(Tabela225[[#This Row],[Name]],DP!$C$15:$N$59,11,FALSE),"0") -> 127 | N5: =IFERROR(VLOOKUP(Tabela225[[#This Row],[Name]],DP!$C$15:$N$59,12,FALSE),"0") -> 421 | O5: 0 | P5: 0 | Q5: =IFERROR(VLOOKUP(Tabela225[[#This Row],[Name]],#REF!,6,FALSE),"0") -> 0 | R5: =IFERROR(VLOOKUP(Tabela225[[#This Row],[Name]],#REF!,8,FALSE),"0") -> 0 | S5: =IFERROR(VLOOKUP(Tabela225[[#This Row],[Name]],#REF!,10,FALSE),"0") -> 0 | T5: =SUM(E5:S5) -> 1522.9699 | U5: 0 | V5: =T5-U5 -> 1522.9699
B6: 4 | C6: Žan Fridau | D6: TRIPLE SEVEN GLIDERS ROOK | E6: =IFERROR(VLOOKUP(Tabela225[[#This Row],[Name]],#REF!,7,FALSE),"0") -> 0 | F6: =IFERROR(VLOOKUP(Tabela225[[#This Row],[Name]],#REF!,9,FALSE),"0") -> 0 | G6: =IFERROR(VLOOKUP(Tabela225[[#This Row],[Name]],#REF!,7,FALSE),"0") -> 0 | H6: =IFERROR(VLOOKUP(Tabela225[[#This Row],[Name]],#REF!,9,FALSE),"0") -> 0 | I6: =IFERROR(VLOOKUP(Tabela225[[#This Row],[Name]],#REF!,11,FALSE),"0") -> 0 | J6: =IFERROR(VLOOKUP(Tabela225[[#This Row],[Name]],DP!$C$15:$N$59,7,FALSE),"0") -> 552.41461 | K6: =IFERROR(VLOOKUP(Tabela225[[#This Row],[Name]],DP!$C$15:$N$59,8,FALSE),"0") -> 92 | L6: =IFERROR(VLOOKUP(Tabela225[[#This Row],[Name]],DP!$C$15:$N$59,10,FALSE),"0") -> 189.84772 | M6: =IFERROR(VLOOKUP(Tabela225[[#This Row],[Name]],DP!$C$15:$N$59,11,FALSE),"0") -> 141 | N6: =IFERROR(VLOOKUP(Tabela225[[#This Row],[Name]],DP!$C$15:$N$59,12,FALSE),"0") -> 137 | O6: 0 | P6: 0 | Q6: =IFERROR(VLOOKUP(Tabela225[[#This Row],[Name]],#REF!,6,FALSE),"0") -> 0 | R6: =IFERROR(VLOOKUP(Tabela225[[#This Row],[Name]],#REF!,8,FALSE),"0") -> 0 | S6: =IFERROR(VLOOKUP(Tabela225[[#This Row],[Name]],#REF!,10,FALSE),"0") -> 0 | T6: =SUM(E6:S6) -> 1112.2623 | U6: 0 | V6: =T6-U6 -> 1112.2623
B7: 5 | C7: Rok Lotrič | D7: TRIPLE SEVEN GLIDERS ROOK | E7: =IFERROR(VLOOKUP(Tabela225[[#This Row],[Name]],#REF!,7,FALSE),"0") -> 0 | F7: =IFERROR(VLOOKUP(Tabela225[[#This Row],[Name]],#REF!,9,FALSE),"0") -> 0 | G7: =IFERROR(VLOOKUP(Tabela225[[#This Row],[Name]],#REF!,7,FALSE),"0") -> 0 | H7: =IFERROR(VLOOKUP(Tabela225[[#This Row],[Name]],#REF!,9,FALSE),"0") -> 0 | I7: =IFERROR(VLOOKUP(Tabela225[[#This Row],[Name]],#REF!,11,FALSE),"0") -> 0 | J7: =IFERROR(VLOOKUP(Tabela225[[#This Row],[Name]],DP!$C$15:$N$59,7,FALSE),"0") -> 0 | K7: =IFERROR(VLOOKUP(Tabela225[[#This Row],[Name]],DP!$C$15:$N$59,8,FALSE),"0") -> 0 | L7: =IFERROR(VLOOKUP(Tabela225[[#This Row],[Name]],DP!$C$15:$N$59,10,FALSE),"0") -> 0 | M7: =IFERROR(VLOOKUP(Tabela225[[#This Row],[Name]],DP!$C$15:$N$59,11,FALSE),"0") -> 0 | N7: =IFERROR(VLOOKUP(Tabela225[[#This Row],[Name]],DP!$C$15:$N$59,12,FALSE),"0") -> 0 | O7: 0 | P7: 0 | Q7: =IFERROR(VLOOKUP(Tabela225[[#This Row],[Name]],#REF!,6,FALSE),"0") -> 0 | R7: =IFERROR(VLOOKUP(Tabela225[[#This Row],[Name]],#REF!,8,FALSE),"0") -> 0 | S7: =IFERROR(VLOOKUP(Tabela225[[#This Row],[Name]],#REF!,10,FALSE),"0") -> 0 | T7: =SUM(E7:S7) -> 0 | U7: 0 | V7: =T7-U7 -> 0
B8: 6 | C8: Špela Šterk | D8: NOVA MENTOR 2 | E8: =IFERROR(VLOOKUP(Tabela225[[#This Row],[Name]],#REF!,7,FALSE),"0") -> 0 | F8: =IFERROR(VLOOKUP(Tabela225[[#This Row],[Name]],#REF!,9,FALSE),"0") -> 0 | G8: =IFERROR(VLOOKUP(Tabela225[[#This Row],[Name]],#REF!,7,FALSE),"0") -> 0 | H8: =IFERROR(VLOOKUP(Tabela225[[#This Row],[Name]],#REF!,9,FALSE),"0") -> 0 | I8: =IFERROR(VLOOKUP(Tabela225[[#This Row],[Name]],#REF!,11,FALSE),"0") -> 0 | J8: =IFERROR(VLOOKUP(Tabela225[[#This Row],[Name]],DP!$C$15:$N$59,7,FALSE),"0") -> 0 | K8: =IFERROR(VLOOKUP(Tabela225[[#This Row],[Name]],DP!$C$15:$N$59,8,FALSE),"0") -> 0 | L8: =IFERROR(VLOOKUP(Tabela225[[#This Row],[Name]],DP!$C$15:$N$59,10,FALSE),"0") -> 0 | M8: =IFERROR(VLOOKUP(Tabela225[[#This Row],[Name]],DP!$C$15:$N$59,11,FALSE),"0") -> 0 | N8: =IFERROR(VLOOKUP(Tabela225[[#This Row],[Name]],DP!$C$15:$N$59,12,FALSE),"0") -> 0 | O8: 0 | P8: 0 | Q8: =IFERROR(VLOOKUP(Tabela225[[#This Row],[Name]],#REF!,6,FALSE),"0") -> 0 | R8: =IFERROR(VLOOKUP(Tabela225[[#This Row],[Name]],#REF!,8,FALSE),"0") -> 0 | S8: =IFERROR(VLOOKUP(Tabela225[[#This Row],[Name]],#REF!,10,FALSE),"0") -> 0 | T8: =SUM(E8:S8) -> 0 | U8: 0 | V8: =T8-U8 -> 0
B9: 7 | C9: Aljaž Sajovic | D9: MAC-PARA EDEN 5 | E9: =IFERROR(VLOOKUP(Tabela225[[#This Row],[Name]],#REF!,7,FALSE),"0") -> 0 | F9: =IFERROR(VLOOKUP(Tabela225[[#This Row],[Name]],#REF!,9,FALSE),"0") -> 0 | G9: =IFERROR(VLOOKUP(Tabela225[[#This Row],[Name]],#REF!,7,FALSE),"0") -> 0 | H9: =IFERROR(VLOOKUP(Tabela225[[#This Row],[Name]],#REF!,9,FALSE),"0") -> 0 | I9: =IFERROR(VLOOKUP(Tabela225[[#This Row],[Name]],#REF!,11,FALSE),"0") -> 0 | J9: =IFERROR(VLOOKUP(Tabela225[[#This Row],[Name]],DP!$C$15:$N$59,7,FALSE),"0") -> 0 | K9: =IFERROR(VLOOKUP(Tabela225[[#This Row],[Name]],DP!$C$15:$N$59,8,FALSE),"0") -> 0 | L9: =IFERROR(VLOOKUP(Tabela225[[#This Row],[Name]],DP!$C$15:$N$59,10,FALSE),"0") -> 0 | M9: =IFERROR(VLOOKUP(Tabela225[[#This Row],[Name]],DP!$C$15:$N$59,11,FALSE),"0") -> 0 | N9: =IFERROR(VLOOKUP(Tabela225[[#This Row],[Name]],DP!$C$15:$N$59,12,FALSE),"0") -> 0 | O9: 0 | P9: 0 | Q9: =IFERROR(VLOOKUP(Tabela225[[#This Row],[Name]],#REF!,6,FALSE),"0") -> 0 | R9: =IFERROR(VLOOKUP(Tabela225[[#This Row],[Name]],#REF!,8,FALSE),"0") -> 0 | S9: =IFERROR(VLOOKUP(Tabela225[[#This Row],[Name]],#REF!,10,FALSE),"0") -> 0 | T9: =SUM(E9:S9) -> 0 | U9: 0 | V9: =T9-U9 -> 0
B10: 8 | C10: Matic Egart | D10: MAC-PARA EDEN 5 | E10: =IFERROR(VLOOKUP(Tabela225[[#This Row],[Name]],#REF!,7,FALSE),"0") -> 0 | F10: =IFERROR(VLOOKUP(Tabela225[[#This Row],[Name]],#REF!,9,FALSE),"0") -> 0 | G10: =IFERROR(VLOOKUP(Tabela225[[#This Row],[Name]],#REF!,7,FALSE),"0") -> 0 | H10: =IFERROR(VLOOKUP(Tabela225[[#This Row],[Name]],#REF!,9,FALSE),"0") -> 0 | I10: =IFERROR(VLOOKUP(Tabela225[[#This Row],[Name]],#REF!,11,FALSE),"0") -> 0 | J10: =IFERROR(VLOOKUP(Tabela225[[#This Row],[Name]],DP!$C$15:$N$59,7,FALSE),"0") -> 0 | K10: =IFERROR(VLOOKUP(Tabela225[[#This Row],[Name]],DP!$C$15:$N$59,8,FALSE),"0") -> 0 | L10: =IFERROR(VLOOKUP(Tabela225[[#This Row],[Name]],DP!$C$15:$N$59,10,FALSE),"0") -> 0 | M10: =IFERROR(VLOOKUP(Tabela225[[#This Row],[Name]],DP!$C$15:$N$59,11,FALSE),"0") -> 0 | N10: =IFERROR(VLOOKUP(Tabela225[[#This Row],[Name]],DP!$C$15:$N$59,12,FALSE),"0") -> 0 | O10: 0 | P10: 0 | Q10: =IFERROR(VLOOKUP(Tabela225[[#This Row],[Name]],#REF!,6,FALSE),"0") -> 0 | R10: =IFERROR(VLOOKUP(Tabela225[[#This Row],[Name]],#REF!,8,FALSE),"0") -> 0 | S10: =IFERROR(VLOOKUP(Tabela225[[#This Row],[Name]],#REF!,10,FALSE),"0") -> 0 | T10: =SUM(E10:S10) -> 0 | U10: 0 | V10: =T10-U10 -> 0

Sheet PWC
A1: Report created: 2014-03-30T18:54:19+02:00
A3: PARAGLIDING WINTER CUP 2014
A5: 2014-03-26 to 2014-03-30
A7: Overall
A9: Total results
A11: Provisional
A13: Task | B13: Date | C13: Distance
A14: T1 TASK 1 | B14: 2014-03-28 12:00 | C14: 55,1 km | D14: Race to Goal with 1 startgate(s)
A15: T2 TASK 2 | B15: 2014-03-29 12:25 | C15: 99,8 km | D15: Race to Goal with 1 startgate(s)
A16: T3 Task 3 | B16: 2014-03-30 12:45 | C16: 66,8 km | D16: Race to Goal with 1 startgate(s)
A18: # | B18: Id | C18: Name | D18: Klub | E18: Nat | F18: Glider | G18: Sponsor | H18: T 1 | I18: T1 NOR | J18: T 2 | K18: T2 NOR | L18: T 3 | M18: T3 NOR | N18: Total | Q18: Mesto | R18: Klub | S18: T1 | T18: T2 | U18: T3 | V18: Skupno
A19: 1 | B19: 148 | C19: Dušan Orož | D19: DJP Kajuh | E19: SLO | F19: OZONE EN2O | H19: 52 | I19: =(H19*500)/54 -> 481.48148 | J19: 945 | K19: =(J19*1000)/957 -> 987.46082 | L19: 900 | M19: =L19*1000/997 -> 902.70812 | N19: 1897 | Q19: 1 | R19: DJP Kajuh | S19: {=SUM(LARGE(IF(Klub=$R19,T1_NOR,""),{1;2;3}))} -> 481.48148 | T19: {=SUM(LARGE(IF(Klub=$R19,T2_NOR,""),{1;2;3}))} -> 987.46082 | U19: {=SUM(LARGE(IF(Klub=$R19,T3_NOR,""),{1;2;3}))} -> 902.70812 | V19: =SUM(S19:U19) -> 2371.6504
A20: 2 | B20: 217 | C20: Bojan Gaberšek | D20: KL Vrhnika | E20: SLO | F20: NIVIUK ICEPEAK 6 | H20: 50 | I20: =(H20*500)/54 -> 462.96296 | J20: 945 | K20: =(J20*1000)/957 -> 987.46082 | L20: 891 | M20: =L20*1000/997 -> 893.68104 | N20: 1886 | Q20: 2 | R20: KL Vrhnika | S20: {=SUM(LARGE(IF(Klub=$R20,T1_NOR,""),{1;2;3}))} -> 1407.4074 | T20: {=SUM(LARGE(IF(Klub=$R20,T2_NOR,""),{1;2;3}))} -> 2410.6583 | U20: {=SUM(LARGE(IF(Klub=$R20,T3_NOR,""),{1;2;3}))} -> 2816.4493 | V20: =SUM(S20:U20) -> 6634.5151
A21: 3 | B21: 378 | C21: Jože Molek | D21: DJP Cumulus | E21: SLO | F21: OZONE ENZO2 | H21: 40 | I21: =(H21*500)/54 -> 370.37037 | J21: 957 | K21: =(J21*1000)/957 -> 1000 | L21: 756 | M21: =L21*1000/997 -> 758.27482 | N21: 1753 | Q21: 3 | R21: DJP Cumulus | S21: {=SUM(LARGE(IF(Klub=$R21,T1_NOR,""),{1;2;3}))} -> 370.37037 | T21: {=SUM(LARGE(IF(Klub=$R21,T2_NOR,""),{1;2;3}))} -> 1469.1745 | U21: {=SUM(LARGE(IF(Klub=$R21,T3_NOR,""),{1;2;3}))} -> 1276.8305 | V21: =SUM(S21:U21) -> 3116.3754
A22: 4 | B22: 230973 | C22: Tilen Ceglar | D22: DJP Metulj | E22: SLO | F22: Ozone Enzo 2 | H22: 51 | I22: =(H22*500)/54 -> 472.22222 | J22: 710 | K22: =(J22*1000)/957 -> 741.90178 | L22: 959 | M22: =L22*1000/997 -> 961.88566 | N22: 1720 | Q22: 4 | R22: DJP Metulj | S22: {=SUM(LARGE(IF(Klub=$R22,T1_NOR,""),{1;2;3}))} -> 1305.5556 | T22: {=SUM(LARGE(IF(Klub=$R22,T2_NOR,""),{1;2;3}))} -> 2161.9645 | U22: {=SUM(LARGE(IF(Klub=$R22,T3_NOR,""),{1;2;3}))} -> 1989.9699 | V22: =SUM(S22:U22) -> 5457.4899
A23: 5 | B23: 17 | C23: Jurij Vidic | D23: KL Vrhnika | E23: SVN | F23: OZONE ENZO | G23: Agring | H23: 51 | I23: =(H23*500)/54 -> 472.22222 | J23: 671 | K23: =(J23*1000)/957 -> 701.14943 | L23: 997 | M23: =L23*1000/997 -> 1000 | N23: 1719 | Q23: 5 | R23: DJP Kovk | S23: {=SUM(LARGE(IF(Klub=$R23,T1_NOR,""),{1;2;3}))} -> 935.18519 | T23: {=SUM(LARGE(IF(Klub=$R23,T2_NOR,""),{1;2;3}))} -> 1810.8673 | U23: {=SUM(LARGE(IF(Klub=$R23,T3_NOR,""),{1;2;3}))} -> 1770.3109 | V23: =SUM(S23:U23) -> 4516.3634
A24: 6 | B24: 214 | C24: Aljaž Valič | D24: DJP Kovk | E24: SLO | F24: TRIPLE SEVEN GLIDERS QUEEN | G24: TripleSeven Gliders | H24: 40 | I24: =(H24*500)/54 -> 370.37037 | J24: 697 | K24: =(J24*1000)/957 -> 728.31766 | L24: 855 | M24: =L24*1000/997 -> 857.57272 | N24: 1592 | Q24: 6 | R24: KJP Krokar | S24: {=SUM(LARGE(IF(Klub=$R24,T1_NOR,""),{1;2;3}))} -> 1277.7778 | T24: {=SUM(LARGE(IF(Klub=$R24,T2_NOR,""),{1;2;3}))} -> 2179.7283 | U24: {=SUM(LARGE(IF(Klub=$R24,T3_NOR,""),{1;2;3}))} -> 1802.4072 | V24: =SUM(S24:U24) -> 5259.9133
A25: 7 | B25: 7 | C25: Dušan Durkovič | D25: DJP Metulj | E25: SLO | F25: NOVA TRITON | H25: 50 | I25: =(H25*500)/54 -> 462.96296 | J25: 727 | K25: =(J25*1000)/957 -> 759.66562 | L25: 732 | M25: =L25*1000/997 -> 734.20261 | N25: 1509 | Q25: 7 | R25: Lintvar | S25: {=SUM(LARGE(IF(Klub=$R25,T1_NOR,""),{1;2;3}))} -> 1250 | T25: {=SUM(LARGE(IF(Klub=$R25,T2_NOR,""),{1;2;3}))} -> 1471.2644 | U25: {=SUM(LARGE(IF(Klub=$R25,T3_NOR,""),{1;2;3}))} -> 1772.317 | V25: =SUM(S25:U25) -> 4493.5813
A26: 8 | B26: 5 | C26: Tomaž Eržen | D26: KJP Krokar | E26: SLO | F26: OZONE ENZO | G26: www.GearForFly.com, www.pronet-kr.si | H26: 54 | I26: =(H26*500)/54 -> 500 | J26: 739 | K26: =(J26*1000)/957 -> 772.20481 | L26: 679 | M26: =L26*1000/997 -> 681.04313 | N26: 1472 | Q26: 8 | R26: Polet Kamnik | S26: {=SUM(LARGE(IF(Klub=$R26,T1_NOR,""),{1;2;3}))} -> 555.55556 | T26: {=SUM(LARGE(IF(Klub=$R26,T2_NOR,""),{1;2;3}))} -> 518.28631 | U26: {=SUM(LARGE(IF(Klub=$R26,T3_NOR,""),{1;2;3}))} -> 476.42929 | V26: =SUM(S26:U26) -> 1550.2712
A27: 9 | B27: 6 | C27: Anže Pristov | D27: Lintvar | E27: SVN | F27: NIVIUK ICEPEAK 6 | G27: be-xtreme.eu | H27: 51 | I27: =(H27*500)/54 -> 472.22222 | J27: 671 | K27: =(J27*1000)/957 -> 701.14943 | L27: 692 | M27: =L27*1000/997 -> 694.08225 | N27: 1414 | Q27: 9 | R27: DJP Parakrilec | S27: {=SUM(LARGE(IF(Klub=$R27,T1_NOR,""),{1;2;3}))} -> 277.77778 | T27: {=SUM(LARGE(IF(Klub=$R27,T2_NOR,""),{1;2;3}))} -> 321.83908 | U27: {=SUM(LARGE(IF(Klub=$R27,T3_NOR,""),{1;2;3}))} -> 440.32096 | V27: =SUM(S27:U27) -> 1039.9378
A28: 10 | B28: 90 | C28: Marko Novak | D28: KL Vrhnika | E28: SLO | F28: OZONE ENZO | G28: nowa d.o.o. | H28: 30 | I28: =(H28*500)/54 -> 277.77778 | J28: 691 | K28: =(J28*1000)/957 -> 722.04807 | L28: 692 | M28: =L28*1000/997 -> 694.08225 | N28: 1413 | Q28: 10 | R28: Adrenalin | S28: {=SUM(LARGE(IF(Klub=$R28,T1_NOR,""),{1;2;3}))} -> 555.55556 | T28: {=SUM(LARGE(IF(Klub=$R28,T2_NOR,""),{1;2;3}))} -> 655.17241 | U28: {=SUM(LARGE(IF(Klub=$R28,T3_NOR,""),{1;2;3}))} -> 628.88666 | V28: =SUM(S28:U28) -> 1839.6146
A29: 11 | B29: 29 | C29: Primož Suša | D29: KL Vrhnika | E29: SLO | F29: OZONE ENZO | G29: camp-gabrje.com | H29: 51 | I29: =(H29*500)/54 -> 472.22222 | J29: 430 | K29: =(J29*1000)/957 -> 449.32079 | L29: 920 | M29: =L29*1000/997 -> 922.7683 | N29: 1401 | Q29: 11 | R29: DPL Ikar SG | S29: {=SUM(LARGE(IF(Klub=$R29,T1_NOR,""),{1;2;3}))} -> #NUM! | T29: {=SUM(LARGE(IF(Klub=$R29,T2_NOR,""),{1;2;3}))} -> #NUM! | U29: {=SUM(LARGE(IF(Klub=$R29,T3_NOR,""),{1;2;3}))} -> #NUM! | V29: =SUM(S29:U29) -> #NUM!
A30: 12 | B30: 549 | C30: Miha Kavčič | D30: KJP Krokar | E30: SLO | F30: NIVIUK ICEPEAK 6 | G30: Moj Tošl | H30: 43 | I30: =(H30*500)/54 -> 398.14815 | J30: 752 | K30: =(J30*1000)/957 -> 785.78892 | L30: 531 | M30: =L30*1000/997 -> 532.59779 | N30: 1326 | Q30: 12 | R30: DPL Posočje | S30: {=SUM(LARGE(IF(Klub=$R30,T1_NOR,""),{1;2;3}))} -> 277.77778 | T30: {=SUM(LARGE(IF(Klub=$R30,T2_NOR,""),{1;2;3}))} -> 449.32079 | U30: {=SUM(LARGE(IF(Klub=$R30,T3_NOR,""),{1;2;3}))} -> 152.45737 | V30: =SUM(S30:U30) -> 879.55594
A31: 13 | B31: 81 | C31: Klemen Peljhan | D31: KJP Krokar | E31: SLO | F31: MACPARA MARVEL | G31: Bowling City | H31: 41 | I31: =(H31*500)/54 -> 379.62963 | J31: 595 | K31: =(J31*1000)/957 -> 621.73459 | L31: 587 | M31: =L31*1000/997 -> 588.7663 | N31: 1223 | Q31: 13 | R31: Albatros Celje | S31: {=SUM(LARGE(IF(Klub=$R31,T1_NOR,""),{1;2;3}))} -> 277.77778 | T31: {=SUM(LARGE(IF(Klub=$R31,T2_NOR,""),{1;2;3}))} -> 197.49216 | U31: {=SUM(LARGE(IF(Klub=$R31,T3_NOR,""),{1;2;3}))} -> 125.37613 | V31: =SUM(S31:U31) -> 600.64607
A32: 14 | B32: 1719 | C32: Boštjan Poročnik | D32: KL Vrhnika | E32: SLO | F32: OZONE MANTRA 6 | G32: Lajka d.o.o. | H32: 47 | I32: =(H32*500)/54 -> 435.18519 | J32: 321 | K32: =(J32*1000)/957 -> 335.4232 | L32: 741 | M32: =L32*1000/997 -> 743.22969 | N32: 1109
A33: 15 | B33: 568 | C33: Tomaž Toplak | D33: KL Vrhnika | E33: SLO | F33: NIVIUK IC6 | G33: ardi INT d.o.o. | H33: 30 | I33: =(H33*500)/54 -> 277.77778 | J33: 425 | K33: =(J33*1000)/957 -> 444.09613 | L33: 599 | M33: =L33*1000/997 -> 600.80241 | N33: 1054
A34: 16 | B34: 73 | C34: Damjan Čretnik | D34: Lintvar | E34: SVN | F34: NIVIUK ICEPEAK 7 | G34: www.jadralno-padalstvo.si | H34: 54 | I34: =(H34*500)/54 -> 500 | J34: 305 | K34: =(J34*1000)/957 -> 318.70428 | L34: 638 | M34: =L34*1000/997 -> 639.91976 | N34: 997
A35: 17 | B35: 27 | C35: Rok Golob | D35: DJP Cumulus | E35: SLO | F35: OZONE MANTRA 6 | G35: Krka d.d. | I35: =(H35*500)/54 -> 0 | J35: 449 | K35: =(J35*1000)/957 -> 469.1745 | L35: 517 | M35: =L35*1000/997 -> 518.55567 | N35: 966
A36: 18 | B36: 523 | C36: Jošt Napret | D36: DJP Metulj | E36: SLO | F36: OZONE ENZO2 | G36: www.naviter.com | H36: 40 | I36: =(H36*500)/54 -> 370.37037 | J36: 632 | K36: =(J36*1000)/957 -> 660.39707 | L36: 293 | M36: =L36*1000/997 -> 293.88164 | N36: 965
A37: 19 | B37: 8790 | C37: Luka Slak | D37: Polet Kamnik | E37: SLO | F37: OZONE MANTRA M6 | H37: 30 | I37: =(H37*500)/54 -> 277.77778 | J37: 427 | K37: =(J37*1000)/957 -> 446.186 | L37: 475 | M37: =L37*1000/997 -> 476.42929 | N37: 932
A38: 20 | B38: 748 | C38: Stojan Kranjc | D38: DJP Kovk | E38: SLO | F38: TRIPLE SEVEN GLIDERS QUEEN | H38: 30 | I38: =(H38*500)/54 -> 277.77778 | J38: 422 | K38: =(J38*1000)/957 -> 440.96134 | L38: 471 | M38: =L38*1000/997 -> 472.41725 | N38: 923
A39: 21 | B39: 414 | C39: Urban Valič | D39: DJP Kovk | E39: SLO | F39: TRIPLE SEVEN GLIDERS QUEEN | G39: Triple Seven Gliders | H39: 0 | I39: =(H39*500)/54 -> 0 | J39: 614 | K39: =(J39*1000)/957 -> 641.5883 | L39: 292 | M39: =L39*1000/997 -> 292.87864 | N39: 906
A40: 22 | B40: 36030 | C40: Mitja Jug | D40: KL Vrhnika | E40: SLO | F40: GIN-GLIDERS CARRERA | G40: Guštanj d.o.o. | H40: 30 | I40: =(H40*500)/54 -> 277.77778 | J40: 373 | K40: =(J40*1000)/957 -> 389.75967 | L40: 454 | M40: =L40*1000/997 -> 455.3661 | N40: 857
A41: 23 | B41: 230975 | C41: Boštjan Svetlin | D41: KJP Krokar | E41: SLO | F41: TRIPLE SEVEN GLIDERS QUEEN | I41: =(H41*500)/54 -> 0 | J41: 424 | K41: =(J41*1000)/957 -> 443.0512 | L41: 430 | M41: =L41*1000/997 -> 431.29388 | N41: 854
A42: 24 | B42: 126 | C42: Miha Slamič | D42: DJP Kovk | E42: SLO | F42: TRIPLE SEVEN GLIDERS QUEEN | G42: Triple Seven Gliders; Polet Nova Gorica | H42: 31 | I42: =(H42*500)/54 -> 287.03704 | J42: 354 | K42: =(J42*1000)/957 -> 369.90596 | L42: 439 | M42: =L42*1000/997 -> 440.32096 | N42: 824
A43: 25 | B43: 24 | C43: Igor Eržen | D43: KJP Krokar | E43: SLO | F43: MAC-PARA ELAN | G43: Hotel Creina d.o.o., GBD d.d., Balinoa d.o.o. | H43: 41 | I43: =(H43*500)/54 -> 379.62963 | J43: 427 | K43: =(J43*1000)/957 -> 446.186 | L43: 313 | M43: =L43*1000/997 -> 313.94183 | N43: 781
A44: 26 | B44: 321 | C44: Branko Žnuderl | D44: DJP Parakrilec | E44: SLO | F44: OZONE MANTRA M6 | G44: RM PLUS d.o.o. - Podjetje za tržno raziskovanje in | H44: 30 | I44: =(H44*500)/54 -> 277.77778 | J44: 308 | K44: =(J44*1000)/957 -> 321.83908 | L44: 439 | M44: =L44*1000/997 -> 440.32096 | N44: 777
A45: 27 | B45: 911 | C45: Toni Pljakoski | D45: DJP Kovk | E45: SLO | F45: BGD TALA | G45: www.tomatosport.si | H45: 30 | I45: =(H45*500)/54 -> 277.77778 | J45: 278 | K45: =(J45*1000)/957 -> 290.49112 | L45: 429 | M45: =L45*1000/997 -> 430.29087 | N45: 737
A46: 28 | B46: 909 | C46: Mojca Pišek | D46: Lintvar | E46: SLO | F46: BGD TALA | G46: Moj mesar Jože s.p., www.lintvar.si | H46: 30 | I46: =(H46*500)/54 -> 277.77778 | J46: 276 | K46: =(J46*1000)/957 -> 288.40125 | L46: 429 | M46: =L46*1000/997 -> 430.29087 | N46: 735
A47: 29 | B47: 331 | C47: Tomaž Trstenjak | D47: KL Vrhnika | E47: SLO | F47: NIVIUK PEAK | G47: PAMA d.o.o ,T&Tehnik | H47: 30 | I47: =(H47*500)/54 -> 277.77778 | J47: 69 | K47: =(J47*1000)/957 -> 72.100313 | L47: 589 | M47: =L47*1000/997 -> 590.77232 | N47: 688
A48: 30 | B48: 602 | C48: Tadej Krevh | D48: Adrenalin | E48: SLO | F48: GIN-GLIDERS CARRERA | H48: 30 | I48: =(H48*500)/54 -> 277.77778 | J48: 171 | K48: =(J48*1000)/957 -> 178.68339 | L48: 468 | M48: =L48*1000/997 -> 469.40822 | N48: 669
A49: 31 | B49: 269 | C49: Peter Kocjan | D49: Lintvar | E49: SLO | F49: NIVIUK HOOK 3 | G49: Avtoma d.o.o. | H49: 30 | I49: =(H49*500)/54 -> 277.77778 | J49: 180 | K49: =(J49*1000)/957 -> 188.08777 | L49: 437 | M49: =L49*1000/997 -> 438.31494 | N49: 647
A50: 32 | B50: 37 | C50: Simon Konavec | D50: Adrenalin | E50: SLO | F50: NOVA MENTOR 3 | G50: Team Adrenalin, Nova Wings | H50: 30 | I50: =(H50*500)/54 -> 277.77778 | J50: 456 | K50: =(J50*1000)/957 -> 476.48903 | L50: 159 | M50: =L50*1000/997 -> 159.47844 | N50: 645
A51: 33 | B51: 141 | C51: Grega Rutar | D51: DPL Posočje | E51: SLO | F51: OZONE DELTA 2 | G51: DPL Posočje | H51: 30 | I51: =(H51*500)/54 -> 277.77778 | J51: 430 | K51: =(J51*1000)/957 -> 449.32079 | L51: 152 | M51: =L51*1000/997 -> 152.45737 | N51: 612
A52: 34 | B52: 25377 | C52: Jernej Štefanec | D52: Lintvar | E52: SLO | F52: NIVIUK ARTIK3 | H52: 30 | I52: =(H52*500)/54 -> 277.77778 | J52: 432 | K52: =(J52*1000)/957 -> 451.41066 | L52: 125 | M52: =L52*1000/997 -> 125.37613 | N52: 587
A53: 35 | B53: 1013 | C53: Ambrož Mikelj | D53: Albatros Celje | E53: SLO | F53: TRIPLE SEVEN GLIDERS ROOK | G53: Naviter | H53: 30 | I53: =(H53*500)/54 -> 277.77778 | J53: 189 | K53: =(J53*1000)/957 -> 197.49216 | L53: 125 | M53: =L53*1000/997 -> 125.37613 | N53: 344
A54: 36 | B54: 39 | C54: Rok Dolinšek | D54: KL Vrhnika | E54: SLO | F54: GRADIENT NEVADA | G54: Troia d.o.o., ŠD Oktan | I54: =(H54*500)/54 -> 0 | K54: =(J54*1000)/957 -> 0 | L54: 125 | M54: =L54*1000/997 -> 125.37613 | N54: 125
A55: 37 | B55: 1055 | C55: Miha Novak | D55: Polet Kamnik | E55: SLO | F55: GIN-GLIDERS SPRINT EVO | H55: 30 | I55: =(H55*500)/54 -> 277.77778 | J55: 69 | K55: =(J55*1000)/957 -> 72.100313 | M55: =L55*1000/997 -> 0 | N55: 99
D56: =SUM(IF(FREQUENCY(MATCH(D19:D55,D19:D55,0),MATCH(D19:D55,D19:D55,0))>0,1)) -> 12 | H56: =MAX(H19:H55) -> 54 | J56: =MAX(J19:J55) -> 957 | L56: =MAX(L19:L55) -> 997
D57: DJP Kajuh
D58: DJP Kajuh
D59: DJP Cumulus
D60: Albatros Celje
D61: Albatros Celje
D62: DPL Posočje
D63: DPL Posočje
D64: DPL Ikar SG
D65: Adrenalin
D66: DJP Parakrilec
D67: DJP Parakrilec
D68: Polet Kamnik
D69: Polet Kamnik

Sheet ParaStajerka
A1: Report created: 2014-05-26T21:10:21+02:00
A3: ParaStajerka
A5: 2014-05-23 to 2014-05-25
A7: ParaStajerka2014
A9: Total results
A11: Provisional
A13: Task | B13: Date | C13: Distance
A14: T1 Stajerka_T1 | B14: 2014-05-25 12:30 | C14: 42,2 km | D14: Race to Goal with 1 startgate(s)
A16: # | B16: Id | C16: Name | D16: Klub | E16: Nat | F16: Glider | G16: Sponsor | H16: T 1 | I16: T1_NOR | J16: Total | Q16: Mesto | R16: Klub | S16: T1 | T16: T2 | U16: T3 | V16: Skupno
A17: 1 | B17: 217 | C17: Bojan Gaberšek | D17: KL Vrhnika | E17: SLO | F17: NIVIUK ICEPEAK 7pro | H17: 538 | I17: =H17*1000/538 -> 1000 | J17: 538 | Q17: 1 | R17: DJP Kajuh | S17: {=SUM(LARGE(IF(Klub=$R17,T1_NOR,""),{1;2;3}))} -> 1745.3532 | T17: {=SUM(LARGE(IF(Klub=$R17,T2_NOR,""),{1;2;3}))} -> 0 | U17: {=SUM(LARGE(IF(Klub=$R17,T3_NOR,""),{1;2;3}))} -> 0 | V17: =SUM(S17:U17) -> 1745.3532
A18: 2 | B18: 1719 | C18: Boštjan Poročnik | D18: KL Vrhnika | E18: SVN | F18: OZONE MANTRA 6 | G18: Lajka d.o.o. | H18: 503 | I18: =H18*1000/538 -> 934.94424 | J18: 503 | Q18: 2 | R18: KL Vrhnika | S18: {=SUM(LARGE(IF(Klub=$R18,T1_NOR,""),{1;2;3}))} -> 2124.5353 | T18: {=SUM(LARGE(IF(Klub=$R18,T2_NOR,""),{1;2;3}))} -> 0 | U18: {=SUM(LARGE(IF(Klub=$R18,T3_NOR,""),{1;2;3}))} -> 0 | V18: =SUM(S18:U18) -> 2124.5353
A19: 3 | B19: 25 | C19: Tilen Ceglar | D19: DJP Metulj | E19: SVN | F19: OZONE ENZO 2 | G19: Naviter | H19: 497 | I19: =H19*1000/538 -> 923.79182 | J19: 497 | Q19: 3 | R19: DJP Cumulus | S19: {=SUM(LARGE(IF(Klub=$R19,T1_NOR,""),{1;2;3}))} -> #NUM! | T19: {=SUM(LARGE(IF(Klub=$R19,T2_NOR,""),{1;2;3}))} -> #NUM! | U19: {=SUM(LARGE(IF(Klub=$R19,T3_NOR,""),{1;2;3}))} -> #NUM! | V19: =SUM(S19:U19) -> #NUM!
A20: 4 | B20: 148 | C20: Dušan Orož | D20: DJP Kajuh | E20: SVN | F20: OZONE EN2O | H20: 482 | I20: =H20*1000/538 -> 895.91078 | J20: 482 | Q20: 4 | R20: DJP Metulj | S20: {=SUM(LARGE(IF(Klub=$R20,T1_NOR,""),{1;2;3}))} -> 923.79182 | T20: {=SUM(LARGE(IF(Klub=$R20,T2_NOR,""),{1;2;3}))} -> 0 | U20: {=SUM(LARGE(IF(Klub=$R20,T3_NOR,""),{1;2;3}))} -> 0 | V20: =SUM(S20:U20) -> 923.79182
A21: 5 | B21: 2780 | C21: Uroš Detiček | D21: DJP Kajuh | E21: SVN | F21: MAC-PARA MAGUS XC2 | H21: 386 | I21: =H21*1000/538 -> 717.47212 | J21: 386 | Q21: 5 | R21: DJP Kovk | S21: {=SUM(LARGE(IF(Klub=$R21,T1_NOR,""),{1;2;3}))} -> #NUM! | T21: {=SUM(LARGE(IF(Klub=$R21,T2_NOR,""),{1;2;3}))} -> #NUM! | U21: {=SUM(LARGE(IF(Klub=$R21,T3_NOR,""),{1;2;3}))} -> #NUM! | V21: =SUM(S21:U21) -> #NUM!
A22: 6 | B22: 81 | C22: Klemen Peljhan | D22: KJP Krokar | E22: SLO | F22: GIN-GLIDERS CARRERA | G22: Bowling City | H22: 385 | I22: =H22*1000/538 -> 715.61338 | J22: 385 | Q22: 6 | R22: KJP Krokar | S22: {=SUM(LARGE(IF(Klub=$R22,T1_NOR,""),{1;2;3}))} -> #NUM! | T22: {=SUM(LARGE(IF(Klub=$R22,T2_NOR,""),{1;2;3}))} -> #NUM! | U22: {=SUM(LARGE(IF(Klub=$R22,T3_NOR,""),{1;2;3}))} -> #NUM! | V22: =SUM(S22:U22) -> #NUM!
A23: 7 | B23: 5 | C23: Tomaž Eržen | D23: KJP Krokar | E23: SVN | F23: OZONE ENZO | G23: www.GearForFly.com, www.pronet-kr.si | H23: 289 | I23: =H23*1000/538 -> 537.17472 | J23: 289 | Q23: 7 | R23: Lintvar | S23: {=SUM(LARGE(IF(Klub=$R23,T1_NOR,""),{1;2;3}))} -> #NUM! | T23: {=SUM(LARGE(IF(Klub=$R23,T2_NOR,""),{1;2;3}))} -> #NUM! | U23: {=SUM(LARGE(IF(Klub=$R23,T3_NOR,""),{1;2;3}))} -> #NUM! | V23: =SUM(S23:U23) -> #NUM!
A24: 9 | B24: 36030 | C24: Mitja Jug | D24: KL Vrhnika | E24: SVN | F24: GIN-GLIDERS CARRERA | G24: Guštanj d.o.o. | H24: 102 | I24: =H24*1000/538 -> 189.59108 | J24: 102 | Q24: 8 | R24: Polet Kamnik | S24: {=SUM(LARGE(IF(Klub=$R24,T1_NOR,""),{1;2;3}))} -> #NUM! | T24: {=SUM(LARGE(IF(Klub=$R24,T2_NOR,""),{1;2;3}))} -> #NUM! | U24: {=SUM(LARGE(IF(Klub=$R24,T3_NOR,""),{1;2;3}))} -> #NUM! | V24: =SUM(S24:U24) -> #NUM!
A25: 10 | B25: 2332 | C25: Domen Jevšenak | D25: DJP Kajuh | E25: SLO | F25: NIVIUK PEAK 2 | H25: 71 | I25: =H25*1000/538 -> 131.97026 | J25: 71 | Q25: 9 | R25: DJP Parakrilec | S25: {=SUM(LARGE(IF(Klub=$R25,T1_NOR,""),{1;2;3}))} -> #NUM! | T25: {=SUM(LARGE(IF(Klub=$R25,T2_NOR,""),{1;2;3}))} -> #NUM! | U25: {=SUM(LARGE(IF(Klub=$R25,T3_NOR,""),{1;2;3}))} -> #NUM! | V25: =SUM(S25:U25) -> #NUM!
D26: DJP Metulj | Q26: 10 | R26: Adrenalin | S26: {=SUM(LARGE(IF(Klub=$R26,T1_NOR,""),{1;2;3}))} -> #NUM! | T26: {=SUM(LARGE(IF(Klub=$R26,T2_NOR,""),{1;2;3}))} -> #NUM! | U26: {=SUM(LARGE(IF(Klub=$R26,T3_NOR,""),{1;2;3}))} -> #NUM! | V26: =SUM(S26:U26) -> #NUM!
D27: DJP Metulj | Q27: 11 | R27: DPL Ikar SG | S27: {=SUM(LARGE(IF(Klub=$R27,T1_NOR,""),{1;2;3}))} -> #NUM! | T27: {=SUM(LARGE(IF(Klub=$R27,T2_NOR,""),{1;2;3}))} -> #NUM! | U27: {=SUM(LARGE(IF(Klub=$R27,T3_NOR,""),{1;2;3}))} -> #NUM! | V27: =SUM(S27:U27) -> #NUM!
Q28: 12 | R28: DPL Posočje | S28: {=SUM(LARGE(IF(Klub=$R28,T1_NOR,""),{1;2;3}))} -> #NUM! | T28: {=SUM(LARGE(IF(Klub=$R28,T2_NOR,""),{1;2;3}))} -> #NUM! | U28: {=SUM(LARGE(IF(Klub=$R28,T3_NOR,""),{1;2;3}))} -> #NUM! | V28: =SUM(S28:U28) -> #NUM!
Q29: 13 | R29: Albatros Celje | S29: {=SUM(LARGE(IF(Klub=$R29,T1_NOR,""),{1;2;3}))} -> #NUM! | T29: {=SUM(LARGE(IF(Klub=$R29,T2_NOR,""),{1;2;3}))} -> #NUM! | U29: {=SUM(LARGE(IF(Klub=$R29,T3_NOR,""),{1;2;3}))} -> #NUM! | V29: =SUM(S29:U29) -> #NUM!

Sheet Adrenalin
A1: Report created: 2014-07-06T17:02:06+02:00
A3: Liga Adrenalin 2014
A5: 2014-07-03 to 2014-07-06
A7: Overall
A9: Total results
A11: Provisional
A13: Task | B13: Date | C13: Distance
A14: T1 T1 | B14: 2014-07-04 12:45 | C14: 72,2 km
A15: T2 T2 | B15: 2014-07-05 12:30 | C15: 20,9 km
A16: T3 T3 | B16: 2014-07-06 12:10 | C16: 53,7 km
A18: # | B18: Id | C18: Name | D18: Klub | E18: Nat | F18: Glider | G18: Sponsor | H18: T 1 | I18: T1_NOR | J18: T 2 | K18: T2_NOR | L18: T 3 | M18: T3_NOR | N18: Total | Q18: Mesto | R18: Klub | S18: T1 | T18: T2 | U18: T3 | V18: Skupno
A19: 1 | B19: 17 | C19: Jurij Vidic | D19: KL Vrhnika | E19: SLO | F19: OZONE ENZO | G19: Agring | H19: 994 | I19: =H19*1000/994 -> 1000 | J19: 267 | K19: =J19*1000/318 -> 839.62264 | L19: 927 | M19: =L19*1000/989 -> 937.31041 | N19: 2188 | Q19: 1 | R19: DJP Kajuh | S19: {=SUM(LARGE(IF(Klub=$R19,T1_NOR,""),{1;2;3}))} -> 974.84909 | T19: {=SUM(LARGE(IF(Klub=$R19,T2_NOR,""),{1;2;3}))} -> 949.68553 | U19: {=SUM(LARGE(IF(Klub=$R19,T3_NOR,""),{1;2;3}))} -> 877.6542 | V19: =SUM(S19:U19) -> 2802.1888
A20: 2 | B20: 25 | C20: Tilen Ceglar | D20: DJP Metulj | E20: SLO | F20: OZONE ENZO 2 | G20: Naviter | H20: 958 | I20: =H20*1000/994 -> 963.7827 | J20: 311 | K20: =J20*1000/318 -> 977.98742 | L20: 897 | M20: =L20*1000/989 -> 906.97674 | N20: 2166 | Q20: 2 | R20: KL Vrhnika | S20: {=SUM(LARGE(IF(Klub=$R20,T1_NOR,""),{1;2;3}))} -> 2136.8209 | T20: {=SUM(LARGE(IF(Klub=$R20,T2_NOR,""),{1;2;3}))} -> 1525.1572 | U20: {=SUM(LARGE(IF(Klub=$R20,T3_NOR,""),{1;2;3}))} -> 1521.7391 | V20: =SUM(S20:U20) -> 5183.7173
A21: 3 | B21: 148 | C21: Dušan Orož | D21: DJP Kajuh | E21: SLO | F21: OZONE EN2O | H21: 969 | I21: =H21*1000/994 -> 974.84909 | J21: 302 | K21: =J21*1000/318 -> 949.68553 | L21: 868 | M21: =L21*1000/989 -> 877.6542 | N21: 2139 | Q21: 3 | R21: DJP Cumulus | S21: {=SUM(LARGE(IF(Klub=$R21,T1_NOR,""),{1;2;3}))} -> 863.17907 | T21: {=SUM(LARGE(IF(Klub=$R21,T2_NOR,""),{1;2;3}))} -> 1000 | U21: {=SUM(LARGE(IF(Klub=$R21,T3_NOR,""),{1;2;3}))} -> 883.72093 | V21: =SUM(S21:U21) -> 2746.9
A22: 4 | B22: 378 | C22: Jože Molek | D22: DJP Cumulus | E22: SLO | F22: OZONE ENZO2 | H22: 858 | I22: =H22*1000/994 -> 863.17907 | J22: 318 | K22: =J22*1000/318 -> 1000 | L22: 874 | M22: =L22*1000/989 -> 883.72093 | N22: 2050 | Q22: 4 | R22: DJP Metulj | S22: {=SUM(LARGE(IF(Klub=$R22,T1_NOR,""),{1;2;3}))} -> 2391.3481 | T22: {=SUM(LARGE(IF(Klub=$R22,T2_NOR,""),{1;2;3}))} -> 2122.6415 | U22: {=SUM(LARGE(IF(Klub=$R22,T3_NOR,""),{1;2;3}))} -> 2228.5137 | V22: =SUM(S22:U22) -> 6742.5032
A23: 5 | B23: 523 | C23: Jošt Napret | D23: DJP Metulj | E23: SLO | F23: OZONE ENZO2 | G23: www.naviter.com | H23: 919 | I23: =H23*1000/994 -> 924.54728 | J23: 134 | K23: =J23*1000/318 -> 421.38365 | L23: 989 | M23: =L23*1000/989 -> 1000 | N23: 2042 | Q23: 5 | R23: DJP Kovk | S23: {=SUM(LARGE(IF(Klub=$R23,T1_NOR,""),{1;2;3}))} -> 633.80282 | T23: {=SUM(LARGE(IF(Klub=$R23,T2_NOR,""),{1;2;3}))} -> 1166.6667 | U23: {=SUM(LARGE(IF(Klub=$R23,T3_NOR,""),{1;2;3}))} -> 1077.8564 | V23: =SUM(S23:U23) -> 2878.3259
A24: 6 | B24: 217 | C24: Bojan Gaberšek | D24: DPL Ikar SG | E24: SLO | F24: NIVIUK ICEPEAK 7 pro | H24: 628 | I24: =H24*1000/994 -> 631.79074 | J24: 139 | K24: =J24*1000/318 -> 437.10692 | L24: 586 | M24: =L24*1000/989 -> 592.51769 | N24: 1353 | Q24: 6 | R24: KJP Krokar | S24: {=SUM(LARGE(IF(Klub=$R24,T1_NOR,""),{1;2;3}))} -> 1660.9658 | T24: {=SUM(LARGE(IF(Klub=$R24,T2_NOR,""),{1;2;3}))} -> 2327.044 | U24: {=SUM(LARGE(IF(Klub=$R24,T3_NOR,""),{1;2;3}))} -> 1370.0708 | V24: =SUM(S24:U24) -> 5358.0806
A25: 7 | B25: 5 | C25: Tomaž Eržen | D25: KJP Krokar | E25: SLO | F25: OZONE ENZO | G25: www.GearForFly.com, www.pronet-kr.si | H25: 818 | I25: =H25*1000/994 -> 822.93763 | J25: 228 | K25: =J25*1000/318 -> 716.98113 | L25: 272 | M25: =L25*1000/989 -> 275.02528 | N25: 1318 | Q25: 7 | R25: Lintvar | S25: {=SUM(LARGE(IF(Klub=$R25,T1_NOR,""),{1;2;3}))} -> 1718.3099 | T25: {=SUM(LARGE(IF(Klub=$R25,T2_NOR,""),{1;2;3}))} -> 1547.1698 | U25: {=SUM(LARGE(IF(Klub=$R25,T3_NOR,""),{1;2;3}))} -> 1062.6896 | V25: =SUM(S25:U25) -> 4328.1693
A26: 8 | B26: 414 | C26: Urban Valič | D26: DJP Kovk | E26: SLO | F26: TRIPLE SEVEN GLIDERS QUEEN | G26: Triple Seven Gliders | H26: 407 | I26: =H26*1000/994 -> 409.45674 | J26: 194 | K26: =J26*1000/318 -> 610.06289 | L26: 616 | M26: =L26*1000/989 -> 622.85137 | N26: 1217 | Q26: 8 | R26: Polet Kamnik | S26: {=SUM(LARGE(IF(Klub=$R26,T1_NOR,""),{1;2;3}))} -> #NUM! | T26: {=SUM(LARGE(IF(Klub=$R26,T2_NOR,""),{1;2;3}))} -> #NUM! | U26: {=SUM(LARGE(IF(Klub=$R26,T3_NOR,""),{1;2;3}))} -> #NUM! | V26: =SUM(S26:U26) -> #NUM!
A27: 9 | B27: 303 | C27: Miran Fridau | D27: Lintvar | E27: SLO | F27: NIVIUK PEAK 3 | G27: Rigips Slovenija | H27: 494 | I27: =H27*1000/994 -> 496.98189 | J27: 230 | K27: =J27*1000/318 -> 723.27044 | L27: 472 | M27: =L27*1000/989 -> 477.24975 | N27: 1196 | Q27: 9 | R27: DJP Parakrilec | S27: {=SUM(LARGE(IF(Klub=$R27,T1_NOR,""),{1;2;3}))} -> #NUM! | T27: {=SUM(LARGE(IF(Klub=$R27,T2_NOR,""),{1;2;3}))} -> #NUM! | U27: {=SUM(LARGE(IF(Klub=$R27,T3_NOR,""),{1;2;3}))} -> #NUM! | V27: =SUM(S27:U27) -> #NUM!
A28: 10 | B28: 2104 | C28: Borut Koler | D28: Lintvar | E28: SLO | F28: NIVIUK PEAK 3 | H28: 606 | I28: =H28*1000/994 -> 609.65795 | J28: 228 | K28: =J28*1000/318 -> 716.98113 | L28: 318 | M28: =L28*1000/989 -> 321.53691 | N28: 1152 | Q28: 10 | R28: Adrenalin | S28: {=SUM(LARGE(IF(Klub=$R28,T1_NOR,""),{1;2;3}))} -> 838.02817 | T28: {=SUM(LARGE(IF(Klub=$R28,T2_NOR,""),{1;2;3}))} -> 1292.4528 | U28: {=SUM(LARGE(IF(Klub=$R28,T3_NOR,""),{1;2;3}))} -> 609.70677 | V28: =SUM(S28:U28) -> 2740.1878
A29: 11 | B29: 540632 | C29: Klemen Peljhan | D29: KJP Krokar | E29: SLO | F29: GING GLIDERS CARERRA | H29: 466 | I29: =H29*1000/994 -> 468.81288 | J29: 259 | K29: =J29*1000/318 -> 814.46541 | L29: 425 | M29: =L29*1000/989 -> 429.727 | N29: 1150 | Q29: 11 | R29: DPL Ikar SG | S29: {=SUM(LARGE(IF(Klub=$R29,T1_NOR,""),{1;2;3}))} -> 801.81087 | T29: {=SUM(LARGE(IF(Klub=$R29,T2_NOR,""),{1;2;3}))} -> 770.44025 | U29: {=SUM(LARGE(IF(Klub=$R29,T3_NOR,""),{1;2;3}))} -> 1000 | V29: =SUM(S29:U29) -> 2572.2511
A30: 12 | B30: 90 | C30: Marko Novak | D30: KL Vrhnika | E30: SLO | F30: OZONE ENZO | G30: nowa d.o.o. | H30: 640 | I30: =H30*1000/994 -> 643.86318 | J30: 126 | K30: =J30*1000/318 -> 396.22642 | L30: 298 | M30: =L30*1000/989 -> 301.31446 | N30: 1064 | Q30: 12 | R30: DPL Posočje | S30: {=SUM(LARGE(IF(Klub=$R30,T1_NOR,""),{1;2;3}))} -> #NUM! | T30: {=SUM(LARGE(IF(Klub=$R30,T2_NOR,""),{1;2;3}))} -> #NUM! | U30: {=SUM(LARGE(IF(Klub=$R30,T3_NOR,""),{1;2;3}))} -> #NUM! | V30: =SUM(S30:U30) -> #NUM!
A31: 13 | B31: 7 | C31: Dušan Durkovič | D31: DJP Metulj | E31: SLO | F31: NOVA MENTOR3 | H31: 500 | I31: =H31*1000/994 -> 503.01811 | J31: 230 | K31: =J31*1000/318 -> 723.27044 | L31: 318 | M31: =L31*1000/989 -> 321.53691 | N31: 1048 | Q31: 13 | R31: Albatros Celje | S31: {=SUM(LARGE(IF(Klub=$R31,T1_NOR,""),{1;2;3}))} -> #NUM! | T31: {=SUM(LARGE(IF(Klub=$R31,T2_NOR,""),{1;2;3}))} -> #NUM! | U31: {=SUM(LARGE(IF(Klub=$R31,T3_NOR,""),{1;2;3}))} -> #NUM! | V31: =SUM(S31:U31) -> #NUM!
A32: 14 | B32: 540631 | C32: Sandi Kristić | D32: KJP Krokar | E32: SLO | F32: Ozone Mantra 6 | H32: 61 | I32: =H32*1000/994 -> 61.368209 | J32: 253 | K32: =J32*1000/318 -> 795.59748 | L32: 632 | M32: =L32*1000/989 -> 639.02932 | N32: 946
A33: 15 | B33: 6 | C33: Anže Pristov | D33: Lintvar | E33: SLO | F33: NIVIUK ICEPEAK 6 | G33: be-xtreme.eu | H33: 608 | I33: =H33*1000/994 -> 611.67002 | J33: 34 | K33: =J33*1000/318 -> 106.91824 | L33: 261 | M33: =L33*1000/989 -> 263.90293 | N33: 903
A34: 16 | B34: 568 | C34: Tomaž Toplak | D34: KL Vrhnika | E34: SLO | F34: NIVIUK IC6 | G34: ardi INT d.o.o. | H34: 490 | I34: =H34*1000/994 -> 492.95775 | J34: 92 | K34: =J34*1000/318 -> 289.30818 | L34: 280 | M34: =L34*1000/989 -> 283.11426 | N34: 862
A35: 17 | B35: 602 | C35: Tadej Krevh | D35: Adrenalin | E35: SLO | F35: GIN-GLIDERS CARRERA | H35: 352 | I35: =H35*1000/994 -> 354.12475 | J35: 185 | K35: =J35*1000/318 -> 581.76101 | L35: 316 | M35: =L35*1000/989 -> 319.51466 | N35: 853
A36: 18 | B36: 748 | C36: Stojan Kranjc | D36: DJP Kovk | E36: SLO | F36: TRIPLE SEVEN GLIDERS QUEEN | H36: 223 | I36: =H36*1000/994 -> 224.34608 | J36: 177 | K36: =J36*1000/318 -> 556.60377 | L36: 450 | M36: =L36*1000/989 -> 455.00506 | N36: 850
A37: 19 | B37: 24 | C37: Igor Eržen | D37: KJP Krokar | E37: SLO | F37: MAC-PARA ELAN | G37: Hotel Creina d.o.o., GBD d.d., Balinoa d.o.o. | H37: 367 | I37: =H37*1000/994 -> 369.21529 | J37: 131 | K37: =J37*1000/318 -> 411.94969 | L37: 298 | M37: =L37*1000/989 -> 301.31446 | N37: 796
A38: 20 | B38: 36030 | C38: Mitja Jug | D38: DPL Ikar SG | E38: SLO | F38: GIN-GLIDERS CARRERA | G38: Guštanj d.o.o. | H38: 169 | I38: =H38*1000/994 -> 170.02012 | J38: 106 | K38: =J38*1000/318 -> 333.33333 | L38: 403 | M38: =L38*1000/989 -> 407.48231 | N38: 678
A39: 23 | B39: 37 | C39: Simon Konavec | D39: Adrenalin | E39: SLO | F39: NOVA TRITON 2 | G39: Team Adrenalin, Nova Wings | H39: 381 | I39: =H39*1000/994 -> 383.2998 | J39: 34 | K39: =J39*1000/318 -> 106.91824 | M39: =L39*1000/989 -> 0 | N39: 415
A40: 24 | B40: 474 | C40: Špela Šterk | D40: Adrenalin | E40: SLO | F40: NOVA MENTOR 2 | H40: 100 | I40: =H40*1000/994 -> 100.60362 | J40: 124 | K40: =J40*1000/318 -> 389.93711 | L40: 142 | M40: =L40*1000/989 -> 143.57937 | N40: 366
A41: 25 | B41: 1905 | C41: Lara Leban | D41: Adrenalin | E41: SLO | F41: TRIPLE SEVEN GLIDERS PAWN | H41: 85 | I41: =H41*1000/994 -> 85.513078 | J41: 102 | K41: =J41*1000/318 -> 320.75472 | L41: 145 | M41: =L41*1000/989 -> 146.61274 | N41: 332
H42: =MAX(H19:H41) -> 994 | J42: =MAX(J19:J41) -> 318 | L42: =MAX(L19:L41) -> 989
D43: DJP Cumulus
D44: DJP Cumulus
D45: DJP Kajuh
D46: DJP Kajuh
D47: DJP Kovk
D48: DPL Ikar SG
D49: DPL Ikar SG

Sheet Ratitovec
A1: Report created: 2014-06-28T17:05:55+02:00
A3: Ratitovec 2014
A5: 2014-06-26 to 2014-06-29
A7: Rat2014 T1-T-2-T3
A9: Total results
A11: Provisional
A13: Task | B13: Date | C13: Distance
A14: T1 Rat2014_T1 | B14: 2014-06-26 12:00 | C14: 52,5 km
A15: T2 Rat T2 | B15: 2014-06-27 12:00 | C15: 33,7 km
A16: T3 Rat2014 T3 | B16: 2014-06-28 12:45 | C16: 40,5 km
A18: # | B18: Id | C18: Name | D18: Klub | E18: Nat | F18: Glider | G18: Sponsor | H18: T 1 | I18: T1_NOR | J18: T 2 | K18: T2_NOR | L18: T 3 | M18: T3_NOR | N18: Total | Q18: Mesto | R18: Klub | S18: T1 | T18: T2 | U18: T3 | V18: Skupno
A19: 1 | B19: 523 | C19: Jošt Napret | D19: DJP Metulj | E19: SVN | F19: OZONE ENZO2 | G19: www.naviter.com | H19: 581 | I19: =H19*1000/970 -> 598.96907 | J19: 1000 | K19: =J19*1000/1000 -> 1000 | L19: 994 | M19: =L19*1000/994 -> 1000 | N19: 2575 | Q19: 1 | R19: DJP Kajuh | S19: {=SUM(LARGE(IF(Klub=$R19,T1_NOR,""),{1;2;3}))} -> 0 | T19: {=SUM(LARGE(IF(Klub=$R19,T2_NOR,""),{1;2;3}))} -> 872 | U19: {=SUM(LARGE(IF(Klub=$R19,T3_NOR,""),{1;2;3}))} -> 800.80483 | V19: =SUM(S19:U19) -> 1672.8048
A20: 2 | B20: 5 | C20: Tomaž Eržen | D20: KJP Krokar | E20: SVN | F20: OZONE ENZO | G20: www.GearForFly.com, www.pronet-kr.si | H20: 564 | I20: =H20*1000/970 -> 581.4433 | J20: 738 | K20: =J20*1000/1000 -> 738 | L20: 901 | M20: =L20*1000/994 -> 906.43863 | N20: 2203 | Q20: 2 | R20: KL Vrhnika | S20: {=SUM(LARGE(IF(Klub=$R20,T1_NOR,""),{1;2;3}))} -> 531.95876 | T20: {=SUM(LARGE(IF(Klub=$R20,T2_NOR,""),{1;2;3}))} -> 397 | U20: {=SUM(LARGE(IF(Klub=$R20,T3_NOR,""),{1;2;3}))} -> 2083.501 | V20: =SUM(S20:U20) -> 3012.4598
A21: 3 | B21: 124 | C21: Roman Lotrič | D21: KJP Krokar | E21: SVN | F21: NOVA TRITON | H21: 516 | I21: =H21*1000/970 -> 531.95876 | J21: 810 | K21: =J21*1000/1000 -> 810 | L21: 873 | M21: =L21*1000/994 -> 878.26962 | N21: 2199 | Q21: 3 | R21: DJP Cumulus | S21: {=SUM(LARGE(IF(Klub=$R21,T1_NOR,""),{1;2;3}))} -> 1000 | T21: {=SUM(LARGE(IF(Klub=$R21,T2_NOR,""),{1;2;3}))} -> 0 | U21: {=SUM(LARGE(IF(Klub=$R21,T3_NOR,""),{1;2;3}))} -> 991.95171 | V21: =SUM(S21:U21) -> 1991.9517
A22: 5 | B22: 511 | C22: Matija Žumer | D22: KJP Krokar | E22: SVN | F22: U.P. SUMMIT XC3 | H22: 512 | I22: =H22*1000/970 -> 527.83505 | J22: 605 | K22: =J22*1000/1000 -> 605 | L22: 892 | M22: =L22*1000/994 -> 897.38431 | N22: 2009 | Q22: 4 | R22: DJP Metulj | S22: {=SUM(LARGE(IF(Klub=$R22,T1_NOR,""),{1;2;3}))} -> 598.96907 | T22: {=SUM(LARGE(IF(Klub=$R22,T2_NOR,""),{1;2;3}))} -> 1774 | U22: {=SUM(LARGE(IF(Klub=$R22,T3_NOR,""),{1;2;3}))} -> 1174.0443 | V22: =SUM(S22:U22) -> 3547.0133
A23: 6 | B23: 217 | C23: Bojan Gaberšek | D23: DPL Ikar SG | E23: SVN | F23: NIVIUK ICEPEAK 6 | H23: 962 | I23: =H23*1000/970 -> 991.75258 | J23: 859 | K23: =J23*1000/1000 -> 859 | L23: 181 | M23: =L23*1000/994 -> 182.09256 | N23: 2002 | Q23: 5 | R23: DJP Kovk | S23: {=SUM(LARGE(IF(Klub=$R23,T1_NOR,""),{1;2;3}))} -> 534.02062 | T23: {=SUM(LARGE(IF(Klub=$R23,T2_NOR,""),{1;2;3}))} -> 407 | U23: {=SUM(LARGE(IF(Klub=$R23,T3_NOR,""),{1;2;3}))} -> 175.0503 | V23: =SUM(S23:U23) -> 1116.0709
A24: 7 | B24: 378 | C24: Jože Molek | D24: DJP Cumulus | E24: SVN | F24: OZONE ENZO2 | H24: 970 | I24: =H24*1000/970 -> 1000 | K24: =J24*1000/1000 -> 0 | L24: 986 | M24: =L24*1000/994 -> 991.95171 | N24: 1956 | Q24: 6 | R24: KJP Krokar | S24: {=SUM(LARGE(IF(Klub=$R24,T1_NOR,""),{1;2;3}))} -> 1738.1443 | T24: {=SUM(LARGE(IF(Klub=$R24,T2_NOR,""),{1;2;3}))} -> 2365 | U24: {=SUM(LARGE(IF(Klub=$R24,T3_NOR,""),{1;2;3}))} -> 2682.0926 | V24: =SUM(S24:U24) -> 6785.2369
A25: 13 | B25: 140 | C25: Damjan Lotrič | D25: KJP Krokar | E25: SVN | F25: OZONE MANTRA M4 | H25: 542 | I25: =H25*1000/970 -> 558.76289 | J25: 817 | K25: =J25*1000/1000 -> 817 | L25: 403 | M25: =L25*1000/994 -> 405.4326 | N25: 1762 | Q25: 7 | R25: Lintvar | S25: {=SUM(LARGE(IF(Klub=$R25,T1_NOR,""),{1;2;3}))} -> #NUM! | T25: {=SUM(LARGE(IF(Klub=$R25,T2_NOR,""),{1;2;3}))} -> #NUM! | U25: {=SUM(LARGE(IF(Klub=$R25,T3_NOR,""),{1;2;3}))} -> #NUM! | V25: =SUM(S25:U25) -> #NUM!
A26: 14 | B26: 148 | C26: Dušan Orož | D26: DJP Kajuh | E26: SVN | F26: OZONE EN2O | H26: 0 | I26: =H26*1000/970 -> 0 | J26: 872 | K26: =J26*1000/1000 -> 872 | L26: 796 | M26: =L26*1000/994 -> 800.80483 | N26: 1668 | Q26: 8 | R26: Polet Kamnik | S26: {=SUM(LARGE(IF(Klub=$R26,T1_NOR,""),{1;2;3}))} -> #NUM! | T26: {=SUM(LARGE(IF(Klub=$R26,T2_NOR,""),{1;2;3}))} -> #NUM! | U26: {=SUM(LARGE(IF(Klub=$R26,T3_NOR,""),{1;2;3}))} -> #NUM! | V26: =SUM(S26:U26) -> #NUM!
A27: 17 | B27: 714 | C27: Aleš Žumer | D27: KJP Krokar | E27: SVN | F27: OZONE DELTA 2 | H27: 506 | I27: =H27*1000/970 -> 521.64948 | J27: 0 | K27: =J27*1000/1000 -> 0 | L27: 796 | M27: =L27*1000/994 -> 800.80483 | N27: 1302 | Q27: 9 | R27: DJP Parakrilec | S27: {=SUM(LARGE(IF(Klub=$R27,T1_NOR,""),{1;2;3}))} -> #NUM! | T27: {=SUM(LARGE(IF(Klub=$R27,T2_NOR,""),{1;2;3}))} -> #NUM! | U27: {=SUM(LARGE(IF(Klub=$R27,T3_NOR,""),{1;2;3}))} -> #NUM! | V27: =SUM(S27:U27) -> #NUM!
A28: 18 | B28: 17 | C28: Jurij Vidic | D28: KL Vrhnika | E28: SVN | F28: OZONE ENZO | G28: Agring | H28: 0 | I28: =H28*1000/970 -> 0 | J28: 196 | K28: =J28*1000/1000 -> 196 | L28: 994 | M28: =L28*1000/994 -> 1000 | N28: 1190 | Q28: 10 | R28: Adrenalin | S28: {=SUM(LARGE(IF(Klub=$R28,T1_NOR,""),{1;2;3}))} -> #NUM! | T28: {=SUM(LARGE(IF(Klub=$R28,T2_NOR,""),{1;2;3}))} -> #NUM! | U28: {=SUM(LARGE(IF(Klub=$R28,T3_NOR,""),{1;2;3}))} -> #NUM! | V28: =SUM(S28:U28) -> #NUM!
A29: 19 | B29: 81 | C29: Klemen Peljhan | D29: KJP Krokar | E29: SVN | F29: OZONE ENZO | G29: Bowling City | H29: 580 | I29: =H29*1000/970 -> 597.93814 | J29: 194 | K29: =J29*1000/1000 -> 194 | L29: 411 | M29: =L29*1000/994 -> 413.48089 | N29: 1185 | Q29: 11 | R29: DPL Ikar SG | S29: {=SUM(LARGE(IF(Klub=$R29,T1_NOR,""),{1;2;3}))} -> 1322.6804 | T29: {=SUM(LARGE(IF(Klub=$R29,T2_NOR,""),{1;2;3}))} -> 1206 | U29: {=SUM(LARGE(IF(Klub=$R29,T3_NOR,""),{1;2;3}))} -> 503.01811 | V29: =SUM(S29:U29) -> 3031.6985
A30: 25 | B30: 748 | C30: Stojan Kranjc | D30: DJP Kovk | E30: SVN | F30: TRIPLE SEVEN GLIDERS QUEEN | H30: 518 | I30: =H30*1000/970 -> 534.02062 | J30: 407 | K30: =J30*1000/1000 -> 407 | L30: 174 | M30: =L30*1000/994 -> 175.0503 | N30: 1099 | Q30: 12 | R30: DPL Posočje | S30: {=SUM(LARGE(IF(Klub=$R30,T1_NOR,""),{1;2;3}))} -> #NUM! | T30: {=SUM(LARGE(IF(Klub=$R30,T2_NOR,""),{1;2;3}))} -> #NUM! | U30: {=SUM(LARGE(IF(Klub=$R30,T3_NOR,""),{1;2;3}))} -> #NUM! | V30: =SUM(S30:U30) -> #NUM!
A31: 27 | B31: 25 | C31: Tilen Ceglar | D31: DJP Metulj | E31: SVN | F31: OZONE ENZO 2 | G31: Naviter | I31: =H31*1000/970 -> 0 | J31: 774 | K31: =J31*1000/1000 -> 774 | L31: 173 | M31: =L31*1000/994 -> 174.04427 | N31: 947 | Q31: 13 | R31: Albatros Celje | S31: {=SUM(LARGE(IF(Klub=$R31,T1_NOR,""),{1;2;3}))} -> #NUM! | T31: {=SUM(LARGE(IF(Klub=$R31,T2_NOR,""),{1;2;3}))} -> #NUM! | U31: {=SUM(LARGE(IF(Klub=$R31,T3_NOR,""),{1;2;3}))} -> #NUM! | V31: =SUM(S31:U31) -> #NUM!
A32: 29 | B32: 568 | C32: Tomaž Toplak | D32: KL Vrhnika | E32: SVN | F32: NIVIUK IC6 | G32: ardi INT d.o.o. | H32: 516 | I32: =H32*1000/970 -> 531.95876 | J32: 201 | K32: =J32*1000/1000 -> 201 | L32: 173 | M32: =L32*1000/994 -> 174.04427 | N32: 890
A33: 30 | B33: 432 | C33: Dejan Zupanc | D33: KJP Krokar | E33: SVN | F33: MAC-PARA MAGUS XC2 | H33: 472 | I33: =H33*1000/970 -> 486.59794 | J33: 276 | K33: =J33*1000/1000 -> 276 | L33: 135 | M33: =L33*1000/994 -> 135.81489 | N33: 883
A34: 31 | B34: 90 | C34: Marko Novak | D34: KL Vrhnika | E34: SVN | F34: OZONE ENZO | G34: nowa d.o.o. | I34: =H34*1000/970 -> 0 | K34: =J34*1000/1000 -> 0 | L34: 877 | M34: =L34*1000/994 -> 882.29376 | N34: 877
A35: 35 | B35: 1719 | C35: Boštjan Poročnik | D35: DPL Ikar SG | E35: SVN | F35: OZONE MANTRA 6 | G35: Lajka d.o.o. | H35: 196 | I35: =H35*1000/970 -> 202.06186 | J35: 287 | K35: =J35*1000/1000 -> 287 | L35: 151 | M35: =L35*1000/994 -> 151.91147 | N35: 634
A36: 38 | B36: 560 | C36: Peter Frelih | D36: KJP Krokar | E36: SVN | F36: NOVA FACTOR 2 | H36: 72 | I36: =H36*1000/970 -> 74.226804 | J36: 295 | K36: =J36*1000/1000 -> 295 | L36: 104 | M36: =L36*1000/994 -> 104.62777 | N36: 471
A37: 39 | B37: 565 | C37: Matic Egart | D37: KJP Krokar | E37: SVN | F37: MAC-PARA EDEN 5 | H37: 72 | I37: =H37*1000/970 -> 74.226804 | J37: 240 | K37: =J37*1000/1000 -> 240 | L37: 106 | M37: =L37*1000/994 -> 106.63984 | N37: 418
A38: 40 | B38: 31638 | C38: Rok Lotrič | D38: KJP Krokar | E38: SVN | F38: TRIPLE SEVEN GLIDERS ROOK | I38: =H38*1000/970 -> 0 | J38: 272 | K38: =J38*1000/1000 -> 272 | L38: 92 | M38: =L38*1000/994 -> 92.555332 | N38: 364
A39: 41 | B39: 36030 | C39: Mitja Jug | D39: DPL Ikar SG | E39: SVN | F39: GIN-GLIDERS CARRERA | G39: Guštanj d.o.o. | H39: 125 | I39: =H39*1000/970 -> 128.86598 | J39: 60 | K39: =J39*1000/1000 -> 60 | L39: 168 | M39: =L39*1000/994 -> 169.01408 | N39: 353
A40: 43 | B40: 24 | C40: Igor Eržen | D40: KJP Krokar | E40: SVN | F40: MAC-PARA ELAN | G40: Hotel Creina d.o.o., GBD d.d., Balinoa d.o.o. | H40: 72 | I40: =H40*1000/970 -> 74.226804 | J40: 69 | K40: =J40*1000/1000 -> 69 | L40: 75 | M40: =L40*1000/994 -> 75.452716 | N40: 216
A41: 44 | B41: 18181819 | C41: Primož Suša | D41: KL Vrhnika | E41: SVN | F41: Enzo 2 | I41: =H41*1000/970 -> 0 | K41: =J41*1000/1000 -> 0 | L41: 200 | M41: =L41*1000/994 -> 201.20724 | N41: 200
A42: 45 | B42: 980 | C42: Tomaž Veber | D42: KJP Krokar | E42: SVN | F42: NOVA FACTOR 2 | H42: 72 | I42: =H42*1000/970 -> 74.226804 | J42: 60 | K42: =J42*1000/1000 -> 60 | M42: =L42*1000/994 -> 0 | N42: 132
A43: 45 | B43: 32 | C43: Mohor Prevc | D43: KJP Krokar | E43: SVN | F43: AXIS VENUS 2 | H43: 72 | I43: =H43*1000/970 -> 74.226804 | J43: 60 | K43: =J43*1000/1000 -> 60 | M43: =L43*1000/994 -> 0 | N43: 132
H44: =MAX(H19:H43) -> 970 | J44: =MAX(J19:J43) -> 1000 | L44: =MAX(L19:L43) -> 994
D45: DJP Kajuh
D46: DJP Kajuh
D47: DJP Cumulus
D48: DJP Cumulus
D49: DJP Metulj
D50: DJP Kovk
D51: DJP Kovk

Sheet DP2014
A1: 2014Slovenia, Croatia, B&H, Serbia Paragliding Open National Championship
A2: 2014-07-28 to 2014-08-02
A3: SLO Natiolal Championship
A4: 2014-07-29 SHSB&H2014_Task1
A5: Race to Goal 67.9 km
A6: Oficial
A7: Results include only those pilots where Nation code equals 'SLO'
A8: No | B8: Leg Dist. | C8: Id | D8: Radius | E8: Open | F8: Close | G8: Coordinates
A9: 1 | B9: 0.0 km | C9: D02163 | D9: 400 m | E9: 0.53125 | F9: 0.61458333 | G9: Lat: 43.32453 Lon: 20.74816
A10: 2 SS | B10: 6.8 km | C10: B16033 | D10: 12000 m | E10: 0.57291667 | F10: 0.79166667 | G10: Lat: 43.46693 Lon: 20.61477
A11: 3 | B11: 19.0 km | C11: B35060 | D11: 2000 m | E11: 0.57291667 | F11: 0.79166667 | G11: Lat: 43.2444 Lon: 20.68339
A12: 4 | B12: 34.9 km | C12: B19115 | D12: 11000 m | E12: 0.57291667 | F12: 0.79166667 | G12: Lat: 43.48998 Lon: 20.57003
A13: 5 | B13: 54.5 km | C13: B89084 | D13: 5000 m | E13: 0.57291667 | F13: 0.79166667 | G13: Lat: 43.17368 Lon: 20.5636
A14: 6 | B14: 58.4 km | C14: D05104 | D14: 8000 m | E14: 0.57291667 | F14: 0.79166667 | G14: Lat: 43.31561 Lon: 20.50183
A15: 7 ES | B15: 66.3 km | C15: A04039 | D15: 2000 m | E15: 0.57291667 | F15: 0.79166667 | G15: Lat: 43.32848 Lon: 20.62731
A16: 8 | B16: 67.9 km | C16: A04039 | D16: 400 m | E16: 0.57291667 | F16: 0.79166667 | G16: Lat: 43.32848 Lon: 20.62731
A17: StartGate(s): 13:45
A19: # | B19: Id | C19: Name | D19: Klub | E19: Nat | F19: Glider | G19: Sponsor | H19: Total | I19: T1_NOR | Q19: Mesto | R19: Klub | S19: T1 | T19: T2 | U19: T3 | V19: Skupno
A20: 1 | B20: 113 | C20: Primož Suša | D20: KL Vrhnika | E20: SLO | F20: Ozone Enzo | G20: camp-gabrje.com | H20: 498 | I20: =H20*500/498 -> 500 | Q20: 1 | R20: DJP Kajuh | S20: {=SUM(LARGE(IF(Klub=$R20,T1_NOR,""),{1;2;3}))} -> 381.5261 | T20: {=SUM(LARGE(IF(Klub=$S20,T2_NOR,""),{1;2;3}))} -> #N/A | U20: {=SUM(LARGE(IF(Klub=$S20,T3_NOR,""),{1;2;3}))} -> #N/A | V20: =SUM(S20:U20) -> #N/A
A21: 2 | B21: 25 | C21: Tilen Ceglar | D21: DJP Metulj | E21: SLO | F21: Ozone Enzo 2 | G21: Naviter | H21: 457 | I21: =H21*500/498 -> 458.83534 | Q21: 2 | R21: KL Vrhnika | S21: {=SUM(LARGE(IF(Klub=$R21,T1_NOR,""),{1;2;3}))} -> 1336.3454 | T21: {=SUM(LARGE(IF(Klub=$S21,T2_NOR,""),{1;2;3}))} -> #N/A | U21: {=SUM(LARGE(IF(Klub=$S21,T3_NOR,""),{1;2;3}))} -> #N/A | V21: =SUM(S21:U21) -> #N/A
A22: 3 | B22: 90 | C22: Marko Novak | D22: KL Vrhnika | E22: SLO | F22: Ozone Enzo 2 | G22: Nowa doo | H22: 455 | I22: =H22*500/498 -> 456.82731 | Q22: 3 | R22: DJP Cumulus | S22: {=SUM(LARGE(IF(Klub=$R22,T1_NOR,""),{1;2;3}))} -> 226.90763 | T22: {=SUM(LARGE(IF(Klub=$S22,T2_NOR,""),{1;2;3}))} -> #N/A | U22: {=SUM(LARGE(IF(Klub=$S22,T3_NOR,""),{1;2;3}))} -> #N/A | V22: =SUM(S22:U22) -> #N/A
A23: 4 | B23: 9998 | C23: Aljaž Valič | D23: DJP Kovk | E23: SLO | F23: 777 Queen | G23: 777 Gliders, KOVK | H23: 418 | I23: =H23*500/498 -> 419.67871 | Q23: 4 | R23: DJP Metulj | S23: {=SUM(LARGE(IF(Klub=$R23,T1_NOR,""),{1;2;3}))} -> 1125.502 | T23: {=SUM(LARGE(IF(Klub=$S23,T2_NOR,""),{1;2;3}))} -> #N/A | U23: {=SUM(LARGE(IF(Klub=$S23,T3_NOR,""),{1;2;3}))} -> #N/A | V23: =SUM(S23:U23) -> #N/A
A24: 5 | B24: 171 | C24: Dušan Orož | D24: DJP Kajuh | E24: SLO | F24: Ozone EnZo | H24: 380 | I24: =H24*500/498 -> 381.5261 | Q24: 5 | R24: DJP Kovk | S24: {=SUM(LARGE(IF(Klub=$R24,T1_NOR,""),{1;2;3}))} -> 782.12851 | T24: {=SUM(LARGE(IF(Klub=$S24,T2_NOR,""),{1;2;3}))} -> #N/A | U24: {=SUM(LARGE(IF(Klub=$S24,T3_NOR,""),{1;2;3}))} -> #N/A | V24: =SUM(S24:U24) -> #N/A
A25: 6 | B25: 217 | C25: Bojan Gaberšek | D25: KL Vrhnika | E25: SLO | F25: Ozone Mantra M6 | G25: AVTODELI GABERSEK | H25: 378 | I25: =H25*500/498 -> 379.51807 | Q25: 6 | R25: KJP Krokar | S25: {=SUM(LARGE(IF(Klub=$R25,T1_NOR,""),{1;2;3}))} -> 906.62651 | T25: {=SUM(LARGE(IF(Klub=$S25,T2_NOR,""),{1;2;3}))} -> #N/A | U25: {=SUM(LARGE(IF(Klub=$S25,T3_NOR,""),{1;2;3}))} -> #N/A | V25: =SUM(S25:U25) -> #N/A
A26: 7 | B26: 1101 | C26: Andrej Erznožnik | D26: KL Vrhnika | E26: SLO | F26: Ozone Mantra M4 | H26: 370 | I26: =H26*500/498 -> 371.48594 | Q26: 7 | R26: Lintvar | S26: {=SUM(LARGE(IF(Klub=$R26,T1_NOR,""),{1;2;3}))} -> 695.78313 | T26: {=SUM(LARGE(IF(Klub=$S26,T2_NOR,""),{1;2;3}))} -> #N/A | U26: {=SUM(LARGE(IF(Klub=$S26,T3_NOR,""),{1;2;3}))} -> #N/A | V26: =SUM(S26:U26) -> #N/A
A27: 8 | B27: 331 | C27: Tomaž Trstenjak | D27: KL Vrhnika | E27: SLO | F27: Ozone ENZO 2 | G27: Pama doo, T&Tehnik | H27: 369 | I27: =H27*500/498 -> 370.48193 | Q27: 8 | R27: Polet Kamnik | S27: {=SUM(LARGE(IF(Klub=$R27,T1_NOR,""),{1;2;3}))} -> 246.98795 | T27: {=SUM(LARGE(IF(Klub=$S27,T2_NOR,""),{1;2;3}))} -> #N/A | U27: {=SUM(LARGE(IF(Klub=$S27,T3_NOR,""),{1;2;3}))} -> #N/A | V27: =SUM(S27:U27) -> #N/A
A28: 9 | B28: 93 | C28: Stane Jakopič | D28: DJP Metulj | E28: SLO | F28: Nova Triton 2 | H28: 368 | I28: =H28*500/498 -> 369.47791 | Q28: 9 | R28: DJP Parakrilec | S28: {=SUM(LARGE(IF(Klub=$R28,T1_NOR,""),{1;2;3}))} -> 363.45382 | T28: {=SUM(LARGE(IF(Klub=$S28,T2_NOR,""),{1;2;3}))} -> #N/A | U28: {=SUM(LARGE(IF(Klub=$S28,T3_NOR,""),{1;2;3}))} -> #N/A | V28: =SUM(S28:U28) -> #N/A
A29: 10 | B29: 321 | C29: Branko Žnuderl | D29: DJP Parakrilec | E29: SLO | F29: Ozone Mantra M6 | H29: 362 | I29: =H29*500/498 -> 363.45382 | Q29: 10 | R29: Adrenalin | S29: {=SUM(LARGE(IF(Klub=$R29,T1_NOR,""),{1;2;3}))} -> #NUM! | T29: {=SUM(LARGE(IF(Klub=$S29,T2_NOR,""),{1;2;3}))} -> #NUM! | U29: {=SUM(LARGE(IF(Klub=$S29,T3_NOR,""),{1;2;3}))} -> #NUM! | V29: =SUM(S29:U29) -> #NUM!
A30: 11 | B30: 748 | C30: Stojan Kranjc | D30: DJP Kovk | E30: SLO | F30: 777 Queen | H30: 313 | I30: =H30*500/498 -> 314.25703 | Q30: 11 | R30: DPL Ikar SG | S30: {=SUM(LARGE(IF(Klub=$R30,T1_NOR,""),{1;2;3}))} -> #NUM! | T30: {=SUM(LARGE(IF(Klub=$S30,T2_NOR,""),{1;2;3}))} -> #NUM! | U30: {=SUM(LARGE(IF(Klub=$S30,T3_NOR,""),{1;2;3}))} -> #NUM! | V30: =SUM(S30:U30) -> #NUM!
A31: 11 | B31: 549 | C31: Miha Kavčič | D31: KJP Krokar | E31: SLO | F31: Niviuk Icepeak 6 | H31: 313 | I31: =H31*500/498 -> 314.25703 | Q31: 12 | R31: DPL Posočje | S31: {=SUM(LARGE(IF(Klub=$R31,T1_NOR,""),{1;2;3}))} -> #NUM! | T31: {=SUM(LARGE(IF(Klub=$S31,T2_NOR,""),{1;2;3}))} -> #NUM! | U31: {=SUM(LARGE(IF(Klub=$S31,T3_NOR,""),{1;2;3}))} -> #NUM! | V31: =SUM(S31:U31) -> #NUM!
A32: 13 | B32: 2104 | C32: Borut Koler | D32: Lintvar | E32: SLO | F32: Niviuk Peak 3 | G32: BOKO | H32: 303 | I32: =H32*500/498 -> 304.21687 | Q32: 13 | R32: Albatros Celje | S32: {=SUM(LARGE(IF(Klub=$R32,T1_NOR,""),{1;2;3}))} -> #NUM! | T32: {=SUM(LARGE(IF(Klub=$S32,T2_NOR,""),{1;2;3}))} -> #NUM! | U32: {=SUM(LARGE(IF(Klub=$S32,T3_NOR,""),{1;2;3}))} -> #NUM! | V32: =SUM(S32:U32) -> #NUM!
A33: 14 | B33: 689 | C33: Tomaž Toplak | D33: KL Vrhnika | E33: SLO | F33: Niviuk | H33: 297 | I33: =H33*500/498 -> 298.19277
A34: 15 | B34: 2 | C34: Dušan Durkovič | D34: DJP Metulj | E34: SLO | F34: Nova Mentor | G34: DJP Metuls | H34: 296 | I34: =H34*500/498 -> 297.18876
A35: 16 | B35: 9876 | C35: Sandi Kristić | D35: KJP Krokar | E35: SLO | F35: Ozone Mantra M6 | H35: 295 | I35: =H35*500/498 -> 296.18474
A36: 16 | B36: 111 | C36: Borut Hafner | D36: KJP Krokar | E36: SLO | F36: MAC Para Marvel | H36: 295 | I36: =H36*500/498 -> 296.18474
A37: 18 | B37: 3270 | C37: Milan Perko | D37: DJP Metulj | E37: SLO | F37: Nivuk Artik | H37: 259 | I37: =H37*500/498 -> 260.04016
A38: 19 | B38: 8790 | C38: Luka Slak | D38: Polet Kamnik | E38: SLO | F38: Ozone Mantra M6 | H38: 246 | I38: =H38*500/498 -> 246.98795
A39: 20 | B39: 1403 | C39: Alojz Tovornik | D39: DJP Metulj | E39: SLO | F39: 777 Queen | G39: Metuljmania | H39: 242 | I39: =H39*500/498 -> 242.97189
A40: 21 | B40: 18 | C40: Matej Belčič | D40: DJP Cumulus | E40: SLO | F40: Aircross U Sport 2 | H40: 226 | I40: =H40*500/498 -> 226.90763
A41: 22 | B41: 230 | C41: Tomaž Eržen | D41: KJP Krokar | E41: SLO | F41: Ozone Enzo | G41: Pronet Kranj | H41: 224 | I41: =H41*500/498 -> 224.8996
A42: 22 | B42: 24 | C42: Igor Eržen | D42: KJP Krokar | E42: SLO | F42: Mac Para Elan 28 | G42: Balihoa doo | H42: 224 | I42: =H42*500/498 -> 224.8996
A43: 24 | B43: 303 | C43: Miran Fridau | D43: Lintvar | E43: SLO | F43: Niviuk Peak 3 | G43: Rigips | H43: 218 | I43: =H43*500/498 -> 218.8755
A44: 25 | B44: 81 | C44: Klemen Peljhan | D44: KJP Krokar | E44: SLO | F44: Gin Carerra | G44: Bowling City | H44: 213 | I44: =H44*500/498 -> 213.85542
A45: 26 | B45: 16 | C45: Mitja Jug | D45: KL Vrhnika | E45: SLO | F45: Gin Carrera | G45: Gustanj doo, KL Vrhnjika | H45: 193 | I45: =H45*500/498 -> 193.7751
A46: 27 | B46: 992 | C46: Mitja Jančič | D46: DJP Metulj | E46: SLO | F46: Nova Mentor 3 | G46: Nova Wings, DJP Metulj | H46: 186 | I46: =H46*500/498 -> 186.74699
A47: 28 | B47: 3692 | C47: Fridau Boštjan | D47: Lintvar | E47: SLO | F47: Niviuk Peak 2 | H47: 172 | I47: =H47*500/498 -> 172.69076
A48: 29 | B48: 82 | C48: Boštjan Svetlin | D48: KJP Krokar | E48: SLO | F48: 777 Queen | H48: 113 | I48: =H48*500/498 -> 113.45382
A49: 30 | B49: 1412 | C49: Boštjan Zorman | D49: Lintvar | E49: SLO | F49: Niviuk Artik 3 | H49: 73 | I49: =H49*500/498 -> 73.293173
A50: 31 | B50: 911 | C50: Toni Pljakoski | D50: DJP Kovk | E50: SLO | F50: BGD Tala | G50: Tomato Sport | H50: 48 | I50: =H50*500/498 -> 48.192771
D51: DJP Cumulus
D52: DJP Cumulus
D53: DPL Ikar SG
D54: Polet Kamnik
D55: Polet Kamnik
D56: DJP Kajuh
D57: DJP Kajuh
D58: DJP Parakrilec
D59: DJP Parakrilec

Sheet SocaValley
A1: Soca Wally Open 2014
A3: 2014-09-25 to 2014-09-27
A5: Overall
A7: Total results
A9: Official
A11: Task | B11: Date | C11: Distance | D11: Validity
A12: T1 T1 | B12: 2014-09-25 16:40 | C12: 21.6 km | D12: 0
A13: T2 T2 | B13: 2014-09-26 13:30 | C13: 51.0 km | D13: 1
A14: T3 T3 | B14: 2014-09-27 13:15 | C14: 64.4 km | D14: 1
A15: T4 T4 | B15: 2014-09-28 13:30 | C15: 53.1 km | D15: 1
A17: # | B17: Id | C17: Name | D17: Klub | E17: Glider | F17: Sponsor | G17: T 1 | H17: T1_NOR | I17: T 2 | J17: T2_NOR | K17: T3_NOR | M17: T4_NOR | N17: T4_NOR | Q17: Mesto | R17: Klub | S17: T1 | T17: T2 | U17: T3 | V17: T4 | W17: Skupno
A18: 1 | B18: 148 | C18: Dušan Orož | D18: DJP Kajuh | E18: OZONE EN2O | G18: 0 | H18: 0 | I18: 996 | J18: =1000*I18/996 -> 1000 | K18: 1000 | M18: 870 | Q18: 1 | R18: DJP Kajuh | S18: {=SUM(LARGE(IF(Klub=$R18,T1_NOR,""),{1;2;3}))} -> 0 | T18: {=SUM(LARGE(IF(Klub=$R18,T2_NOR,""),{1;2;3}))} -> 1000 | U18: {=SUM(LARGE(IF(Klub=$R18,T3_NOR,""),{1;2;3}))} -> 1000 | V18: {=SUM(LARGE(IF(Klub=$R18,T4_NOR,""),{1;2;3}))} -> 870 | W18: =SUM(S18:V18) -> 2870
A19: 2 | B19: 5071975 | C19: Jože Molek | D19: DJP Cumulus | E19: Ozone Enzo 2 | G19: 2 | H19: 500 | I19: 992 | J19: =1000*I19/996 -> 995.98394 | K19: 957 | M19: 817 | Q19: 2 | R19: KL Vrhnika | S19: {=SUM(LARGE(IF(Klub=$R19,T1_NOR,""),{1;2;3}))} -> 1500 | T19: {=SUM(LARGE(IF(Klub=$R19,T2_NOR,""),{1;2;3}))} -> 2261.0442 | U19: {=SUM(LARGE(IF(Klub=$R19,T3_NOR,""),{1;2;3}))} -> 2289 | V19: {=SUM(LARGE(IF(Klub=$R19,T4_NOR,""),{1;2;3}))} -> 2675 | W19: =SUM(S19:V19) -> 8725.0442
A20: 3 | B20: 5071978 | C20: Tilen Ceglar | D20: DJP Metulj | E20: Ozone Enzo M | F20: Naviter | G20: 2 | H20: 500 | I20: 820 | J20: =1000*I20/996 -> 823.29317 | K20: 986 | M20: 870 | Q20: 3 | R20: DJP Cumulus | S20: {=SUM(LARGE(IF(Klub=$R20,T1_NOR,""),{1;2;3}))} -> 500 | T20: {=SUM(LARGE(IF(Klub=$R20,T2_NOR,""),{1;2;3}))} -> 995.98394 | U20: {=SUM(LARGE(IF(Klub=$R20,T3_NOR,""),{1;2;3}))} -> 957 | V20: {=SUM(LARGE(IF(Klub=$R20,T4_NOR,""),{1;2;3}))} -> 817 | W20: =SUM(S20:V20) -> 3269.9839
A21: 4 | B21: 29 | C21: Primož Suša | D21: KL Vrhnika | E21: OZONE ENZO | F21: camp-gabrje.com | G21: 2 | H21: 500 | I21: 832 | J21: =1000*I21/996 -> 835.34137 | K21: 703 | M21: 1000 | Q21: 4 | R21: DJP Metulj | S21: {=SUM(LARGE(IF(Klub=$R21,T1_NOR,""),{1;2;3}))} -> 500 | T21: {=SUM(LARGE(IF(Klub=$R21,T2_NOR,""),{1;2;3}))} -> 823.29317 | U21: {=SUM(LARGE(IF(Klub=$R21,T3_NOR,""),{1;2;3}))} -> 986 | V21: {=SUM(LARGE(IF(Klub=$R21,T4_NOR,""),{1;2;3}))} -> 870 | W21: =SUM(S21:V21) -> 3179.2932
A22: 8 | B22: 5 | C22: Tomaž Eržen | D22: KJP Krokar | E22: OZONE ENZO | F22: www.GearForFly.com, www.pronet-kr.si | G22: 2 | H22: 500 | I22: 688 | J22: =1000*I22/996 -> 690.76305 | K22: 867 | M22: 795 | Q22: 5 | R22: DJP Kovk | S22: {=SUM(LARGE(IF(Klub=$R22,T1_NOR,""),{1;2;3}))} -> 0 | T22: {=SUM(LARGE(IF(Klub=$R22,T2_NOR,""),{1;2;3}))} -> 488.95582 | U22: {=SUM(LARGE(IF(Klub=$R22,T3_NOR,""),{1;2;3}))} -> 507 | V22: {=SUM(LARGE(IF(Klub=$R22,T4_NOR,""),{1;2;3}))} -> 421 | W22: =SUM(S22:V22) -> 1416.9558
A23: 9 | B23: 217 | C23: Bojan Gaberšek | D23: KL Vrhnika | E23: NIVIUK ICEPEAK 6 | G23: 0 | H23: 0 | I23: 669 | J23: =1000*I23/996 -> 671.68675 | K23: 917 | M23: 762 | Q23: 6 | R23: KJP Krokar | S23: {=SUM(LARGE(IF(Klub=$R23,T1_NOR,""),{1;2;3}))} -> 1500 | T23: {=SUM(LARGE(IF(Klub=$R23,T2_NOR,""),{1;2;3}))} -> 1951.8072 | U23: {=SUM(LARGE(IF(Klub=$R23,T3_NOR,""),{1;2;3}))} -> 2171 | V23: {=SUM(LARGE(IF(Klub=$R23,T4_NOR,""),{1;2;3}))} -> 1914 | W23: =SUM(S23:V23) -> 7536.8072
A24: 10 | B24: 5071976 | C24: Marko Novak | D24: KL Vrhnika | E24: Ozone Enzo | G24: 2 | H24: 500 | I24: 751 | J24: =1000*I24/996 -> 754.01606 | K24: 669 | M24: 913 | Q24: 7 | R24: Lintvar | S24: {=SUM(LARGE(IF(Klub=$R24,T1_NOR,""),{1;2;3}))} -> 500 | T24: {=SUM(LARGE(IF(Klub=$R24,T2_NOR,""),{1;2;3}))} -> 403.61446 | U24: {=SUM(LARGE(IF(Klub=$R24,T3_NOR,""),{1;2;3}))} -> 352 | V24: {=SUM(LARGE(IF(Klub=$R24,T4_NOR,""),{1;2;3}))} -> 417 | W24: =SUM(S24:V24) -> 1672.6145
A25: 13 | B25: 5071980 | C25: Simon Konavec | D25: Adrenalin | E25: Nova Triton 2 | G25: 2 | H25: 500 | I25: 719 | J25: =1000*I25/996 -> 721.88755 | K25: 811 | M25: 748 | Q25: 8 | R25: Polet Kamnik | S25: {=SUM(LARGE(IF(Klub=$R25,T1_NOR,""),{1;2;3}))} -> #NUM! | T25: {=SUM(LARGE(IF(Klub=$R25,T2_NOR,""),{1;2;3}))} -> #NUM! | U25: {=SUM(LARGE(IF(Klub=$R25,T3_NOR,""),{1;2;3}))} -> #NUM! | V25: {=SUM(LARGE(IF(Klub=$R25,T4_NOR,""),{1;2;3}))} -> #NUM! | W25: =SUM(S25:V25) -> #NUM!
A26: 18 | B26: 5071974 | C26: Klemen Peljhan | D26: KJP Krokar | E26: Gin Carrera | G26: 2 | H26: 500 | I26: 685 | J26: =1000*I26/996 -> 687.751 | K26: 659 | M26: 707 | Q26: 9 | R26: DJP Parakrilec | S26: {=SUM(LARGE(IF(Klub=$R26,T1_NOR,""),{1;2;3}))} -> 500 | T26: {=SUM(LARGE(IF(Klub=$R26,T2_NOR,""),{1;2;3}))} -> 532.12851 | U26: {=SUM(LARGE(IF(Klub=$R26,T3_NOR,""),{1;2;3}))} -> 352 | V26: {=SUM(LARGE(IF(Klub=$R26,T4_NOR,""),{1;2;3}))} -> 329 | W26: =SUM(S26:V26) -> 1713.1285
A27: 25 | B27: 141 | C27: Grega Rutar | D27: DPL Posočje | E27: OZONE DELTA 2 | F27: DPL Posočje | G27: 0 | H27: 0 | I27: 489 | J27: =1000*I27/996 -> 490.96386 | K27: 592 | M27: 743 | Q27: 10 | R27: Adrenalin | S27: {=SUM(LARGE(IF(Klub=$R27,T1_NOR,""),{1;2;3}))} -> 1500 | T27: {=SUM(LARGE(IF(Klub=$R27,T2_NOR,""),{1;2;3}))} -> 1818.2731 | U27: {=SUM(LARGE(IF(Klub=$R27,T3_NOR,""),{1;2;3}))} -> 1668 | V27: {=SUM(LARGE(IF(Klub=$R27,T4_NOR,""),{1;2;3}))} -> 1861 | W27: =SUM(S27:V27) -> 6847.2731
A28: 27 | B28: 602 | C28: Tadej Krevh | D28: Adrenalin | E28: GIN-GLIDERS CARRERA | G28: 2 | H28: 500 | I28: 659 | J28: =1000*I28/996 -> 661.64659 | K28: 487 | M28: 670 | Q28: 11 | R28: DPL Ikar SG | S28: {=SUM(LARGE(IF(Klub=$R28,T1_NOR,""),{1;2;3}))} -> #NUM! | T28: {=SUM(LARGE(IF(Klub=$R28,T2_NOR,""),{1;2;3}))} -> #NUM! | U28: {=SUM(LARGE(IF(Klub=$R28,T3_NOR,""),{1;2;3}))} -> #NUM! | V28: {=SUM(LARGE(IF(Klub=$R28,T4_NOR,""),{1;2;3}))} -> #NUM! | W28: =SUM(S28:V28) -> #NUM!
A29: 31 | B29: 5071973 | C29: Aleš Žumer | D29: KJP Krokar | E29: Ozone Delta 2 | G29: 2 | H29: 500 | I29: 571 | J29: =1000*I29/996 -> 573.29317 | K29: 645 | M29: 412 | Q29: 12 | R29: DPL Posočje | S29: {=SUM(LARGE(IF(Klub=$R29,T1_NOR,""),{1;2;3}))} -> 0 | T29: {=SUM(LARGE(IF(Klub=$R29,T2_NOR,""),{1;2;3}))} -> 490.96386 | U29: {=SUM(LARGE(IF(Klub=$R29,T3_NOR,""),{1;2;3}))} -> 592 | V29: {=SUM(LARGE(IF(Klub=$R29,T4_NOR,""),{1;2;3}))} -> 743 | W29: =SUM(S29:V29) -> 1825.9639
A30: 38 | B30: 748 | C30: Stojan Kranjc | D30: DJP Kovk | E30: TRIPLE SEVEN GLIDERS QUEEN | G30: 0 | H30: 0 | I30: 487 | J30: =1000*I30/996 -> 488.95582 | K30: 507 | M30: 421 | Q30: 13 | R30: Albatros Celje | S30: {=SUM(LARGE(IF(Klub=$R30,T1_NOR,""),{1;2;3}))} -> #NUM! | T30: {=SUM(LARGE(IF(Klub=$R30,T2_NOR,""),{1;2;3}))} -> #NUM! | U30: {=SUM(LARGE(IF(Klub=$R30,T3_NOR,""),{1;2;3}))} -> #NUM! | V30: {=SUM(LARGE(IF(Klub=$R30,T4_NOR,""),{1;2;3}))} -> #NUM! | W30: =SUM(S30:V30) -> #NUM!
A31: 47 | B31: 811 | C31: Klavdij Rakušček | D31: Adrenalin | E31: TRIPLE SEVEN GLIDERS QUEEN | F31: Jelkin-Hram.com / Adrenalin | G31: 0 | H31: 0 | I31: 433 | J31: =1000*I31/996 -> 434.73896 | K31: 370 | M31: 443
A32: 48 | B32: 321 | C32: Branko Žnuderl | D32: DJP Parakrilec | E32: OZONE MANTRA M6 | F32: RM PLUS d.o.o. - Podjetje za tržno raziskovanje in | G32: 2 | H32: 500 | I32: 530 | J32: =1000*I32/996 -> 532.12851 | K32: 352 | M32: 329
A33: 49 | B33: 5071971 | C33: Peter Kocjan | D33: Lintvar | E33: Niviuk Gliders Hook3 25 | F33: peterkocjan@gmail.com | G33: 2 | H33: 500 | I33: 402 | J33: =1000*I33/996 -> 403.61446 | K33: 352 | M33: 417
A34: 58 | B34: 36030 | C34: Mitja Jug | D34: KL Vrhnika | E34: GIN-GLIDERS CARRERA | F34: Guštanj d.o.o. | G34: 2 | H34: 500 | I34: 414 | J34: =1000*I34/996 -> 415.66265 | K34: 155 | M34: 325
A35: 60 | B35: 31638 | C35: Rok Lotrič | D35: KJP Krokar | E35: TRIPLE SEVEN GLIDERS ROOK | G35: 2 | H35: 500 | I35: 130 | J35: =1000*I35/996 -> 130.52209 | K35: 379 | M35: 189
A36: 64 | B36: 565 | C36: Matic Egart | D36: KJP Krokar | E36: MAC-PARA EDEN 5 | G36: 2 | H36: 500 | I36: 189 | J36: =1000*I36/996 -> 189.75904 | K36: 298 | M36: 73
A37: 66 | B37: 5071967 | C37: Dejan Zupanc | D37: KJP Krokar | E37: Nova Factor 2 | G37: 2 | H37: 500 | I37: 130 | J37: =1000*I37/996 -> 130.52209 | K37: 104 | M37: 199
A38: 68 | B38: 5071968 | C38: Tomaž Veber | D38: KJP Krokar | E38: UP summit XC2 | G38: 2 | H38: 500 | I38: 130 | J38: =1000*I38/996 -> 130.52209 | K38: 104 | M38: 180
A39: 71 | B39: 5071969 | C39: Lara Leban | D39: Adrenalin | E39: 777 Pawn | F39: sugar daddy;) | G39: 2 | H39: 500 | I39: 183 | J39: =1000*I39/996 -> 183.73494 | K39: 73 | M39: 102
D40: DJP Kajuh
D41: DJP Kajuh
D42: KL Vrhnika
D43: DJP Metulj
D44: DJP Metulj
D45: DJP Kovk
D46: DJP Kovk
D47: DPL Ikar SG
D48: DPL Posočje
D49: DPL Posočje
D50: DJP Parakrilec
D51: DJP Parakrilec
... D55: DJP Cumulus

Sheet Skupno
D1: Rezultati slovenske lige v preletih z jadralnimi padali | R1: Sezona 2014
B2: Mesto | C2: Name | D2: Glider | E2: T 1 | F2: T 2 | G2: T 3 | H2: T 4 | I2: T 5 | J2: T 6 | K2: T 7 | L2: T 8 | M2: T 9 | N2: T 10 | O2: T 11 | P2: T 12 | Q2: T 13 | R2: T 14 | S2: T 15 | T2: SUM | U2: - | V2: Skupno | X2: Št. izpeljanih tekem | Y2: Št. tekem ki štejejo v končni rezultata
B3: 1 | C3: Dušan Orož | D3: OZONE ENZO 2 | E3: =IFERROR(VLOOKUP(Tabela2[[#This Row],[Name]],PWC!$C$18:$N$55,7,FALSE),"0") -> 481.48148 | F3: =IFERROR(VLOOKUP(Tabela2[[#This Row],[Name]],PWC!$C$18:$N$55,9,FALSE),"0") -> 987.46082 | G3: =IFERROR(VLOOKUP(Tabela2[[#This Row],[Name]],PWC!$C$18:$N$55,11,FALSE),"0") -> 902.70812 | H3: =IFERROR(VLOOKUP(Tabela2[[#This Row],[Name]],ParaStajerka!$C$16:$J$25,7,FALSE),"0") -> 895.91078 | I3: =IFERROR(VLOOKUP(Tabela2[[#This Row],[Name]],Adrenalin!$C$18:$M$41,7,FALSE),"0") -> 974.84909 | J3: =IFERROR(VLOOKUP(Tabela2[[#This Row],[Name]],Adrenalin!$C$18:$M$41,9,FALSE),"0") -> 949.68553 | K3: =IFERROR(VLOOKUP(Tabela2[[#This Row],[Name]],Adrenalin!$C$18:$M$41,11,FALSE),"0") -> 877.6542 | L3: 0 | M3: =IFERROR(VLOOKUP(Tabela2[[#This Row],[Name]],Ratitovec!$C$18:$N$43,9,FALSE),"0") -> 872 | N3: =IFERROR(VLOOKUP(Tabela2[[#This Row],[Name]],Ratitovec!$C$18:$N$43,11,FALSE),"0") -> 800.80483 | O3: =IFERROR(VLOOKUP(Tabela2[[#This Row],[Name]],'DP2014'!$C$19:$I$50,7,FALSE),"0") -> 381.5261 | P3: 0 | Q3: =IFERROR(VLOOKUP(Tabela2[[#This Row],[Name]],SocaValley!$C$17:$M$39,8,FALSE),"0") -> 1000 | R3: =IFERROR(VLOOKUP(Tabela2[[#This Row],[Name]],SocaValley!$C$17:$M$39,9,FALSE),"0") -> 1000 | S3: =IFERROR(VLOOKUP(Tabela2[[#This Row],[Name]],SocaValley!$C$17:$M$39,11,FALSE),"0") -> 870 | T3: =SUM(E3:S3) -> 10994.081 | U3: =IFERROR(SUM(SMALL(Tabela2[[#This Row],[T 1]:[T 15]],{1;2;3;4})),"0") -> 863.00759 | V3: =T3-U3 -> 10131.073 | X3: 0 | Y3: 0
B4: 2 | C4: Jože Molek | D4: OZONE ENZO 2 | E4: =IFERROR(VLOOKUP(Tabela2[[#This Row],[Name]],PWC!$C$18:$N$55,7,FALSE),"0") -> 370.37037 | F4: =IFERROR(VLOOKUP(Tabela2[[#This Row],[Name]],PWC!$C$18:$N$55,9,FALSE),"0") -> 1000 | G4: =IFERROR(VLOOKUP(Tabela2[[#This Row],[Name]],PWC!$C$18:$N$55,11,FALSE),"0") -> 758.27482 | H4: 0 | I4: =IFERROR(VLOOKUP(Tabela2[[#This Row],[Name]],Adrenalin!$C$18:$M$41,7,FALSE),"0") -> 863.17907 | J4: =IFERROR(VLOOKUP(Tabela2[[#This Row],[Name]],Adrenalin!$C$18:$M$41,9,FALSE),"0") -> 1000 | K4: =IFERROR(VLOOKUP(Tabela2[[#This Row],[Name]],Adrenalin!$C$18:$M$41,11,FALSE),"0") -> 883.72093 | L4: =IFERROR(VLOOKUP(Tabela2[[#This Row],[Name]],Ratitovec!$C$18:$N$43,7,FALSE),"0") -> 1000 | M4: 0 | N4: =IFERROR(VLOOKUP(Tabela2[[#This Row],[Name]],Ratitovec!$C$18:$N$43,11,FALSE),"0") -> 991.95171 | O4: 0 | P4: =IFERROR(VLOOKUP(Tabela2[[#This Row],[Name]],SocaValley!$C$17:$M$39,6,FALSE),"0") -> 500 | Q4: =IFERROR(VLOOKUP(Tabela2[[#This Row],[Name]],SocaValley!$C$17:$M$39,8,FALSE),"0") -> 995.98394 | R4: =IFERROR(VLOOKUP(Tabela2[[#This Row],[Name]],SocaValley!$C$17:$M$39,11,FALSE),"0") -> 817 | S4: =IFERROR(VLOOKUP(Tabela2[[#This Row],[Name]],SocaValley!$C$17:$M$39,11,FALSE),"0") -> 817 | T4: =SUM(E4:S4) -> 9997.4808 | U4: 370 | V4: =T4-U4 -> 9627.4808 | X4: 1 | Y4: 1
B5: 3 | C5: Tilen Ceglar | D5: OZONE ENZO 2 | E5: =IFERROR(VLOOKUP(Tabela2[[#This Row],[Name]],PWC!$C$18:$N$55,7,FALSE),"0") -> 472.22222 | F5: =IFERROR(VLOOKUP(Tabela2[[#This Row],[Name]],PWC!$C$18:$N$55,9,FALSE),"0") -> 741.90178 | G5: =IFERROR(VLOOKUP(Tabela2[[#This Row],[Name]],PWC!$C$18:$N$55,11,FALSE),"0") -> 961.88566 | H5: =IFERROR(VLOOKUP(Tabela2[[#This Row],[Name]],ParaStajerka!$C$16:$J$25,7,FALSE),"0") -> 923.79182 | I5: =IFERROR(VLOOKUP(Tabela2[[#This Row],[Name]],Adrenalin!$C$18:$M$41,7,FALSE),"0") -> 963.7827 | J5: =IFERROR(VLOOKUP(Tabela2[[#This Row],[Name]],Adrenalin!$C$18:$M$41,9,FALSE),"0") -> 977.98742 | K5: =IFERROR(VLOOKUP(Tabela2[[#This Row],[Name]],Adrenalin!$C$18:$M$41,11,FALSE),"0") -> 906.97674 | L5: 0 | M5: =IFERROR(VLOOKUP(Tabela2[[#This Row],[Name]],Ratitovec!$C$18:$N$43,9,FALSE),"0") -> 774 | N5: =IFERROR(VLOOKUP(Tabela2[[#This Row],[Name]],Ratitovec!$C$18:$N$43,11,FALSE),"0") -> 174.04427 | O5: =IFERROR(VLOOKUP(Tabela2[[#This Row],[Name]],'DP2014'!$C$19:$I$50,7,FALSE),"0") -> 458.83534 | P5: =IFERROR(VLOOKUP(Tabela2[[#This Row],[Name]],SocaValley!$C$17:$M$39,6,FALSE),"0") -> 500 | Q5: =IFERROR(VLOOKUP(Tabela2[[#This Row],[Name]],SocaValley!$C$17:$M$39,8,FALSE),"0") -> 823.29317 | R5: =IFERROR(VLOOKUP(Tabela2[[#This Row],[Name]],SocaValley!$C$17:$M$39,11,FALSE),"0") -> 870 | S5: =IFERROR(VLOOKUP(Tabela2[[#This Row],[Name]],SocaValley!$C$17:$M$39,11,FALSE),"0") -> 870 | T5: =SUM(E5:S5) -> 10418.721 | U5: =IFERROR(SUM(SMALL(Tabela2[[#This Row],[T 1]:[T 15]],{1;2;3;4})),"0") -> 1105.1018 | V5: =T5-U5 -> 9313.6193 | X5: 2 | Y5: 2
B6: 4 | C6: Bojan Gaberšek | D6: NIVIUK ICEPEAK 7 PRO | E6: =IFERROR(VLOOKUP(Tabela2[[#This Row],[Name]],PWC!$C$18:$N$55,7,FALSE),"0") -> 462.96296 | F6: =IFERROR(VLOOKUP(Tabela2[[#This Row],[Name]],PWC!$C$18:$N$55,9,FALSE),"0") -> 987.46082 | G6: =IFERROR(VLOOKUP(Tabela2[[#This Row],[Name]],PWC!$C$18:$N$55,11,FALSE),"0") -> 893.68104 | H6: =IFERROR(VLOOKUP(Tabela2[[#This Row],[Name]],ParaStajerka!$C$16:$J$25,7,FALSE),"0") -> 1000 | I6: =IFERROR(VLOOKUP(Tabela2[[#This Row],[Name]],Adrenalin!$C$18:$M$41,7,FALSE),"0") -> 631.79074 | J6: =IFERROR(VLOOKUP(Tabela2[[#This Row],[Name]],Adrenalin!$C$18:$M$41,9,FALSE),"0") -> 437.10692 | K6: =IFERROR(VLOOKUP(Tabela2[[#This Row],[Name]],Adrenalin!$C$18:$M$41,11,FALSE),"0") -> 592.51769 | L6: =IFERROR(VLOOKUP(Tabela2[[#This Row],[Name]],Ratitovec!$C$18:$N$43,7,FALSE),"0") -> 991.75258 | M6: =IFERROR(VLOOKUP(Tabela2[[#This Row],[Name]],Ratitovec!$C$18:$N$43,9,FALSE),"0") -> 859 | N6: =IFERROR(VLOOKUP(Tabela2[[#This Row],[Name]],Ratitovec!$C$18:$N$43,11,FALSE),"0") -> 182.09256 | O6: =IFERROR(VLOOKUP(Tabela2[[#This Row],[Name]],'DP2014'!$C$19:$I$50,7,FALSE),"0") -> 379.51807 | P6: 0 | Q6: =IFERROR(VLOOKUP(Tabela2[[#This Row],[Name]],SocaValley!$C$17:$M$39,8,FALSE),"0") -> 671.68675 | R6: =IFERROR(VLOOKUP(Tabela2[[#This Row],[Name]],SocaValley!$C$17:$M$39,11,FALSE),"0") -> 762 | S6: =IFERROR(VLOOKUP(Tabela2[[#This Row],[Name]],SocaValley!$C$17:$M$39,11,FALSE),"0") -> 762 | T6: =SUM(E6:S6) -> 9613.5701 | U6: =IFERROR(SUM(SMALL(Tabela2[[#This Row],[T 1]:[T 15]],{1;2;3;4})),"0") -> 998.71755 | V6: =T6-U6 -> 8614.8526 | X6: 3 | Y6: 3
B7: 5 | C7: Tomaž Eržen | D7: OZONE ENZO | E7: =IFERROR(VLOOKUP(Tabela2[[#This Row],[Name]],PWC!$C$18:$N$55,7,FALSE),"0") -> 500 | F7: =IFERROR(VLOOKUP(Tabela2[[#This Row],[Name]],PWC!$C$18:$N$55,9,FALSE),"0") -> 772.20481 | G7: =IFERROR(VLOOKUP(Tabela2[[#This Row],[Name]],PWC!$C$18:$N$55,11,FALSE),"0") -> 681.04313 | H7: =IFERROR(VLOOKUP(Tabela2[[#This Row],[Name]],ParaStajerka!$C$16:$J$25,7,FALSE),"0") -> 537.17472 | I7: =IFERROR(VLOOKUP(Tabela2[[#This Row],[Name]],Adrenalin!$C$18:$M$41,7,FALSE),"0") -> 822.93763 | J7: =IFERROR(VLOOKUP(Tabela2[[#This Row],[Name]],Adrenalin!$C$18:$M$41,9,FALSE),"0") -> 716.98113 | K7: =IFERROR(VLOOKUP(Tabela2[[#This Row],[Name]],Adrenalin!$C$18:$M$41,11,FALSE),"0") -> 275.02528 | L7: =IFERROR(VLOOKUP(Tabela2[[#This Row],[Name]],Ratitovec!$C$18:$N$43,7,FALSE),"0") -> 581.4433 | M7: =IFERROR(VLOOKUP(Tabela2[[#This Row],[Name]],Ratitovec!$C$18:$N$43,9,FALSE),"0") -> 738 | N7: =IFERROR(VLOOKUP(Tabela2[[#This Row],[Name]],Ratitovec!$C$18:$N$43,11,FALSE),"0") -> 906.43863 | O7: =IFERROR(VLOOKUP(Tabela2[[#This Row],[Name]],'DP2014'!$C$19:$I$50,7,FALSE),"0") -> 224.8996 | P7: =IFERROR(VLOOKUP(Tabela2[[#This Row],[Name]],SocaValley!$C$17:$M$39,6,FALSE),"0") -> 500 | Q7: =IFERROR(VLOOKUP(Tabela2[[#This Row],[Name]],SocaValley!$C$17:$M$39,8,FALSE),"0") -> 690.76305 | R7: =IFERROR(VLOOKUP(Tabela2[[#This Row],[Name]],SocaValley!$C$17:$M$39,11,FALSE),"0") -> 795 | S7: =IFERROR(VLOOKUP(Tabela2[[#This Row],[Name]],SocaValley!$C$17:$M$39,11,FALSE),"0") -> 795 | T7: =SUM(E7:S7) -> 9536.9113 | U7: =IFERROR(SUM(SMALL(Tabela2[[#This Row],[T 1]:[T 15]],{1;2;3;4})),"0") -> 1499.9249 | V7: =T7-U7 -> 8036.9864 | X7: 4 | Y7: 4
B8: 6 | C8: Marko Novak | D8: OZONE ENZO | E8: =IFERROR(VLOOKUP(Tabela2[[#This Row],[Name]],PWC!$C$18:$N$55,7,FALSE),"0") -> 277.77778 | F8: =IFERROR(VLOOKUP(Tabela2[[#This Row],[Name]],PWC!$C$18:$N$55,9,FALSE),"0") -> 722.04807 | G8: =IFERROR(VLOOKUP(Tabela2[[#This Row],[Name]],PWC!$C$18:$N$55,11,FALSE),"0") -> 694.08225 | H8: 0 | I8: =IFERROR(VLOOKUP(Tabela2[[#This Row],[Name]],Adrenalin!$C$18:$M$41,7,FALSE),"0") -> 643.86318 | J8: =IFERROR(VLOOKUP(Tabela2[[#This Row],[Name]],Adrenalin!$C$18:$M$41,9,FALSE),"0") -> 396.22642 | K8: =IFERROR(VLOOKUP(Tabela2[[#This Row],[Name]],Adrenalin!$C$18:$M$41,11,FALSE),"0") -> 301.31446 | L8: 0 | M8: 0 | N8: =IFERROR(VLOOKUP(Tabela2[[#This Row],[Name]],Ratitovec!$C$18:$N$43,11,FALSE),"0") -> 882.29376 | O8: =IFERROR(VLOOKUP(Tabela2[[#This Row],[Name]],'DP2014'!$C$19:$I$50,7,FALSE),"0") -> 456.82731 | P8: =IFERROR(VLOOKUP(Tabela2[[#This Row],[Name]],SocaValley!$C$17:$M$39,6,FALSE),"0") -> 500 | Q8: =IFERROR(VLOOKUP(Tabela2[[#This Row],[Name]],SocaValley!$C$17:$M$39,8,FALSE),"0") -> 754.01606 | R8: =IFERROR(VLOOKUP(Tabela2[[#This Row],[Name]],SocaValley!$C$17:$M$39,11,FALSE),"0") -> 913 | S8: =IFERROR(VLOOKUP(Tabela2[[#This Row],[Name]],SocaValley!$C$17:$M$39,11,FALSE),"0") -> 913 | T8: =SUM(E8:S8) -> 7454.4493 | U8: =IFERROR(SUM(SMALL(Tabela2[[#This Row],[T 1]:[T 15]],{1;2;3;4})),"0") -> 277.77778 | V8: =T8-U8 -> 7176.6715 | X8: 5 | Y8: 4
B9: 7 | C9: Klemen Peljhan | D9: GIN-GLIDERS CARRERA | E9: =IFERROR(VLOOKUP(Tabela2[[#This Row],[Name]],PWC!$C$18:$N$55,7,FALSE),"0") -> 379.62963 | F9: =IFERROR(VLOOKUP(Tabela2[[#This Row],[Name]],PWC!$C$18:$N$55,9,FALSE),"0") -> 621.73459 | G9: =IFERROR(VLOOKUP(Tabela2[[#This Row],[Name]],PWC!$C$18:$N$55,11,FALSE),"0") -> 588.7663 | H9: =IFERROR(VLOOKUP(Tabela2[[#This Row],[Name]],ParaStajerka!$C$16:$J$25,7,FALSE),"0") -> 715.61338 | I9: =IFERROR(VLOOKUP(Tabela2[[#This Row],[Name]],Adrenalin!$C$18:$M$41,7,FALSE),"0") -> 468.81288 | J9: =IFERROR(VLOOKUP(Tabela2[[#This Row],[Name]],Adrenalin!$C$18:$M$41,9,FALSE),"0") -> 814.46541 | K9: =IFERROR(VLOOKUP(Tabela2[[#This Row],[Name]],Adrenalin!$C$18:$M$41,11,FALSE),"0") -> 429.727 | L9: =IFERROR(VLOOKUP(Tabela2[[#This Row],[Name]],Ratitovec!$C$18:$N$43,7,FALSE),"0") -> 597.93814 | M9: =IFERROR(VLOOKUP(Tabela2[[#This Row],[Name]],Ratitovec!$C$18:$N$43,9,FALSE),"0") -> 194 | N9: =IFERROR(VLOOKUP(Tabela2[[#This Row],[Name]],Ratitovec!$C$18:$N$43,11,FALSE),"0") -> 413.48089 | O9: =IFERROR(VLOOKUP(Tabela2[[#This Row],[Name]],'DP2014'!$C$19:$I$50,7,FALSE),"0") -> 213.85542 | P9: =IFERROR(VLOOKUP(Tabela2[[#This Row],[Name]],SocaValley!$C$17:$M$39,6,FALSE),"0") -> 500 | Q9: =IFERROR(VLOOKUP(Tabela2[[#This Row],[Name]],SocaValley!$C$17:$M$39,8,FALSE),"0") -> 687.751 | R9: =IFERROR(VLOOKUP(Tabela2[[#This Row],[Name]],SocaValley!$C$17:$M$39,11,FALSE),"0") -> 707 | S9: =IFERROR(VLOOKUP(Tabela2[[#This Row],[Name]],SocaValley!$C$17:$M$39,11,FALSE),"0") -> 707 | T9: =SUM(E9:S9) -> 8039.7746 | U9: =IFERROR(SUM(SMALL(Tabela2[[#This Row],[T 1]:[T 15]],{1;2;3;4})),"0") -> 1200.9659 | V9: =T9-U9 -> 6838.8087 | X9: 6 | Y9: 5
B10: 8 | C10: Jošt Napret | D10: OZONE ENZO 2 | E10: =IFERROR(VLOOKUP(Tabela2[[#This Row],[Name]],PWC!$C$18:$N$55,7,FALSE),"0") -> 370.37037 | F10: =IFERROR(VLOOKUP(Tabela2[[#This Row],[Name]],PWC!$C$18:$N$55,9,FALSE),"0") -> 660.39707 | G10: =IFERROR(VLOOKUP(Tabela2[[#This Row],[Name]],PWC!$C$18:$N$55,11,FALSE),"0") -> 293.88164 | H10: =IFERROR(VLOOKUP(Tabela2[[#This Row],[Name]],ParaStajerka!$C$16:$J$25,7,FALSE),"0") -> 0 | I10: =IFERROR(VLOOKUP(Tabela2[[#This Row],[Name]],Adrenalin!$C$18:$M$41,7,FALSE),"0") -> 924.54728 | J10: =IFERROR(VLOOKUP(Tabela2[[#This Row],[Name]],Adrenalin!$C$18:$M$41,9,FALSE),"0") -> 421.38365 | K10: =IFERROR(VLOOKUP(Tabela2[[#This Row],[Name]],Adrenalin!$C$18:$M$41,11,FALSE),"0") -> 1000 | L10: =IFERROR(VLOOKUP(Tabela2[[#This Row],[Name]],Ratitovec!$C$18:$N$43,7,FALSE),"0") -> 598.96907 | M10: =IFERROR(VLOOKUP(Tabela2[[#This Row],[Name]],Ratitovec!$C$18:$N$43,9,FALSE),"0") -> 1000 | N10: =IFERROR(VLOOKUP(Tabela2[[#This Row],[Name]],Ratitovec!$C$18:$N$43,11,FALSE),"0") -> 1000 | O10: 0 | P10: =IFERROR(VLOOKUP(Tabela2[[#This Row],[Name]],SocaValley!$C$17:$M$39,6,FALSE),"0") -> 0 | Q10: =IFERROR(VLOOKUP(Tabela2[[#This Row],[Name]],SocaValley!$C$17:$M$39,8,FALSE),"0") -> 0 | R10: =IFERROR(VLOOKUP(Tabela2[[#This Row],[Name]],SocaValley!$C$17:$M$39,11,FALSE),"0") -> 0 | S10: =IFERROR(VLOOKUP(Tabela2[[#This Row],[Name]],SocaValley!$C$17:$M$39,11,FALSE),"0") -> 0 | T10: =SUM(E10:S10) -> 6269.5491 | U10: 0 | V10: =T10-U10 -> 6269.5491 | X10: 7 | Y10: 6
B11: 9 | C11: Jurij Vidic | D11: OZONE ENZO 2 | E11: =IFERROR(VLOOKUP(Tabela2[[#This Row],[Name]],PWC!$C$18:$N$55,7,FALSE),"0") -> 472.22222 | F11: =IFERROR(VLOOKUP(Tabela2[[#This Row],[Name]],PWC!$C$18:$N$55,9,FALSE),"0") -> 701.14943 | G11: =IFERROR(VLOOKUP(Tabela2[[#This Row],[Name]],PWC!$C$18:$N$55,11,FALSE),"0") -> 1000 | H11: =IFERROR(VLOOKUP(Tabela2[[#This Row],[Name]],ParaStajerka!$C$16:$J$25,7,FALSE),"0") -> 0 | I11: =IFERROR(VLOOKUP(Tabela2[[#This Row],[Name]],Adrenalin!$C$18:$M$41,7,FALSE),"0") -> 1000 | J11: =IFERROR(VLOOKUP(Tabela2[[#This Row],[Name]],Adrenalin!$C$18:$M$41,9,FALSE),"0") -> 839.62264 | K11: =IFERROR(VLOOKUP(Tabela2[[#This Row],[Name]],Adrenalin!$C$18:$M$41,11,FALSE),"0") -> 937.31041 | L11: =IFERROR(VLOOKUP(Tabela2[[#This Row],[Name]],Ratitovec!$C$18:$N$43,7,FALSE),"0") -> 0 | M11: =IFERROR(VLOOKUP(Tabela2[[#This Row],[Name]],Ratitovec!$C$18:$N$43,9,FALSE),"0") -> 196 | N11: =IFERROR(VLOOKUP(Tabela2[[#This Row],[Name]],Ratitovec!$C$18:$N$43,11,FALSE),"0") -> 1000 | O11: 0 | P11: =IFERROR(VLOOKUP(Tabela2[[#This Row],[Name]],SocaValley!$C$17:$M$39,6,FALSE),"0") -> 0 | Q11: =IFERROR(VLOOKUP(Tabela2[[#This Row],[Name]],SocaValley!$C$17:$M$39,8,FALSE),"0") -> 0 | R11: =IFERROR(VLOOKUP(Tabela2[[#This Row],[Name]],SocaValley!$C$17:$M$39,11,FALSE),"0") -> 0 | S11: =IFERROR(VLOOKUP(Tabela2[[#This Row],[Name]],SocaValley!$C$17:$M$39,11,FALSE),"0") -> 0 | T11: =SUM(E11:S11) -> 6146.3047 | U11: 0 | V11: =T11-U11 -> 6146.3047 | X11: 8 | Y11: 6
B12: 10 | C12: Primož Suša | D12: OZONE ENZO 2 | E12: =IFERROR(VLOOKUP(Tabela2[[#This Row],[Name]],PWC!$C$18:$N$55,7,FALSE),"0") -> 472.22222 | F12: =IFERROR(VLOOKUP(Tabela2[[#This Row],[Name]],PWC!$C$18:$N$55,9,FALSE),"0") -> 449.32079 | G12: =IFERROR(VLOOKUP(Tabela2[[#This Row],[Name]],PWC!$C$18:$N$55,11,FALSE),"0") -> 922.7683 | H12: =IFERROR(VLOOKUP(Tabela2[[#This Row],[Name]],ParaStajerka!$C$16:$J$25,7,FALSE),"0") -> 0 | I12: =IFERROR(VLOOKUP(Tabela2[[#This Row],[Name]],Adrenalin!$C$18:$M$41,7,FALSE),"0") -> 0 | J12: 0 | K12: 0 | L12: 0 | M12: 0 | N12: =IFERROR(VLOOKUP(Tabela2[[#This Row],[Name]],Ratitovec!$C$18:$N$43,11,FALSE),"0") -> 201.20724 | O12: =IFERROR(VLOOKUP(Tabela2[[#This Row],[Name]],'DP2014'!$C$19:$I$50,7,FALSE),"0") -> 500 | P12: =IFERROR(VLOOKUP(Tabela2[[#This Row],[Name]],SocaValley!$C$17:$M$39,6,FALSE),"0") -> 500 | Q12: =IFERROR(VLOOKUP(Tabela2[[#This Row],[Name]],SocaValley!$C$17:$M$39,8,FALSE),"0") -> 835.34137 | R12: =IFERROR(VLOOKUP(Tabela2[[#This Row],[Name]],SocaValley!$C$17:$M$39,11,FALSE),"0") -> 1000 | S12: =IFERROR(VLOOKUP(Tabela2[[#This Row],[Name]],SocaValley!$C$17:$M$39,11,FALSE),"0") -> 1000 | T12: =SUM(E12:S12) -> 5880.8599 | U12: =IFERROR(SUM(SMALL(Tabela2[[#This Row],[T 1]:[T 15]],{1;2;3;4})),"0") -> 0 | V12: =T12-U12 -> 5880.8599 | X12: 9 | Y12: 7
B13: 11 | C13: Stojan Kranjc | D13: TRIPLE SEVEN QUEEN | E13: =IFERROR(VLOOKUP(Tabela2[[#This Row],[Name]],PWC!$C$18:$N$55,7,FALSE),"0") -> 277.77778 | F13: =IFERROR(VLOOKUP(Tabela2[[#This Row],[Name]],PWC!$C$18:$N$55,9,FALSE),"0") -> 440.96134 | G13: =IFERROR(VLOOKUP(Tabela2[[#This Row],[Name]],PWC!$C$18:$N$55,11,FALSE),"0") -> 472.41725 | H13: 0 | I13: =IFERROR(VLOOKUP(Tabela2[[#This Row],[Name]],Adrenalin!$C$18:$M$41,7,FALSE),"0") -> 224.34608 | J13: =IFERROR(VLOOKUP(Tabela2[[#This Row],[Name]],Adrenalin!$C$18:$M$41,9,FALSE),"0") -> 556.60377 | K13: =IFERROR(VLOOKUP(Tabela2[[#This Row],[Name]],Adrenalin!$C$18:$M$41,11,FALSE),"0") -> 455.00506 | L13: =IFERROR(VLOOKUP(Tabela2[[#This Row],[Name]],Ratitovec!$C$18:$N$43,7,FALSE),"0") -> 534.02062 | M13: =IFERROR(VLOOKUP(Tabela2[[#This Row],[Name]],Ratitovec!$C$18:$N$43,9,FALSE),"0") -> 407 | N13: =IFERROR(VLOOKUP(Tabela2[[#This Row],[Name]],Ratitovec!$C$18:$N$43,11,FALSE),"0") -> 175.0503 | O13: =IFERROR(VLOOKUP(Tabela2[[#This Row],[Name]],'DP2014'!$C$19:$I$50,7,FALSE),"0") -> 314.25703 | P13: 0 | Q13: =IFERROR(VLOOKUP(Tabela2[[#This Row],[Name]],SocaValley!$C$17:$M$39,8,FALSE),"0") -> 488.95582 | R13: =IFERROR(VLOOKUP(Tabela2[[#This Row],[Name]],SocaValley!$C$17:$M$39,11,FALSE),"0") -> 421 | S13: =IFERROR(VLOOKUP(Tabela2[[#This Row],[Name]],SocaValley!$C$17:$M$39,11,FALSE),"0") -> 421 | T13: =SUM(E13:S13) -> 5188.395 | U13: =IFERROR(SUM(SMALL(Tabela2[[#This Row],[T 1]:[T 15]],{1;2;3;4})),"0") -> 399.39638 | V13: =T13-U13 -> 4788.9987 | X13: 10 | Y13: 8
B14: 12 | C14: Tadej Krevh | D14: GIN-GLIDERS CARRERA | E14: =IFERROR(VLOOKUP(Tabela2[[#This Row],[Name]],PWC!$C$18:$N$55,7,FALSE),"0") -> 277.77778 | F14: =IFERROR(VLOOKUP(Tabela2[[#This Row],[Name]],PWC!$C$18:$N$55,9,FALSE),"0") -> 178.68339 | G14: =IFERROR(VLOOKUP(Tabela2[[#This Row],[Name]],PWC!$C$18:$N$55,11,FALSE),"0") -> 469.40822 | H14: =IFERROR(VLOOKUP(Tabela2[[#This Row],[Name]],ParaStajerka!$C$16:$J$25,7,FALSE),"0") -> 0 | I14: =IFERROR(VLOOKUP(Tabela2[[#This Row],[Name]],Adrenalin!$C$18:$M$41,7,FALSE),"0") -> 354.12475 | J14: =IFERROR(VLOOKUP(Tabela2[[#This Row],[Name]],Adrenalin!$C$18:$M$41,9,FALSE),"0") -> 581.76101 | K14: =IFERROR(VLOOKUP(Tabela2[[#This Row],[Name]],Adrenalin!$C$18:$M$41,11,FALSE),"0") -> 319.51466 | L14: 0 | M14: 0 | N14: 0 | O14: 0 | P14: =IFERROR(VLOOKUP(Tabela2[[#This Row],[Name]],SocaValley!$C$17:$M$39,6,FALSE),"0") -> 500 | Q14: =IFERROR(VLOOKUP(Tabela2[[#This Row],[Name]],SocaValley!$C$17:$M$39,8,FALSE),"0") -> 661.64659 | R14: =IFERROR(VLOOKUP(Tabela2[[#This Row],[Name]],SocaValley!$C$17:$M$39,11,FALSE),"0") -> 670 | S14: =IFERROR(VLOOKUP(Tabela2[[#This Row],[Name]],SocaValley!$C$17:$M$39,11,FALSE),"0") -> 670 | T14: =SUM(E14:S14) -> 4682.9164 | U14: =IFERROR(SUM(SMALL(Tabela2[[#This Row],[T 1]:[T 15]],{1;2;3;4})),"0") -> 0 | V14: =T14-U14 -> 4682.9164 | X14: 11 | Y14: 8
B15: 13 | C15: Simon Konavec | D15: NOVA TRITON 2 | E15: =IFERROR(VLOOKUP(Tabela2[[#This Row],[Name]],PWC!$C$18:$N$55,7,FALSE),"0") -> 277.77778 | F15: =IFERROR(VLOOKUP(Tabela2[[#This Row],[Name]],PWC!$C$18:$N$55,9,FALSE),"0") -> 476.48903 | G15: =IFERROR(VLOOKUP(Tabela2[[#This Row],[Name]],PWC!$C$18:$N$55,11,FALSE),"0") -> 159.47844 | H15: =IFERROR(VLOOKUP(Tabela2[[#This Row],[Name]],ParaStajerka!$C$16:$J$25,7,FALSE),"0") -> 0 | I15: =IFERROR(VLOOKUP(Tabela2[[#This Row],[Name]],Adrenalin!$C$18:$M$41,7,FALSE),"0") -> 383.2998 | J15: =IFERROR(VLOOKUP(Tabela2[[#This Row],[Name]],Adrenalin!$C$18:$M$41,9,FALSE),"0") -> 106.91824 | K15: =IFERROR(VLOOKUP(Tabela2[[#This Row],[Name]],Adrenalin!$C$18:$M$41,11,FALSE),"0") -> 0 | L15: 0 | M15: 0 | N15: 0 | O15: =IFERROR(VLOOKUP(Tabela2[[#This Row],[Name]],'DP2014'!$C$19:$I$50,7,FALSE),"0") -> 0 | P15: =IFERROR(VLOOKUP(Tabela2[[#This Row],[Name]],SocaValley!$C$17:$M$39,6,FALSE),"0") -> 500 | Q15: =IFERROR(VLOOKUP(Tabela2[[#This Row],[Name]],SocaValley!$C$17:$M$39,8,FALSE),"0") -> 721.88755 | R15: =IFERROR(VLOOKUP(Tabela2[[#This Row],[Name]],SocaValley!$C$17:$M$39,11,FALSE),"0") -> 748 | S15: =IFERROR(VLOOKUP(Tabela2[[#This Row],[Name]],SocaValley!$C$17:$M$39,11,FALSE),"0") -> 748 | T15: =SUM(E15:S15) -> 4121.8508 | U15: =IFERROR(SUM(SMALL(Tabela2[[#This Row],[T 1]:[T 15]],{1;2;3;4})),"0") -> 0 | V15: =T15-U15 -> 4121.8508 | X15: 12 | Y15: 9
B16: 14 | C16: Mitja Jug | D16: GIN-GLIDERS CARRERA | E16: =IFERROR(VLOOKUP(Tabela2[[#This Row],[Name]],PWC!$C$18:$N$55,7,FALSE),"0") -> 277.77778 | F16: =IFERROR(VLOOKUP(Tabela2[[#This Row],[Name]],PWC!$C$18:$N$55,9,FALSE),"0") -> 389.75967 | G16: =IFERROR(VLOOKUP(Tabela2[[#This Row],[Name]],PWC!$C$18:$N$55,11,FALSE),"0") -> 455.3661 | H16: =IFERROR(VLOOKUP(Tabela2[[#This Row],[Name]],ParaStajerka!$C$16:$J$25,7,FALSE),"0") -> 189.59108 | I16: =IFERROR(VLOOKUP(Tabela2[[#This Row],[Name]],Adrenalin!$C$18:$M$41,7,FALSE),"0") -> 170.02012 | J16: =IFERROR(VLOOKUP(Tabela2[[#This Row],[Name]],Adrenalin!$C$18:$M$41,9,FALSE),"0") -> 333.33333 | K16: =IFERROR(VLOOKUP(Tabela2[[#This Row],[Name]],Adrenalin!$C$18:$M$41,11,FALSE),"0") -> 407.48231 | L16: =IFERROR(VLOOKUP(Tabela2[[#This Row],[Name]],Ratitovec!$C$18:$N$43,7,FALSE),"0") -> 128.86598 | M16: =IFERROR(VLOOKUP(Tabela2[[#This Row],[Name]],Ratitovec!$C$18:$N$43,9,FALSE),"0") -> 60 | N16: =IFERROR(VLOOKUP(Tabela2[[#This Row],[Name]],Ratitovec!$C$18:$N$43,11,FALSE),"0") -> 169.01408 | O16: =IFERROR(VLOOKUP(Tabela2[[#This Row],[Name]],'DP2014'!$C$19:$I$50,7,FALSE),"0") -> 193.7751 | P16: =IFERROR(VLOOKUP(Tabela2[[#This Row],[Name]],SocaValley!$C$17:$M$39,6,FALSE),"0") -> 500 | Q16: =IFERROR(VLOOKUP(Tabela2[[#This Row],[Name]],SocaValley!$C$17:$M$39,8,FALSE),"0") -> 415.66265 | R16: =IFERROR(VLOOKUP(Tabela2[[#This Row],[Name]],SocaValley!$C$17:$M$39,11,FALSE),"0") -> 325 | S16: =IFERROR(VLOOKUP(Tabela2[[#This Row],[Name]],SocaValley!$C$17:$M$39,11,FALSE),"0") -> 325 | T16: =SUM(E16:S16) -> 4340.6482 | U16: =IFERROR(SUM(SMALL(Tabela2[[#This Row],[T 1]:[T 15]],{1;2;3;4})),"0") -> 527.90018 | V16: =T16-U16 -> 3812.748 | X16: 13 | Y16: 10
B17: 15 | C17: Dušan Durkovič | D17: NOVA TRITON 2 | E17: =IFERROR(VLOOKUP(Tabela2[[#This Row],[Name]],PWC!$C$18:$N$55,7,FALSE),"0") -> 462.96296 | F17: =IFERROR(VLOOKUP(Tabela2[[#This Row],[Name]],PWC!$C$18:$N$55,9,FALSE),"0") -> 759.66562 | G17: =IFERROR(VLOOKUP(Tabela2[[#This Row],[Name]],PWC!$C$18:$N$55,11,FALSE),"0") -> 734.20261 | H17: =IFERROR(VLOOKUP(Tabela2[[#This Row],[Name]],ParaStajerka!$C$16:$J$25,7,FALSE),"0") -> 0 | I17: =IFERROR(VLOOKUP(Tabela2[[#This Row],[Name]],Adrenalin!$C$18:$M$41,7,FALSE),"0") -> 503.01811 | J17: =IFERROR(VLOOKUP(Tabela2[[#This Row],[Name]],Adrenalin!$C$18:$M$41,9,FALSE),"0") -> 723.27044 | K17: =IFERROR(VLOOKUP(Tabela2[[#This Row],[Name]],Adrenalin!$C$18:$M$41,11,FALSE),"0") -> 321.53691 | L17: =IFERROR(VLOOKUP(Tabela2[[#This Row],[Name]],Ratitovec!$C$18:$N$43,7,FALSE),"0") -> 0 | M17: =IFERROR(VLOOKUP(Tabela2[[#This Row],[Name]],Ratitovec!$C$18:$N$43,9,FALSE),"0") -> 0 | N17: 0 | O17: =IFERROR(VLOOKUP(Tabela2[[#This Row],[Name]],'DP2014'!$C$19:$I$50,7,FALSE),"0") -> 297.18876 | P17: =IFERROR(VLOOKUP(Tabela2[[#This Row],[Name]],SocaValley!$C$17:$M$39,6,FALSE),"0") -> 0 | Q17: 0 | R17: 0 | S17: 0 | T17: =SUM(E17:S17) -> 3801.8454 | U17: =IFERROR(SUM(SMALL(Tabela2[[#This Row],[T 1]:[T 15]],{1;2;3;4})),"0") -> 0 | V17: =T17-U17 -> 3801.8454 | X17: 14 | Y17: 10
B18: 16 | C18: Tomaž Toplak | D18: NIVIUK ICEPEAK 6 | E18: =IFERROR(VLOOKUP(Tabela2[[#This Row],[Name]],PWC!$C$18:$N$55,7,FALSE),"0") -> 277.77778 | F18: =IFERROR(VLOOKUP(Tabela2[[#This Row],[Name]],PWC!$C$18:$N$55,9,FALSE),"0") -> 444.09613 | G18: =IFERROR(VLOOKUP(Tabela2[[#This Row],[Name]],PWC!$C$18:$N$55,11,FALSE),"0") -> 600.80241 | H18: =IFERROR(VLOOKUP(Tabela2[[#This Row],[Name]],ParaStajerka!$C$16:$J$25,7,FALSE),"0") -> 0 | I18: =IFERROR(VLOOKUP(Tabela2[[#This Row],[Name]],Adrenalin!$C$18:$M$41,7,FALSE),"0") -> 492.95775 | J18: =IFERROR(VLOOKUP(Tabela2[[#This Row],[Name]],Adrenalin!$C$18:$M$41,9,FALSE),"0") -> 289.30818 | K18: =IFERROR(VLOOKUP(Tabela2[[#This Row],[Name]],Adrenalin!$C$18:$M$41,11,FALSE),"0") -> 283.11426 | L18: =IFERROR(VLOOKUP(Tabela2[[#This Row],[Name]],Ratitovec!$C$18:$N$43,7,FALSE),"0") -> 531.95876 | M18: =IFERROR(VLOOKUP(Tabela2[[#This Row],[Name]],Ratitovec!$C$18:$N$43,9,FALSE),"0") -> 201 | N18: =IFERROR(VLOOKUP(Tabela2[[#This Row],[Name]],Ratitovec!$C$18:$N$43,11,FALSE),"0") -> 174.04427 | O18: =IFERROR(VLOOKUP(Tabela2[[#This Row],[Name]],'DP2014'!$C$19:$I$50,7,FALSE),"0") -> 298.19277 | P18: =IFERROR(VLOOKUP(Tabela2[[#This Row],[Name]],SocaValley!$C$17:$M$39,6,FALSE),"0") -> 0 | Q18: 0 | R18: 0 | S18: 0 | T18: =SUM(E18:S18) -> 3593.2523 | U18: =IFERROR(SUM(SMALL(Tabela2[[#This Row],[T 1]:[T 15]],{1;2;3;4})),"0") -> 174.04427 | V18: =T18-U18 -> 3419.208 | X18: 15 | Y18: 11
B19: 17 | C19: Aleš Žumer | D19: OZONE DELTA 2 | E19: =IFERROR(VLOOKUP(Tabela2[[#This Row],[Name]],PWC!$C$18:$N$55,7,FALSE),"0") -> 0 | F19: =IFERROR(VLOOKUP(Tabela2[[#This Row],[Name]],PWC!$C$18:$N$55,9,FALSE),"0") -> 0 | G19: =IFERROR(VLOOKUP(Tabela2[[#This Row],[Name]],PWC!$C$18:$N$55,11,FALSE),"0") -> 0 | H19: 0 | I19: 0 | J19: 0 | K19: 0 | L19: =IFERROR(VLOOKUP(Tabela2[[#This Row],[Name]],Ratitovec!$C$18:$N$43,7,FALSE),"0") -> 521.64948 | M19: =IFERROR(VLOOKUP(Tabela2[[#This Row],[Name]],Ratitovec!$C$18:$N$43,9,FALSE),"0") -> 0 | N19: =IFERROR(VLOOKUP(Tabela2[[#This Row],[Name]],Ratitovec!$C$18:$N$43,11,FALSE),"0") -> 800.80483 | O19: =IFERROR(VLOOKUP(Tabela2[[#This Row],[Name]],'DP2014'!$C$19:$I$50,7,FALSE),"0") -> 0 | P19: =IFERROR(VLOOKUP(Tabela2[[#This Row],[Name]],SocaValley!$C$17:$M$39,6,FALSE),"0") -> 500 | Q19: =IFERROR(VLOOKUP(Tabela2[[#This Row],[Name]],SocaValley!$C$17:$M$39,8,FALSE),"0") -> 573.29317 | R19: =IFERROR(VLOOKUP(Tabela2[[#This Row],[Name]],SocaValley!$C$17:$M$39,11,FALSE),"0") -> 412 | S19: =IFERROR(VLOOKUP(Tabela2[[#This Row],[Name]],SocaValley!$C$17:$M$39,11,FALSE),"0") -> 412 | T19: =SUM(E19:S19) -> 3219.7475 | U19: =IFERROR(SUM(SMALL(Tabela2[[#This Row],[T 1]:[T 15]],{1;2;3;4})),"0") -> 0 | V19: =T19-U19 -> 3219.7475 | X19: Več kot 15 tekem | Y19: 12
B20: 18 | C20: Branko Žnuderl | D20: OZONE MANTRA 6 | E20: =IFERROR(VLOOKUP(Tabela2[[#This Row],[Name]],PWC!$C$18:$N$55,7,FALSE),"0") -> 277.77778 | F20: =IFERROR(VLOOKUP(Tabela2[[#This Row],[Name]],PWC!$C$18:$N$55,9,FALSE),"0") -> 321.83908 | G20: =IFERROR(VLOOKUP(Tabela2[[#This Row],[Name]],PWC!$C$18:$N$55,11,FALSE),"0") -> 440.32096 | H20: =IFERROR(VLOOKUP(Tabela2[[#This Row],[Name]],ParaStajerka!$C$16:$J$25,7,FALSE),"0") -> 0 | I20: =IFERROR(VLOOKUP(Tabela2[[#This Row],[Name]],Adrenalin!$C$18:$M$41,7,FALSE),"0") -> 0 | J20: =IFERROR(VLOOKUP(Tabela2[[#This Row],[Name]],Adrenalin!$C$18:$M$41,9,FALSE),"0") -> 0 | K20: 0 | L20: 0 | M20: 0 | N20: 0 | O20: =IFERROR(VLOOKUP(Tabela2[[#This Row],[Name]],'DP2014'!$C$19:$I$50,7,FALSE),"0") -> 363.45382 | P20: =IFERROR(VLOOKUP(Tabela2[[#This Row],[Name]],SocaValley!$C$17:$M$39,6,FALSE),"0") -> 500 | Q20: =IFERROR(VLOOKUP(Tabela2[[#This Row],[Name]],SocaValley!$C$17:$M$39,8,FALSE),"0") -> 532.12851 | R20: =IFERROR(VLOOKUP(Tabela2[[#This Row],[Name]],SocaValley!$C$17:$M$39,11,FALSE),"0") -> 329 | S20: =IFERROR(VLOOKUP(Tabela2[[#This Row],[Name]],SocaValley!$C$17:$M$39,11,FALSE),"0") -> 329 | T20: =SUM(E20:S20) -> 3093.5202 | U20: =IFERROR(SUM(SMALL(Tabela2[[#This Row],[T 1]:[T 15]],{1;2;3;4})),"0") -> 0 | V20: =T20-U20 -> 3093.5202
B21: 19 | C21: Boštjan Poročnik | D21: OZONE MANTRA 6 | E21: =IFERROR(VLOOKUP(Tabela2[[#This Row],[Name]],PWC!$C$18:$N$55,7,FALSE),"0") -> 435.18519 | F21: =IFERROR(VLOOKUP(Tabela2[[#This Row],[Name]],PWC!$C$18:$N$55,9,FALSE),"0") -> 335.4232 | G21: =IFERROR(VLOOKUP(Tabela2[[#This Row],[Name]],PWC!$C$18:$N$55,11,FALSE),"0") -> 743.22969 | H21: =IFERROR(VLOOKUP(Tabela2[[#This Row],[Name]],ParaStajerka!$C$16:$J$25,7,FALSE),"0") -> 934.94424 | I21: 0 | J21: 0 | K21: 0 | L21: =IFERROR(VLOOKUP(Tabela2[[#This Row],[Name]],Ratitovec!$C$18:$N$43,7,FALSE),"0") -> 202.06186 | M21: =IFERROR(VLOOKUP(Tabela2[[#This Row],[Name]],Ratitovec!$C$18:$N$43,9,FALSE),"0") -> 287 | N21: =IFERROR(VLOOKUP(Tabela2[[#This Row],[Name]],Ratitovec!$C$18:$N$43,11,FALSE),"0") -> 151.91147 | O21: =IFERROR(VLOOKUP(Tabela2[[#This Row],[Name]],'DP2014'!$C$19:$I$50,7,FALSE),"0") -> 0 | P21: 0 | Q21: =IFERROR(VLOOKUP(Tabela2[[#This Row],[Name]],SocaValley!$C$17:$M$39,8,FALSE),"0") -> 0 | R21: =IFERROR(VLOOKUP(Tabela2[[#This Row],[Name]],SocaValley!$C$17:$M$39,11,FALSE),"0") -> 0 | S21: =IFERROR(VLOOKUP(Tabela2[[#This Row],[Name]],SocaValley!$C$17:$M$39,11,FALSE),"0") -> 0 | T21: =SUM(E21:S21) -> 3089.7556 | U21: =IFERROR(SUM(SMALL(Tabela2[[#This Row],[T 1]:[T 15]],{1;2;3;4})),"0") -> 0 | V21: =T21-U21 -> 3089.7556
B22: 20 | C22: Grega Rutar | D22: OZONE DELTA 2 | E22: =IFERROR(VLOOKUP(Tabela2[[#This Row],[Name]],PWC!$C$18:$N$55,7,FALSE),"0") -> 277.77778 | F22: =IFERROR(VLOOKUP(Tabela2[[#This Row],[Name]],PWC!$C$18:$N$55,9,FALSE),"0") -> 449.32079 | G22: =IFERROR(VLOOKUP(Tabela2[[#This Row],[Name]],PWC!$C$18:$N$55,11,FALSE),"0") -> 152.45737 | H22: 0 | I22: 0 | J22: 0 | K22: 0 | L22: 0 | M22: 0 | N22: 0 | O22: =IFERROR(VLOOKUP(Tabela2[[#This Row],[Name]],'DP2014'!$C$19:$I$50,7,FALSE),"0") -> 0 | P22: 0 | Q22: =IFERROR(VLOOKUP(Tabela2[[#This Row],[Name]],SocaValley!$C$17:$M$39,8,FALSE),"0") -> 490.96386 | R22: =IFERROR(VLOOKUP(Tabela2[[#This Row],[Name]],SocaValley!$C$17:$M$39,11,FALSE),"0") -> 743 | S22: =IFERROR(VLOOKUP(Tabela2[[#This Row],[Name]],SocaValley!$C$17:$M$39,11,FALSE),"0") -> 743 | T22: =SUM(E22:S22) -> 2856.5198 | U22: =IFERROR(SUM(SMALL(Tabela2[[#This Row],[T 1]:[T 15]],{1;2;3;4})),"0") -> 0 | V22: =T22-U22 -> 2856.5198
B23: 21 | C23: Anže Pristov | D23: NIVIUK ICEPEAK 7 | E23: =IFERROR(VLOOKUP(Tabela2[[#This Row],[Name]],PWC!$C$18:$N$55,7,FALSE),"0") -> 472.22222 | F23: =IFERROR(VLOOKUP(Tabela2[[#This Row],[Name]],PWC!$C$18:$N$55,9,FALSE),"0") -> 701.14943 | G23: =IFERROR(VLOOKUP(Tabela2[[#This Row],[Name]],PWC!$C$18:$N$55,11,FALSE),"0") -> 694.08225 | H23: =IFERROR(VLOOKUP(Tabela2[[#This Row],[Name]],ParaStajerka!$C$16:$J$25,7,FALSE),"0") -> 0 | I23: =IFERROR(VLOOKUP(Tabela2[[#This Row],[Name]],Adrenalin!$C$18:$M$41,7,FALSE),"0") -> 611.67002 | J23: =IFERROR(VLOOKUP(Tabela2[[#This Row],[Name]],Adrenalin!$C$18:$M$41,9,FALSE),"0") -> 106.91824 | K23: =IFERROR(VLOOKUP(Tabela2[[#This Row],[Name]],Adrenalin!$C$18:$M$41,11,FALSE),"0") -> 263.90293 | L23: 0 | M23: 0 | N23: 0 | O23: =IFERROR(VLOOKUP(Tabela2[[#This Row],[Name]],'DP2014'!$C$19:$I$50,7,FALSE),"0") -> 0 | P23: 0 | Q23: 0 | R23: 0 | S23: 0 | T23: =SUM(E23:S23) -> 2849.9451 | U23: =IFERROR(SUM(SMALL(Tabela2[[#This Row],[T 1]:[T 15]],{1;2;3;4})),"0") -> 0 | V23: =T23-U23 -> 2849.9451
B24: 22 | C24: Igor Eržen | D24: MAC-PARA MARVEL | E24: =IFERROR(VLOOKUP(Tabela2[[#This Row],[Name]],PWC!$C$18:$N$55,7,FALSE),"0") -> 379.62963 | F24: =IFERROR(VLOOKUP(Tabela2[[#This Row],[Name]],PWC!$C$18:$N$55,9,FALSE),"0") -> 446.186 | G24: =IFERROR(VLOOKUP(Tabela2[[#This Row],[Name]],PWC!$C$18:$N$55,11,FALSE),"0") -> 313.94183 | H24: =IFERROR(VLOOKUP(Tabela2[[#This Row],[Name]],ParaStajerka!$C$16:$J$25,7,FALSE),"0") -> 0 | I24: =IFERROR(VLOOKUP(Tabela2[[#This Row],[Name]],Adrenalin!$C$18:$M$41,7,FALSE),"0") -> 369.21529 | J24: =IFERROR(VLOOKUP(Tabela2[[#This Row],[Name]],Adrenalin!$C$18:$M$41,9,FALSE),"0") -> 411.94969 | K24: =IFERROR(VLOOKUP(Tabela2[[#This Row],[Name]],Adrenalin!$C$18:$M$41,11,FALSE),"0") -> 301.31446 | L24: =IFERROR(VLOOKUP(Tabela2[[#This Row],[Name]],Ratitovec!$C$18:$N$43,7,FALSE),"0") -> 74.226804 | M24: =IFERROR(VLOOKUP(Tabela2[[#This Row],[Name]],Ratitovec!$C$18:$N$43,9,FALSE),"0") -> 69 | N24: =IFERROR(VLOOKUP(Tabela2[[#This Row],[Name]],Ratitovec!$C$18:$N$43,11,FALSE),"0") -> 75.452716 | O24: =IFERROR(VLOOKUP(Tabela2[[#This Row],[Name]],'DP2014'!$C$19:$I$50,7,FALSE),"0") -> 224.8996 | P24: 0 | Q24: 0 | R24: 0 | S24: 0 | T24: =SUM(E24:S24) -> 2665.816 | U24: =IFERROR(SUM(SMALL(Tabela2[[#This Row],[T 1]:[T 15]],{1;2;3;4})),"0") -> 0 | V24: =T24-U24 -> 2665.816
B25: 23 | C25: Peter Kocjan | D25: NIVIUK HOOK 3 | E25: =IFERROR(VLOOKUP(Tabela2[[#This Row],[Name]],PWC!$C$18:$N$55,7,FALSE),"0") -> 277.77778 | F25: =IFERROR(VLOOKUP(Tabela2[[#This Row],[Name]],PWC!$C$18:$N$55,9,FALSE),"0") -> 188.08777 | G25: =IFERROR(VLOOKUP(Tabela2[[#This Row],[Name]],PWC!$C$18:$N$55,11,FALSE),"0") -> 438.31494 | H25: 0 | I25: 0 | J25: 0 | K25: 0 | L25: 0 | M25: 0 | N25: 0 | O25: =IFERROR(VLOOKUP(Tabela2[[#This Row],[Name]],'DP2014'!$C$19:$I$50,7,FALSE),"0") -> 0 | P25: =IFERROR(VLOOKUP(Tabela2[[#This Row],[Name]],SocaValley!$C$17:$M$39,6,FALSE),"0") -> 500 | Q25: =IFERROR(VLOOKUP(Tabela2[[#This Row],[Name]],SocaValley!$C$17:$M$39,8,FALSE),"0") -> 403.61446 | R25: =IFERROR(VLOOKUP(Tabela2[[#This Row],[Name]],SocaValley!$C$17:$M$39,11,FALSE),"0") -> 417 | S25: =IFERROR(VLOOKUP(Tabela2[[#This Row],[Name]],SocaValley!$C$17:$M$39,11,FALSE),"0") -> 417 | T25: =SUM(E25:S25) -> 2641.795 | U25: =IFERROR(SUM(SMALL(Tabela2[[#This Row],[T 1]:[T 15]],{1;2;3;4})),"0") -> 0 | V25: =T25-U25 -> 2641.795
B26: 24 | C26: Urban Valič | D26: TRIPLE SEVEN QUEEN | E26: =IFERROR(VLOOKUP(Tabela2[[#This Row],[Name]],PWC!$C$18:$N$55,7,FALSE),"0") -> 0 | F26: =IFERROR(VLOOKUP(Tabela2[[#This Row],[Name]],PWC!$C$18:$N$55,9,FALSE),"0") -> 641.5883 | G26: =IFERROR(VLOOKUP(Tabela2[[#This Row],[Name]],PWC!$C$18:$N$55,11,FALSE),"0") -> 292.87864 | H26: =IFERROR(VLOOKUP(Tabela2[[#This Row],[Name]],ParaStajerka!$C$16:$J$25,7,FALSE),"0") -> 0 | I26: =IFERROR(VLOOKUP(Tabela2[[#This Row],[Name]],Adrenalin!$C$18:$M$41,7,FALSE),"0") -> 409.45674 | J26: =IFERROR(VLOOKUP(Tabela2[[#This Row],[Name]],Adrenalin!$C$18:$M$41,9,FALSE),"0") -> 610.06289 | K26: =IFERROR(VLOOKUP(Tabela2[[#This Row],[Name]],Adrenalin!$C$18:$M$41,11,FALSE),"0") -> 622.85137 | L26: =IFERROR(VLOOKUP(Tabela2[[#This Row],[Name]],Ratitovec!$C$18:$N$43,7,FALSE),"0") -> 0 | M26: =IFERROR(VLOOKUP(Tabela2[[#This Row],[Name]],Ratitovec!$C$18:$N$43,9,FALSE),"0") -> 0 | N26: =IFERROR(VLOOKUP(Tabela2[[#This Row],[Name]],Ratitovec!$C$18:$N$43,11,FALSE),"0") -> 0 | O26: =IFERROR(VLOOKUP(Tabela2[[#This Row],[Name]],'DP2014'!$C$19:$I$50,7,FALSE),"0") -> 0 | P26: 0 | Q26: 0 | R26: 0 | S26: 0 | T26: =SUM(E26:S26) -> 2576.8379 | U26: =IFERROR(SUM(SMALL(Tabela2[[#This Row],[T 1]:[T 15]],{1;2;3;4})),"0") -> 0 | V26: =T26-U26 -> 2576.8379
B27: 25 | C27: Aljaž Valič | D27: TRIPLE SEVEN QUEEN | E27: =IFERROR(VLOOKUP(Tabela2[[#This Row],[Name]],PWC!$C$18:$N$55,7,FALSE),"0") -> 370.37037 | F27: =IFERROR(VLOOKUP(Tabela2[[#This Row],[Name]],PWC!$C$18:$N$55,9,FALSE),"0") -> 728.31766 | G27: =IFERROR(VLOOKUP(Tabela2[[#This Row],[Name]],PWC!$C$18:$N$55,11,FALSE),"0") -> 857.57272 | H27: =IFERROR(VLOOKUP(Tabela2[[#This Row],[Name]],ParaStajerka!$C$16:$J$25,7,FALSE),"0") -> 0 | I27: =IFERROR(VLOOKUP(Tabela2[[#This Row],[Name]],Adrenalin!$C$18:$M$41,7,FALSE),"0") -> 0 | J27: =IFERROR(VLOOKUP(Tabela2[[#This Row],[Name]],Adrenalin!$C$18:$M$41,9,FALSE),"0") -> 0 | K27: =IFERROR(VLOOKUP(Tabela2[[#This Row],[Name]],Adrenalin!$C$18:$M$41,11,FALSE),"0") -> 0 | L27: =IFERROR(VLOOKUP(Tabela2[[#This Row],[Name]],Ratitovec!$C$18:$N$43,7,FALSE),"0") -> 0 | M27: =IFERROR(VLOOKUP(Tabela2[[#This Row],[Name]],Ratitovec!$C$18:$N$43,9,FALSE),"0") -> 0 | N27: =IFERROR(VLOOKUP(Tabela2[[#This Row],[Name]],Ratitovec!$C$18:$N$43,11,FALSE),"0") -> 0 | O27: =IFERROR(VLOOKUP(Tabela2[[#This Row],[Name]],'DP2014'!$C$19:$I$50,7,FALSE),"0") -> 419.67871 | P27: 0 | Q27: 0 | R27: 0 | S27: 0 | T27: =SUM(E27:S27) -> 2375.9395 | U27: =IFERROR(SUM(SMALL(Tabela2[[#This Row],[T 1]:[T 15]],{1;2;3;4})),"0") -> 0 | V27: =T27-U27 -> 2375.9395
B28: 26 | C28: Roman Lotrič | D28: NOVA TRITON | E28: =IFERROR(VLOOKUP(Tabela2[[#This Row],[Name]],PWC!$C$18:$N$55,7,FALSE),"0") -> 0 | F28: =IFERROR(VLOOKUP(Tabela2[[#This Row],[Name]],PWC!$C$18:$N$55,9,FALSE),"0") -> 0 | G28: =IFERROR(VLOOKUP(Tabela2[[#This Row],[Name]],PWC!$C$18:$N$55,11,FALSE),"0") -> 0 | H28: =IFERROR(VLOOKUP(Tabela2[[#This Row],[Name]],ParaStajerka!$C$16:$J$25,7,FALSE),"0") -> 0 | I28: =IFERROR(VLOOKUP(Tabela2[[#This Row],[Name]],Adrenalin!$C$18:$M$41,7,FALSE),"0") -> 0 | J28: =IFERROR(VLOOKUP(Tabela2[[#This Row],[Name]],Adrenalin!$C$18:$M$41,9,FALSE),"0") -> 0 | K28: =IFERROR(VLOOKUP(Tabela2[[#This Row],[Name]],Adrenalin!$C$18:$M$41,11,FALSE),"0") -> 0 | L28: =IFERROR(VLOOKUP(Tabela2[[#This Row],[Name]],Ratitovec!$C$18:$N$43,7,FALSE),"0") -> 531.95876 | M28: =IFERROR(VLOOKUP(Tabela2[[#This Row],[Name]],Ratitovec!$C$18:$N$43,9,FALSE),"0") -> 810 | N28: =IFERROR(VLOOKUP(Tabela2[[#This Row],[Name]],Ratitovec!$C$18:$N$43,11,FALSE),"0") -> 878.26962 | O28: =IFERROR(VLOOKUP(Tabela2[[#This Row],[Name]],'DP2014'!$C$19:$I$50,7,FALSE),"0") -> 0 | P28: =IFERROR(VLOOKUP(Tabela2[[#This Row],[Name]],SocaValley!$C$17:$M$39,6,FALSE),"0") -> 0 | Q28: =IFERROR(VLOOKUP(Tabela2[[#This Row],[Name]],SocaValley!$C$17:$M$39,8,FALSE),"0") -> 0 | R28: =IFERROR(VLOOKUP(Tabela2[[#This Row],[Name]],SocaValley!$C$17:$M$39,11,FALSE),"0") -> 0 | S28: =IFERROR(VLOOKUP(Tabela2[[#This Row],[Name]],SocaValley!$C$17:$M$39,11,FALSE),"0") -> 0 | T28: =SUM(E28:S28) -> 2220.2284 | U28: =IFERROR(SUM(SMALL(Tabela2[[#This Row],[T 1]:[T 15]],{1;2;3;4})),"0") -> 0 | V28: =T28-U28 -> 2220.2284
B29: 27 | C29: Miha Kavčič | D29: NIVIUK ICEPEAK 6 | E29: =IFERROR(VLOOKUP(Tabela2[[#This Row],[Name]],PWC!$C$18:$N$55,7,FALSE),"0") -> 398.14815 | F29: =IFERROR(VLOOKUP(Tabela2[[#This Row],[Name]],PWC!$C$18:$N$55,9,FALSE),"0") -> 785.78892 | G29: =IFERROR(VLOOKUP(Tabela2[[#This Row],[Name]],PWC!$C$18:$N$55,11,FALSE),"0") -> 532.59779 | H29: 0 | I29: 0 | J29: 0 | K29: 0 | L29: 0 | M29: 0 | N29: 0 | O29: =IFERROR(VLOOKUP(Tabela2[[#This Row],[Name]],'DP2014'!$C$19:$I$50,7,FALSE),"0") -> 314.25703 | P29: =IFERROR(VLOOKUP(Tabela2[[#This Row],[Name]],SocaValley!$C$17:$M$39,6,FALSE),"0") -> 0 | Q29: =IFERROR(VLOOKUP(Tabela2[[#This Row],[Name]],SocaValley!$C$17:$M$39,8,FALSE),"0") -> 0 | R29: =IFERROR(VLOOKUP(Tabela2[[#This Row],[Name]],SocaValley!$C$17:$M$39,11,FALSE),"0") -> 0 | S29: =IFERROR(VLOOKUP(Tabela2[[#This Row],[Name]],SocaValley!$C$17:$M$39,11,FALSE),"0") -> 0 | T29: =SUM(E29:S29) -> 2030.7919 | U29: =IFERROR(SUM(SMALL(Tabela2[[#This Row],[T 1]:[T 15]],{1;2;3;4})),"0") -> 0 | V29: =T29-U29 -> 2030.7919
B30: 28 | C30: Matija Žumer | D30: OZONE DELTA 2 | E30: =IFERROR(VLOOKUP(Tabela2[[#This Row],[Name]],PWC!$C$18:$N$55,7,FALSE),"0") -> 0 | F30: =IFERROR(VLOOKUP(Tabela2[[#This Row],[Name]],PWC!$C$18:$N$55,9,FALSE),"0") -> 0 | G30: =IFERROR(VLOOKUP(Tabela2[[#This Row],[Name]],PWC!$C$18:$N$55,11,FALSE),"0") -> 0 | H30: =IFERROR(VLOOKUP(Tabela2[[#This Row],[Name]],ParaStajerka!$C$16:$J$25,7,FALSE),"0") -> 0 | I30: =IFERROR(VLOOKUP(Tabela2[[#This Row],[Name]],Adrenalin!$C$18:$M$41,7,FALSE),"0") -> 0 | J30: =IFERROR(VLOOKUP(Tabela2[[#This Row],[Name]],Adrenalin!$C$18:$M$41,9,FALSE),"0") -> 0 | K30: =IFERROR(VLOOKUP(Tabela2[[#This Row],[Name]],Adrenalin!$C$18:$M$41,11,FALSE),"0") -> 0 | L30: =IFERROR(VLOOKUP(Tabela2[[#This Row],[Name]],Ratitovec!$C$18:$N$43,7,FALSE),"0") -> 527.83505 | M30: =IFERROR(VLOOKUP(Tabela2[[#This Row],[Name]],Ratitovec!$C$18:$N$43,9,FALSE),"0") -> 605 | N30: =IFERROR(VLOOKUP(Tabela2[[#This Row],[Name]],Ratitovec!$C$18:$N$43,11,FALSE),"0") -> 897.38431 | O30: =IFERROR(VLOOKUP(Tabela2[[#This Row],[Name]],'DP2014'!$C$19:$I$50,7,FALSE),"0") -> 0 | P30: =IFERROR(VLOOKUP(Tabela2[[#This Row],[Name]],SocaValley!$C$17:$M$39,6,FALSE),"0") -> 0 | Q30: =IFERROR(VLOOKUP(Tabela2[[#This Row],[Name]],SocaValley!$C$17:$M$39,8,FALSE),"0") -> 0 | R30: =IFERROR(VLOOKUP(Tabela2[[#This Row],[Name]],SocaValley!$C$17:$M$39,11,FALSE),"0") -> 0 | S30: =IFERROR(VLOOKUP(Tabela2[[#This Row],[Name]],SocaValley!$C$17:$M$39,11,FALSE),"0") -> 0 | T30: =SUM(E30:S30) -> 2030.2194 | U30: =IFERROR(SUM(SMALL(Tabela2[[#This Row],[T 1]:[T 15]],{1;2;3;4})),"0") -> 0 | V30: =T30-U30 -> 2030.2194
B31: 29 | C31: Borut Koler | D31: NIVIUK PEAK 3 | E31: =IFERROR(VLOOKUP(Tabela2[[#This Row],[Name]],PWC!$C$18:$N$55,7,FALSE),"0") -> 0 | F31: =IFERROR(VLOOKUP(Tabela2[[#This Row],[Name]],PWC!$C$18:$N$55,9,FALSE),"0") -> 0 | G31: =IFERROR(VLOOKUP(Tabela2[[#This Row],[Name]],PWC!$C$18:$N$55,11,FALSE),"0") -> 0 | H31: =IFERROR(VLOOKUP(Tabela2[[#This Row],[Name]],ParaStajerka!$C$16:$J$25,7,FALSE),"0") -> 0 | I31: =IFERROR(VLOOKUP(Tabela2[[#This Row],[Name]],Adrenalin!$C$18:$M$41,7,FALSE),"0") -> 609.65795 | J31: =IFERROR(VLOOKUP(Tabela2[[#This Row],[Name]],Adrenalin!$C$18:$M$41,9,FALSE),"0") -> 716.98113 | K31: =IFERROR(VLOOKUP(Tabela2[[#This Row],[Name]],Adrenalin!$C$18:$M$41,11,FALSE),"0") -> 321.53691 | L31: =IFERROR(VLOOKUP(Tabela2[[#This Row],[Name]],Ratitovec!$C$18:$N$43,7,FALSE),"0") -> 0 | M31: =IFERROR(VLOOKUP(Tabela2[[#This Row],[Name]],Ratitovec!$C$18:$N$43,9,FALSE),"0") -> 0 | N31: =IFERROR(VLOOKUP(Tabela2[[#This Row],[Name]],Ratitovec!$C$18:$N$43,11,FALSE),"0") -> 0 | O31: =IFERROR(VLOOKUP(Tabela2[[#This Row],[Name]],'DP2014'!$C$19:$I$50,7,FALSE),"0") -> 304.21687 | P31: 0 | Q31: 0 | R31: 0 | S31: 0 | T31: =SUM(E31:S31) -> 1952.3929 | U31: =IFERROR(SUM(SMALL(Tabela2[[#This Row],[T 1]:[T 15]],{1;2;3;4})),"0") -> 0 | V31: =T31-U31 -> 1952.3929
B32: 30 | C32: Dejan Zupanc | D32: MAC-PARA MAGUS XC2 | E32: =IFERROR(VLOOKUP(Tabela2[[#This Row],[Name]],PWC!$C$18:$N$55,7,FALSE),"0") -> 0 | F32: =IFERROR(VLOOKUP(Tabela2[[#This Row],[Name]],PWC!$C$18:$N$55,9,FALSE),"0") -> 0 | G32: 0 | H32: 0 | I32: 0 | J32: 0 | K32: 0 | L32: =IFERROR(VLOOKUP(Tabela2[[#This Row],[Name]],Ratitovec!$C$18:$N$43,7,FALSE),"0") -> 486.59794 | M32: =IFERROR(VLOOKUP(Tabela2[[#This Row],[Name]],Ratitovec!$C$18:$N$43,9,FALSE),"0") -> 276 | N32: =IFERROR(VLOOKUP(Tabela2[[#This Row],[Name]],Ratitovec!$C$18:$N$43,11,FALSE),"0") -> 135.81489 | O32: =IFERROR(VLOOKUP(Tabela2[[#This Row],[Name]],'DP2014'!$C$19:$I$50,7,FALSE),"0") -> 0 | P32: =IFERROR(VLOOKUP(Tabela2[[#This Row],[Name]],SocaValley!$C$17:$M$39,6,FALSE),"0") -> 500 | Q32: =IFERROR(VLOOKUP(Tabela2[[#This Row],[Name]],SocaValley!$C$17:$M$39,8,FALSE),"0") -> 130.52209 | R32: =IFERROR(VLOOKUP(Tabela2[[#This Row],[Name]],SocaValley!$C$17:$M$39,11,FALSE),"0") -> 199 | S32: =IFERROR(VLOOKUP(Tabela2[[#This Row],[Name]],SocaValley!$C$17:$M$39,11,FALSE),"0") -> 199 | T32: =SUM(E32:S32) -> 1926.9349 | U32: =IFERROR(SUM(SMALL(Tabela2[[#This Row],[T 1]:[T 15]],{1;2;3;4})),"0") -> 0 | V32: =T32-U32 -> 1926.9349
B33: 31 | C33: Miran Fridau | D33: NIVIUK PEAK 3 | E33: =IFERROR(VLOOKUP(Tabela2[[#This Row],[Name]],PWC!$C$18:$N$55,7,FALSE),"0") -> 0 | F33: =IFERROR(VLOOKUP(Tabela2[[#This Row],[Name]],PWC!$C$18:$N$55,9,FALSE),"0") -> 0 | G33: =IFERROR(VLOOKUP(Tabela2[[#This Row],[Name]],PWC!$C$18:$N$55,11,FALSE),"0") -> 0 | H33: =IFERROR(VLOOKUP(Tabela2[[#This Row],[Name]],ParaStajerka!$C$16:$J$25,7,FALSE),"0") -> 0 | I33: =IFERROR(VLOOKUP(Tabela2[[#This Row],[Name]],Adrenalin!$C$18:$M$41,7,FALSE),"0") -> 496.98189 | J33: =IFERROR(VLOOKUP(Tabela2[[#This Row],[Name]],Adrenalin!$C$18:$M$41,9,FALSE),"0") -> 723.27044 | K33: =IFERROR(VLOOKUP(Tabela2[[#This Row],[Name]],Adrenalin!$C$18:$M$41,11,FALSE),"0") -> 477.24975 | L33: =IFERROR(VLOOKUP(Tabela2[[#This Row],[Name]],Ratitovec!$C$18:$N$43,7,FALSE),"0") -> 0 | M33: =IFERROR(VLOOKUP(Tabela2[[#This Row],[Name]],Ratitovec!$C$18:$N$43,9,FALSE),"0") -> 0 | N33: =IFERROR(VLOOKUP(Tabela2[[#This Row],[Name]],Ratitovec!$C$18:$N$43,11,FALSE),"0") -> 0 | O33: =IFERROR(VLOOKUP(Tabela2[[#This Row],[Name]],'DP2014'!$C$19:$I$50,7,FALSE),"0") -> 218.8755 | P33: 0 | Q33: 0 | R33: 0 | S33: 0 | T33: =SUM(E33:S33) -> 1916.3776 | U33: =IFERROR(SUM(SMALL(Tabela2[[#This Row],[T 1]:[T 15]],{1;2;3;4})),"0") -> 0 | V33: =T33-U33 -> 1916.3776
B34: 32 | C34: Sandi Kristić | D34: OZONE DELTA M | E34: =IFERROR(VLOOKUP(Tabela2[[#This Row],[Name]],PWC!$C$18:$N$55,7,FALSE),"0") -> 0 | F34: =IFERROR(VLOOKUP(Tabela2[[#This Row],[Name]],PWC!$C$18:$N$55,9,FALSE),"0") -> 0 | G34: =IFERROR(VLOOKUP(Tabela2[[#This Row],[Name]],PWC!$C$18:$N$55,11,FALSE),"0") -> 0 | H34: =IFERROR(VLOOKUP(Tabela2[[#This Row],[Name]],ParaStajerka!$C$16:$J$25,7,FALSE),"0") -> 0 | I34: =IFERROR(VLOOKUP(Tabela2[[#This Row],[Name]],Adrenalin!$C$18:$M$41,7,FALSE),"0") -> 61.368209 | J34: =IFERROR(VLOOKUP(Tabela2[[#This Row],[Name]],Adrenalin!$C$18:$M$41,9,FALSE),"0") -> 795.59748 | K34: =IFERROR(VLOOKUP(Tabela2[[#This Row],[Name]],Adrenalin!$C$18:$M$41,11,FALSE),"0") -> 639.02932 | L34: =IFERROR(VLOOKUP(Tabela2[[#This Row],[Name]],Ratitovec!$C$18:$N$43,7,FALSE),"0") -> 0 | M34: =IFERROR(VLOOKUP(Tabela2[[#This Row],[Name]],Ratitovec!$C$18:$N$43,9,FALSE),"0") -> 0 | N34: =IFERROR(VLOOKUP(Tabela2[[#This Row],[Name]],Ratitovec!$C$18:$N$43,11,FALSE),"0") -> 0 | O34: =IFERROR(VLOOKUP(Tabela2[[#This Row],[Name]],'DP2014'!$C$19:$I$50,7,FALSE),"0") -> 296.18474 | P34: 0 | Q34: 0 | R34: 0 | S34: 0 | T34: =SUM(E34:S34) -> 1792.1798 | U34: =IFERROR(SUM(SMALL(Tabela2[[#This Row],[T 1]:[T 15]],{1;2;3;4})),"0") -> 0 | V34: =T34-U34 -> 1792.1798
B35: 33 | C35: Damjan Lotrič | D35: OZONE MANTRA M4 | E35: =IFERROR(VLOOKUP(Tabela2[[#This Row],[Name]],PWC!$C$18:$N$55,7,FALSE),"0") -> 0 | F35: =IFERROR(VLOOKUP(Tabela2[[#This Row],[Name]],PWC!$C$18:$N$55,9,FALSE),"0") -> 0 | G35: =IFERROR(VLOOKUP(Tabela2[[#This Row],[Name]],PWC!$C$18:$N$55,11,FALSE),"0") -> 0 | H35: =IFERROR(VLOOKUP(Tabela2[[#This Row],[Name]],ParaStajerka!$C$16:$J$25,7,FALSE),"0") -> 0 | I35: =IFERROR(VLOOKUP(Tabela2[[#This Row],[Name]],Adrenalin!$C$18:$M$41,7,FALSE),"0") -> 0 | J35: =IFERROR(VLOOKUP(Tabela2[[#This Row],[Name]],Adrenalin!$C$18:$M$41,9,FALSE),"0") -> 0 | K35: =IFERROR(VLOOKUP(Tabela2[[#This Row],[Name]],Adrenalin!$C$18:$M$41,11,FALSE),"0") -> 0 | L35: =IFERROR(VLOOKUP(Tabela2[[#This Row],[Name]],Ratitovec!$C$18:$N$43,7,FALSE),"0") -> 558.76289 | M35: =IFERROR(VLOOKUP(Tabela2[[#This Row],[Name]],Ratitovec!$C$18:$N$43,9,FALSE),"0") -> 817 | N35: =IFERROR(VLOOKUP(Tabela2[[#This Row],[Name]],Ratitovec!$C$18:$N$43,11,FALSE),"0") -> 405.4326 | O35: =IFERROR(VLOOKUP(Tabela2[[#This Row],[Name]],'DP2014'!$C$19:$I$50,7,FALSE),"0") -> 0 | P35: 0 | Q35: 0 | R35: 0 | S35: 0 | T35: =SUM(E35:S35) -> 1781.1955 | U35: =IFERROR(SUM(SMALL(Tabela2[[#This Row],[T 1]:[T 15]],{1;2;3;4})),"0") -> 0 | V35: =T35-U35 -> 1781.1955
B36: 34 | C36: Damjan Čretnik | D36: NIVIUK ARTIK 3 25 | E36: =IFERROR(VLOOKUP(Tabela2[[#This Row],[Name]],PWC!$C$18:$N$55,7,FALSE),"0") -> 500 | F36: =IFERROR(VLOOKUP(Tabela2[[#This Row],[Name]],PWC!$C$18:$N$55,9,FALSE),"0") -> 318.70428 | G36: =IFERROR(VLOOKUP(Tabela2[[#This Row],[Name]],PWC!$C$18:$N$55,11,FALSE),"0") -> 639.91976 | H36: =IFERROR(VLOOKUP(Tabela2[[#This Row],[Name]],ParaStajerka!$C$16:$J$25,7,FALSE),"0") -> 0 | I36: =IFERROR(VLOOKUP(Tabela2[[#This Row],[Name]],Adrenalin!$C$18:$M$41,7,FALSE),"0") -> 0 | J36: =IFERROR(VLOOKUP(Tabela2[[#This Row],[Name]],Adrenalin!$C$18:$M$41,9,FALSE),"0") -> 0 | K36: =IFERROR(VLOOKUP(Tabela2[[#This Row],[Name]],Adrenalin!$C$18:$M$41,11,FALSE),"0") -> 0 | L36: =IFERROR(VLOOKUP(Tabela2[[#This Row],[Name]],Ratitovec!$C$18:$N$43,7,FALSE),"0") -> 0 | M36: =IFERROR(VLOOKUP(Tabela2[[#This Row],[Name]],Ratitovec!$C$18:$N$43,9,FALSE),"0") -> 0 | N36: =IFERROR(VLOOKUP(Tabela2[[#This Row],[Name]],Ratitovec!$C$18:$N$43,11,FALSE),"0") -> 0 | O36: =IFERROR(VLOOKUP(Tabela2[[#This Row],[Name]],'DP2014'!$C$19:$I$50,7,FALSE),"0") -> 0 | P36: =IFERROR(VLOOKUP(Tabela2[[#This Row],[Name]],SocaValley!$C$17:$M$39,6,FALSE),"0") -> 0 | Q36: =IFERROR(VLOOKUP(Tabela2[[#This Row],[Name]],SocaValley!$C$17:$M$39,8,FALSE),"0") -> 0 | R36: =IFERROR(VLOOKUP(Tabela2[[#This Row],[Name]],SocaValley!$C$17:$M$39,11,FALSE),"0") -> 0 | S36: =IFERROR(VLOOKUP(Tabela2[[#This Row],[Name]],SocaValley!$C$17:$M$39,11,FALSE),"0") -> 0 | T36: =SUM(E36:S36) -> 1458.624 | U36: =IFERROR(SUM(SMALL(Tabela2[[#This Row],[T 1]:[T 15]],{1;2;3;4})),"0") -> 0 | V36: =T36-U36 -> 1458.624
B37: 35 | C37: Luka Slak | D37: OZONE Mantra 6 | E37: =IFERROR(VLOOKUP(Tabela2[[#This Row],[Name]],PWC!$C$18:$N$55,7,FALSE),"0") -> 277.77778 | F37: =IFERROR(VLOOKUP(Tabela2[[#This Row],[Name]],PWC!$C$18:$N$55,9,FALSE),"0") -> 446.186 | G37: =IFERROR(VLOOKUP(Tabela2[[#This Row],[Name]],PWC!$C$18:$N$55,11,FALSE),"0") -> 476.42929 | H37: =IFERROR(VLOOKUP(Tabela2[[#This Row],[Name]],ParaStajerka!$C$16:$J$25,7,FALSE),"0") -> 0 | I37: =IFERROR(VLOOKUP(Tabela2[[#This Row],[Name]],Adrenalin!$C$18:$M$41,7,FALSE),"0") -> 0 | J37: =IFERROR(VLOOKUP(Tabela2[[#This Row],[Name]],Adrenalin!$C$18:$M$41,9,FALSE),"0") -> 0 | K37: =IFERROR(VLOOKUP(Tabela2[[#This Row],[Name]],Adrenalin!$C$18:$M$41,11,FALSE),"0") -> 0 | L37: =IFERROR(VLOOKUP(Tabela2[[#This Row],[Name]],Ratitovec!$C$18:$N$43,7,FALSE),"0") -> 0 | M37: =IFERROR(VLOOKUP(Tabela2[[#This Row],[Name]],Ratitovec!$C$18:$N$43,9,FALSE),"0") -> 0 | N37: =IFERROR(VLOOKUP(Tabela2[[#This Row],[Name]],Ratitovec!$C$18:$N$43,11,FALSE),"0") -> 0 | O37: =IFERROR(VLOOKUP(Tabela2[[#This Row],[Name]],'DP2014'!$C$19:$I$50,7,FALSE),"0") -> 246.98795 | P37: 0 | Q37: 0 | R37: 0 | S37: 0 | T37: =SUM(E37:S37) -> 1447.381 | U37: =IFERROR(SUM(SMALL(Tabela2[[#This Row],[T 1]:[T 15]],{1;2;3;4})),"0") -> 0 | V37: =T37-U37 -> 1447.381
B38: 36 | C38: Lara Leban | D38: TRIPLE SEVEN GLIDERS PAWN | E38: =IFERROR(VLOOKUP(Tabela2[[#This Row],[Name]],PWC!$C$18:$N$55,7,FALSE),"0") -> 0 | F38: =IFERROR(VLOOKUP(Tabela2[[#This Row],[Name]],PWC!$C$18:$N$55,9,FALSE),"0") -> 0 | G38: =IFERROR(VLOOKUP(Tabela2[[#This Row],[Name]],PWC!$C$18:$N$55,11,FALSE),"0") -> 0 | H38: =IFERROR(VLOOKUP(Tabela2[[#This Row],[Name]],ParaStajerka!$C$16:$J$25,7,FALSE),"0") -> 0 | I38: =IFERROR(VLOOKUP(Tabela2[[#This Row],[Name]],Adrenalin!$C$18:$M$41,7,FALSE),"0") -> 85.513078 | J38: =IFERROR(VLOOKUP(Tabela2[[#This Row],[Name]],Adrenalin!$C$18:$M$41,9,FALSE),"0") -> 320.75472 | K38: =IFERROR(VLOOKUP(Tabela2[[#This Row],[Name]],Adrenalin!$C$18:$M$41,11,FALSE),"0") -> 146.61274 | L38: 0 | M38: 0 | N38: 0 | O38: 0 | P38: =IFERROR(VLOOKUP(Tabela2[[#This Row],[Name]],SocaValley!$C$17:$M$39,6,FALSE),"0") -> 500 | Q38: =IFERROR(VLOOKUP(Tabela2[[#This Row],[Name]],SocaValley!$C$17:$M$39,8,FALSE),"0") -> 183.73494 | R38: =IFERROR(VLOOKUP(Tabela2[[#This Row],[Name]],SocaValley!$C$17:$M$39,11,FALSE),"0") -> 102 | S38: =IFERROR(VLOOKUP(Tabela2[[#This Row],[Name]],SocaValley!$C$17:$M$39,11,FALSE),"0") -> 102 | T38: =SUM(E38:S38) -> 1440.6155 | U38: =IFERROR(SUM(SMALL(Tabela2[[#This Row],[T 1]:[T 15]],{1;2;3;4})),"0") -> 0 | V38: =T38-U38 -> 1440.6155
B39: 37 | C39: Rok Lotrič | D39: TRIPLE SEVEN GLIDERS ROOK | E39: =IFERROR(VLOOKUP(Tabela2[[#This Row],[Name]],PWC!$C$18:$N$55,7,FALSE),"0") -> 0 | F39: =IFERROR(VLOOKUP(Tabela2[[#This Row],[Name]],PWC!$C$18:$N$55,9,FALSE),"0") -> 0 | G39: =IFERROR(VLOOKUP(Tabela2[[#This Row],[Name]],PWC!$C$18:$N$55,11,FALSE),"0") -> 0 | H39: 0 | I39: 0 | J39: 0 | K39: 0 | L39: 0 | M39: =IFERROR(VLOOKUP(Tabela2[[#This Row],[Name]],Ratitovec!$C$18:$N$43,9,FALSE),"0") -> 272 | N39: =IFERROR(VLOOKUP(Tabela2[[#This Row],[Name]],Ratitovec!$C$18:$N$43,11,FALSE),"0") -> 92.555332 | O39: =IFERROR(VLOOKUP(Tabela2[[#This Row],[Name]],'DP2014'!$C$19:$I$50,7,FALSE),"0") -> 0 | P39: =IFERROR(VLOOKUP(Tabela2[[#This Row],[Name]],SocaValley!$C$17:$M$39,6,FALSE),"0") -> 500 | Q39: =IFERROR(VLOOKUP(Tabela2[[#This Row],[Name]],SocaValley!$C$17:$M$39,8,FALSE),"0") -> 130.52209 | R39: =IFERROR(VLOOKUP(Tabela2[[#This Row],[Name]],SocaValley!$C$17:$M$39,11,FALSE),"0") -> 189 | S39: =IFERROR(VLOOKUP(Tabela2[[#This Row],[Name]],SocaValley!$C$17:$M$39,11,FALSE),"0") -> 189 | T39: =SUM(E39:S39) -> 1373.0774 | U39: =IFERROR(SUM(SMALL(Tabela2[[#This Row],[T 1]:[T 15]],{1;2;3;4})),"0") -> 0 | V39: =T39-U39 -> 1373.0774
B40: 38 | C40: Klavdij Rakušček | D40: AIRCROSS UCROSS | E40: =IFERROR(VLOOKUP(Tabela2[[#This Row],[Name]],PWC!$C$18:$N$55,7,FALSE),"0") -> 0 | F40: =IFERROR(VLOOKUP(Tabela2[[#This Row],[Name]],PWC!$C$18:$N$55,9,FALSE),"0") -> 0 | G40: =IFERROR(VLOOKUP(Tabela2[[#This Row],[Name]],PWC!$C$18:$N$55,11,FALSE),"0") -> 0 | H40: =IFERROR(VLOOKUP(Tabela2[[#This Row],[Name]],ParaStajerka!$C$16:$J$25,7,FALSE),"0") -> 0 | I40: =IFERROR(VLOOKUP(Tabela2[[#This Row],[Name]],Adrenalin!$C$18:$M$41,7,FALSE),"0") -> 0 | J40: =IFERROR(VLOOKUP(Tabela2[[#This Row],[Name]],Adrenalin!$C$18:$M$41,9,FALSE),"0") -> 0 | K40: 0 | L40: =IFERROR(VLOOKUP(Tabela2[[#This Row],[Name]],Ratitovec!$C$18:$N$43,7,FALSE),"0") -> 0 | M40: 0 | N40: 0 | O40: 0 | P40: 0 | Q40: =IFERROR(VLOOKUP(Tabela2[[#This Row],[Name]],SocaValley!$C$17:$M$39,8,FALSE),"0") -> 434.73896 | R40: =IFERROR(VLOOKUP(Tabela2[[#This Row],[Name]],SocaValley!$C$17:$M$39,11,FALSE),"0") -> 443 | S40: =IFERROR(VLOOKUP(Tabela2[[#This Row],[Name]],SocaValley!$C$17:$M$39,11,FALSE),"0") -> 443 | T40: =SUM(E40:S40) -> 1320.739 | U40: =IFERROR(SUM(SMALL(Tabela2[[#This Row],[T 1]:[T 15]],{1;2;3;4})),"0") -> 0 | V40: =T40-U40 -> 1320.739
B41: 39 | C41: Tomaž Trstenjak | D41: NIVIUK ICEPEAK 6 | E41: =IFERROR(VLOOKUP(Tabela2[[#This Row],[Name]],PWC!$C$18:$N$55,7,FALSE),"0") -> 277.77778 | F41: =IFERROR(VLOOKUP(Tabela2[[#This Row],[Name]],PWC!$C$18:$N$55,9,FALSE),"0") -> 72.100313 | G41: =IFERROR(VLOOKUP(Tabela2[[#This Row],[Name]],PWC!$C$18:$N$55,11,FALSE),"0") -> 590.77232 | H41: =IFERROR(VLOOKUP(Tabela2[[#This Row],[Name]],ParaStajerka!$C$16:$J$25,7,FALSE),"0") -> 0 | I41: 0 | J41: 0 | K41: 0 | L41: 0 | M41: =IFERROR(VLOOKUP(Tabela2[[#This Row],[Name]],Ratitovec!$C$18:$N$43,9,FALSE),"0") -> 0 | N41: =IFERROR(VLOOKUP(Tabela2[[#This Row],[Name]],Ratitovec!$C$18:$N$43,11,FALSE),"0") -> 0 | O41: =IFERROR(VLOOKUP(Tabela2[[#This Row],[Name]],'DP2014'!$C$19:$I$50,7,FALSE),"0") -> 370.48193 | P41: =IFERROR(VLOOKUP(Tabela2[[#This Row],[Name]],SocaValley!$C$17:$M$39,6,FALSE),"0") -> 0 | Q41: =IFERROR(VLOOKUP(Tabela2[[#This Row],[Name]],SocaValley!$C$17:$M$39,8,FALSE),"0") -> 0 | R41: =IFERROR(VLOOKUP(Tabela2[[#This Row],[Name]],SocaValley!$C$17:$M$39,11,FALSE),"0") -> 0 | S41: =IFERROR(VLOOKUP(Tabela2[[#This Row],[Name]],SocaValley!$C$17:$M$39,11,FALSE),"0") -> 0 | T41: =SUM(E41:S41) -> 1311.1323 | U41: =IFERROR(SUM(SMALL(Tabela2[[#This Row],[T 1]:[T 15]],{1;2;3;4})),"0") -> 0 | V41: =T41-U41 -> 1311.1323
B42: 40 | C42: Matic Egart | D42: MAC-PARA EDEN 5 | E42: =IFERROR(VLOOKUP(Tabela2[[#This Row],[Name]],PWC!$C$18:$N$55,7,FALSE),"0") -> 0 | F42: =IFERROR(VLOOKUP(Tabela2[[#This Row],[Name]],PWC!$C$18:$N$55,9,FALSE),"0") -> 0 | G42: =IFERROR(VLOOKUP(Tabela2[[#This Row],[Name]],PWC!$C$18:$N$55,11,FALSE),"0") -> 0 | H42: 0 | I42: 0 | J42: 0 | K42: 0 | L42: =IFERROR(VLOOKUP(Tabela2[[#This Row],[Name]],Ratitovec!$C$18:$N$43,7,FALSE),"0") -> 74.226804 | M42: =IFERROR(VLOOKUP(Tabela2[[#This Row],[Name]],Ratitovec!$C$18:$N$43,9,FALSE),"0") -> 240 | N42: =IFERROR(VLOOKUP(Tabela2[[#This Row],[Name]],Ratitovec!$C$18:$N$43,11,FALSE),"0") -> 106.63984 | O42: =IFERROR(VLOOKUP(Tabela2[[#This Row],[Name]],'DP2014'!$C$19:$I$50,7,FALSE),"0") -> 0 | P42: =IFERROR(VLOOKUP(Tabela2[[#This Row],[Name]],SocaValley!$C$17:$M$39,6,FALSE),"0") -> 500 | Q42: =IFERROR(VLOOKUP(Tabela2[[#This Row],[Name]],SocaValley!$C$17:$M$39,8,FALSE),"0") -> 189.75904 | R42: =IFERROR(VLOOKUP(Tabela2[[#This Row],[Name]],SocaValley!$C$17:$M$39,11,FALSE),"0") -> 73 | S42: =IFERROR(VLOOKUP(Tabela2[[#This Row],[Name]],SocaValley!$C$17:$M$39,11,FALSE),"0") -> 73 | T42: =SUM(E42:S42) -> 1256.6257 | U42: =IFERROR(SUM(SMALL(Tabela2[[#This Row],[T 1]:[T 15]],{1;2;3;4})),"0") -> 0 | V42: =T42-U42 -> 1256.6257
B43: 41 | C43: Tomaž Veber | D43: NOVA FACTOR 2 | E43: =IFERROR(VLOOKUP(Tabela2[[#This Row],[Name]],PWC!$C$18:$N$55,7,FALSE),"0") -> 0 | F43: =IFERROR(VLOOKUP(Tabela2[[#This Row],[Name]],PWC!$C$18:$N$55,9,FALSE),"0") -> 0 | G43: =IFERROR(VLOOKUP(Tabela2[[#This Row],[Name]],PWC!$C$18:$N$55,11,FALSE),"0") -> 0 | H43: 0 | I43: 0 | J43: 0 | K43: 0 | L43: =IFERROR(VLOOKUP(Tabela2[[#This Row],[Name]],Ratitovec!$C$18:$N$43,7,FALSE),"0") -> 74.226804 | M43: =IFERROR(VLOOKUP(Tabela2[[#This Row],[Name]],Ratitovec!$C$18:$N$43,9,FALSE),"0") -> 60 | N43: =IFERROR(VLOOKUP(Tabela2[[#This Row],[Name]],Ratitovec!$C$18:$N$43,11,FALSE),"0") -> 0 | O43: =IFERROR(VLOOKUP(Tabela2[[#This Row],[Name]],'DP2014'!$C$19:$I$50,7,FALSE),"0") -> 0 | P43: =IFERROR(VLOOKUP(Tabela2[[#This Row],[Name]],SocaValley!$C$17:$M$39,6,FALSE),"0") -> 500 | Q43: =IFERROR(VLOOKUP(Tabela2[[#This Row],[Name]],SocaValley!$C$17:$M$39,8,FALSE),"0") -> 130.52209 | R43: =IFERROR(VLOOKUP(Tabela2[[#This Row],[Name]],SocaValley!$C$17:$M$39,11,FALSE),"0") -> 180 | S43: =IFERROR(VLOOKUP(Tabela2[[#This Row],[Name]],SocaValley!$C$17:$M$39,11,FALSE),"0") -> 180 | T43: =SUM(E43:S43) -> 1124.7489 | U43: =IFERROR(SUM(SMALL(Tabela2[[#This Row],[T 1]:[T 15]],{1;2;3;4})),"0") -> 0 | V43: =T43-U43 -> 1124.7489
B44: 42 | C44: Miha Slamič | D44: NIVIUK ICEPEAK 6 | E44: =IFERROR(VLOOKUP(Tabela2[[#This Row],[Name]],PWC!$C$18:$N$55,7,FALSE),"0") -> 287.03704 | F44: =IFERROR(VLOOKUP(Tabela2[[#This Row],[Name]],PWC!$C$18:$N$55,9,FALSE),"0") -> 369.90596 | G44: =IFERROR(VLOOKUP(Tabela2[[#This Row],[Name]],PWC!$C$18:$N$55,11,FALSE),"0") -> 440.32096 | H44: =IFERROR(VLOOKUP(Tabela2[[#This Row],[Name]],ParaStajerka!$C$16:$J$25,7,FALSE),"0") -> 0 | I44: =IFERROR(VLOOKUP(Tabela2[[#This Row],[Name]],Adrenalin!$C$18:$M$41,7,FALSE),"0") -> 0 | J44: =IFERROR(VLOOKUP(Tabela2[[#This Row],[Name]],Adrenalin!$C$18:$M$41,9,FALSE),"0") -> 0 | K44: =IFERROR(VLOOKUP(Tabela2[[#This Row],[Name]],Adrenalin!$C$18:$M$41,11,FALSE),"0") -> 0 | L44: =IFERROR(VLOOKUP(Tabela2[[#This Row],[Name]],Ratitovec!$C$18:$N$43,7,FALSE),"0") -> 0 | M44: =IFERROR(VLOOKUP(Tabela2[[#This Row],[Name]],Ratitovec!$C$18:$N$43,9,FALSE),"0") -> 0 | N44: =IFERROR(VLOOKUP(Tabela2[[#This Row],[Name]],Ratitovec!$C$18:$N$43,11,FALSE),"0") -> 0 | O44: =IFERROR(VLOOKUP(Tabela2[[#This Row],[Name]],'DP2014'!$C$19:$I$50,7,FALSE),"0") -> 0 | P44: =IFERROR(VLOOKUP(Tabela2[[#This Row],[Name]],SocaValley!$C$17:$M$39,6,FALSE),"0") -> 0 | Q44: =IFERROR(VLOOKUP(Tabela2[[#This Row],[Name]],SocaValley!$C$17:$M$39,8,FALSE),"0") -> 0 | R44: =IFERROR(VLOOKUP(Tabela2[[#This Row],[Name]],SocaValley!$C$17:$M$39,11,FALSE),"0") -> 0 | S44: =IFERROR(VLOOKUP(Tabela2[[#This Row],[Name]],SocaValley!$C$17:$M$39,11,FALSE),"0") -> 0 | T44: =SUM(E44:S44) -> 1097.264 | U44: =IFERROR(SUM(SMALL(Tabela2[[#This Row],[T 1]:[T 15]],{1;2;3;4})),"0") -> 0 | V44: =T44-U44 -> 1097.264
B45: 43 | C45: Toni Pljakoski | D45: OZONE DELTA 2 | E45: =IFERROR(VLOOKUP(Tabela2[[#This Row],[Name]],PWC!$C$18:$N$55,7,FALSE),"0") -> 277.77778 | F45: =IFERROR(VLOOKUP(Tabela2[[#This Row],[Name]],PWC!$C$18:$N$55,9,FALSE),"0") -> 290.49112 | G45: =IFERROR(VLOOKUP(Tabela2[[#This Row],[Name]],PWC!$C$18:$N$55,11,FALSE),"0") -> 430.29087 | H45: =IFERROR(VLOOKUP(Tabela2[[#This Row],[Name]],ParaStajerka!$C$16:$J$25,7,FALSE),"0") -> 0 | I45: =IFERROR(VLOOKUP(Tabela2[[#This Row],[Name]],Adrenalin!$C$18:$M$41,7,FALSE),"0") -> 0 | J45: =IFERROR(VLOOKUP(Tabela2[[#This Row],[Name]],Adrenalin!$C$18:$M$41,9,FALSE),"0") -> 0 | K45: =IFERROR(VLOOKUP(Tabela2[[#This Row],[Name]],Adrenalin!$C$18:$M$41,11,FALSE),"0") -> 0 | L45: =IFERROR(VLOOKUP(Tabela2[[#This Row],[Name]],Ratitovec!$C$18:$N$43,7,FALSE),"0") -> 0 | M45: =IFERROR(VLOOKUP(Tabela2[[#This Row],[Name]],Ratitovec!$C$18:$N$43,9,FALSE),"0") -> 0 | N45: =IFERROR(VLOOKUP(Tabela2[[#This Row],[Name]],Ratitovec!$C$18:$N$43,11,FALSE),"0") -> 0 | O45: =IFERROR(VLOOKUP(Tabela2[[#This Row],[Name]],'DP2014'!$C$19:$I$50,7,FALSE),"0") -> 48.192771 | P45: 0 | Q45: 0 | R45: 0 | S45: 0 | T45: =SUM(E45:S45) -> 1046.7525 | U45: =IFERROR(SUM(SMALL(Tabela2[[#This Row],[T 1]:[T 15]],{1;2;3;4})),"0") -> 0 | V45: =T45-U45 -> 1046.7525
B46: 44 | C46: Mojca Pišek | D46: NIVIUK ARTIK 3 | E46: =IFERROR(VLOOKUP(Tabela2[[#This Row],[Name]],PWC!$C$18:$N$55,7,FALSE),"0") -> 277.77778 | F46: =IFERROR(VLOOKUP(Tabela2[[#This Row],[Name]],PWC!$C$18:$N$55,9,FALSE),"0") -> 288.40125 | G46: =IFERROR(VLOOKUP(Tabela2[[#This Row],[Name]],PWC!$C$18:$N$55,11,FALSE),"0") -> 430.29087 | H46: =IFERROR(VLOOKUP(Tabela2[[#This Row],[Name]],ParaStajerka!$C$16:$J$25,7,FALSE),"0") -> 0 | I46: =IFERROR(VLOOKUP(Tabela2[[#This Row],[Name]],Adrenalin!$C$18:$M$41,7,FALSE),"0") -> 0 | J46: =IFERROR(VLOOKUP(Tabela2[[#This Row],[Name]],Adrenalin!$C$18:$M$41,9,FALSE),"0") -> 0 | K46: =IFERROR(VLOOKUP(Tabela2[[#This Row],[Name]],Adrenalin!$C$18:$M$41,11,FALSE),"0") -> 0 | L46: =IFERROR(VLOOKUP(Tabela2[[#This Row],[Name]],Ratitovec!$C$18:$N$43,7,FALSE),"0") -> 0 | M46: =IFERROR(VLOOKUP(Tabela2[[#This Row],[Name]],Ratitovec!$C$18:$N$43,9,FALSE),"0") -> 0 | N46: =IFERROR(VLOOKUP(Tabela2[[#This Row],[Name]],Ratitovec!$C$18:$N$43,11,FALSE),"0") -> 0 | O46: =IFERROR(VLOOKUP(Tabela2[[#This Row],[Name]],'DP2014'!$C$19:$I$50,7,FALSE),"0") -> 0 | P46: =IFERROR(VLOOKUP(Tabela2[[#This Row],[Name]],SocaValley!$C$17:$M$39,6,FALSE),"0") -> 0 | Q46: =IFERROR(VLOOKUP(Tabela2[[#This Row],[Name]],SocaValley!$C$17:$M$39,8,FALSE),"0") -> 0 | R46: =IFERROR(VLOOKUP(Tabela2[[#This Row],[Name]],SocaValley!$C$17:$M$39,11,FALSE),"0") -> 0 | S46: =IFERROR(VLOOKUP(Tabela2[[#This Row],[Name]],SocaValley!$C$17:$M$39,11,FALSE),"0") -> 0 | T46: =SUM(E46:S46) -> 996.4699 | U46: =IFERROR(SUM(SMALL(Tabela2[[#This Row],[T 1]:[T 15]],{1;2;3;4})),"0") -> 0 | V46: =T46-U46 -> 996.4699
B47: 45 | C47: Boštjan Svetlin | D47: AXIS VENUS 2 | E47: =IFERROR(VLOOKUP(Tabela2[[#This Row],[Name]],PWC!$C$18:$N$55,7,FALSE),"0") -> 0 | F47: =IFERROR(VLOOKUP(Tabela2[[#This Row],[Name]],PWC!$C$18:$N$55,9,FALSE),"0") -> 443.0512 | G47: =IFERROR(VLOOKUP(Tabela2[[#This Row],[Name]],PWC!$C$18:$N$55,11,FALSE),"0") -> 431.29388 | H47: =IFERROR(VLOOKUP(Tabela2[[#This Row],[Name]],ParaStajerka!$C$16:$J$25,7,FALSE),"0") -> 0 | I47: =IFERROR(VLOOKUP(Tabela2[[#This Row],[Name]],Adrenalin!$C$18:$M$41,7,FALSE),"0") -> 0 | J47: =IFERROR(VLOOKUP(Tabela2[[#This Row],[Name]],Adrenalin!$C$18:$M$41,9,FALSE),"0") -> 0 | K47: 0 | L47: 0 | M47: 0 | N47: 0 | O47: =IFERROR(VLOOKUP(Tabela2[[#This Row],[Name]],'DP2014'!$C$19:$I$50,7,FALSE),"0") -> 113.45382 | P47: =IFERROR(VLOOKUP(Tabela2[[#This Row],[Name]],SocaValley!$C$17:$M$39,6,FALSE),"0") -> 0 | Q47: =IFERROR(VLOOKUP(Tabela2[[#This Row],[Name]],SocaValley!$C$17:$M$39,8,FALSE),"0") -> 0 | R47: =IFERROR(VLOOKUP(Tabela2[[#This Row],[Name]],SocaValley!$C$17:$M$39,11,FALSE),"0") -> 0 | S47: =IFERROR(VLOOKUP(Tabela2[[#This Row],[Name]],SocaValley!$C$17:$M$39,11,FALSE),"0") -> 0 | T47: =SUM(E47:S47) -> 987.7989 | U47: =IFERROR(SUM(SMALL(Tabela2[[#This Row],[T 1]:[T 15]],{1;2;3;4})),"0") -> 0 | V47: =T47-U47 -> 987.7989
B48: 46 | C48: Rok Golob | D48: OZONE MANTRA 6 | E48: =IFERROR(VLOOKUP(Tabela2[[#This Row],[Name]],PWC!$C$18:$N$55,7,FALSE),"0") -> 0 | F48: =IFERROR(VLOOKUP(Tabela2[[#This Row],[Name]],PWC!$C$18:$N$55,9,FALSE),"0") -> 469.1745 | G48: =IFERROR(VLOOKUP(Tabela2[[#This Row],[Name]],PWC!$C$18:$N$55,11,FALSE),"0") -> 518.55567 | H48: =IFERROR(VLOOKUP(Tabela2[[#This Row],[Name]],ParaStajerka!$C$16:$J$25,7,FALSE),"0") -> 0 | I48: =IFERROR(VLOOKUP(Tabela2[[#This Row],[Name]],Adrenalin!$C$18:$M$41,7,FALSE),"0") -> 0 | J48: =IFERROR(VLOOKUP(Tabela2[[#This Row],[Name]],Adrenalin!$C$18:$M$41,9,FALSE),"0") -> 0 | K48: =IFERROR(VLOOKUP(Tabela2[[#This Row],[Name]],Adrenalin!$C$18:$M$41,11,FALSE),"0") -> 0 | L48: =IFERROR(VLOOKUP(Tabela2[[#This Row],[Name]],Ratitovec!$C$18:$N$43,7,FALSE),"0") -> 0 | M48: =IFERROR(VLOOKUP(Tabela2[[#This Row],[Name]],Ratitovec!$C$18:$N$43,9,FALSE),"0") -> 0 | N48: =IFERROR(VLOOKUP(Tabela2[[#This Row],[Name]],Ratitovec!$C$18:$N$43,11,FALSE),"0") -> 0 | O48: =IFERROR(VLOOKUP(Tabela2[[#This Row],[Name]],'DP2014'!$C$19:$I$50,7,FALSE),"0") -> 0 | P48: =IFERROR(VLOOKUP(Tabela2[[#This Row],[Name]],SocaValley!$C$17:$M$39,6,FALSE),"0") -> 0 | Q48: =IFERROR(VLOOKUP(Tabela2[[#This Row],[Name]],SocaValley!$C$17:$M$39,8,FALSE),"0") -> 0 | R48: =IFERROR(VLOOKUP(Tabela2[[#This Row],[Name]],SocaValley!$C$17:$M$39,11,FALSE),"0") -> 0 | S48: =IFERROR(VLOOKUP(Tabela2[[#This Row],[Name]],SocaValley!$C$17:$M$39,11,FALSE),"0") -> 0 | T48: =SUM(E48:S48) -> 987.73017 | U48: =IFERROR(SUM(SMALL(Tabela2[[#This Row],[T 1]:[T 15]],{1;2;3;4})),"0") -> 0 | V48: =T48-U48 -> 987.73017
B49: 47 | C49: Jernej Štefanec | D49: NIVIUK ARTIK3 | E49: =IFERROR(VLOOKUP(Tabela2[[#This Row],[Name]],PWC!$C$18:$N$55,7,FALSE),"0") -> 277.77778 | F49: =IFERROR(VLOOKUP(Tabela2[[#This Row],[Name]],PWC!$C$18:$N$55,9,FALSE),"0") -> 451.41066 | G49: =IFERROR(VLOOKUP(Tabela2[[#This Row],[Name]],PWC!$C$18:$N$55,11,FALSE),"0") -> 125.37613 | H49: =IFERROR(VLOOKUP(Tabela2[[#This Row],[Name]],ParaStajerka!$C$16:$J$25,7,FALSE),"0") -> 0 | I49: =IFERROR(VLOOKUP(Tabela2[[#This Row],[Name]],Adrenalin!$C$18:$M$41,7,FALSE),"0") -> 0 | J49: =IFERROR(VLOOKUP(Tabela2[[#This Row],[Name]],Adrenalin!$C$18:$M$41,9,FALSE),"0") -> 0 | K49: =IFERROR(VLOOKUP(Tabela2[[#This Row],[Name]],Adrenalin!$C$18:$M$41,11,FALSE),"0") -> 0 | L49: =IFERROR(VLOOKUP(Tabela2[[#This Row],[Name]],Ratitovec!$C$18:$N$43,7,FALSE),"0") -> 0 | M49: =IFERROR(VLOOKUP(Tabela2[[#This Row],[Name]],Ratitovec!$C$18:$N$43,9,FALSE),"0") -> 0 | N49: =IFERROR(VLOOKUP(Tabela2[[#This Row],[Name]],Ratitovec!$C$18:$N$43,11,FALSE),"0") -> 0 | O49: =IFERROR(VLOOKUP(Tabela2[[#This Row],[Name]],'DP2014'!$C$19:$I$50,7,FALSE),"0") -> 0 | P49: =IFERROR(VLOOKUP(Tabela2[[#This Row],[Name]],SocaValley!$C$17:$M$39,6,FALSE),"0") -> 0 | Q49: =IFERROR(VLOOKUP(Tabela2[[#This Row],[Name]],SocaValley!$C$17:$M$39,8,FALSE),"0") -> 0 | R49: =IFERROR(VLOOKUP(Tabela2[[#This Row],[Name]],SocaValley!$C$17:$M$39,11,FALSE),"0") -> 0 | S49: =IFERROR(VLOOKUP(Tabela2[[#This Row],[Name]],SocaValley!$C$17:$M$39,11,FALSE),"0") -> 0 | T49: =SUM(E49:S49) -> 854.56456 | U49: =IFERROR(SUM(SMALL(Tabela2[[#This Row],[T 1]:[T 15]],{1;2;3;4})),"0") -> 0 | V49: =T49-U49 -> 854.56456
B50: 48 | C50: Uroš Detiček | D50: MAC-PARA MAGUS XC2 | E50: =IFERROR(VLOOKUP(Tabela2[[#This Row],[Name]],PWC!$C$18:$N$55,7,FALSE),"0") -> 0 | F50: =IFERROR(VLOOKUP(Tabela2[[#This Row],[Name]],PWC!$C$18:$N$55,9,FALSE),"0") -> 0 | G50: =IFERROR(VLOOKUP(Tabela2[[#This Row],[Name]],PWC!$C$18:$N$55,11,FALSE),"0") -> 0 | H50: =IFERROR(VLOOKUP(Tabela2[[#This Row],[Name]],ParaStajerka!$C$16:$J$25,7,FALSE),"0") -> 717.47212 | I50: =IFERROR(VLOOKUP(Tabela2[[#This Row],[Name]],Adrenalin!$C$18:$M$41,7,FALSE),"0") -> 0 | J50: =IFERROR(VLOOKUP(Tabela2[[#This Row],[Name]],Adrenalin!$C$18:$M$41,9,FALSE),"0") -> 0 | K50: =IFERROR(VLOOKUP(Tabela2[[#This Row],[Name]],Adrenalin!$C$18:$M$41,11,FALSE),"0") -> 0 | L50: =IFERROR(VLOOKUP(Tabela2[[#This Row],[Name]],Ratitovec!$C$18:$N$43,7,FALSE),"0") -> 0 | M50: =IFERROR(VLOOKUP(Tabela2[[#This Row],[Name]],Ratitovec!$C$18:$N$43,9,FALSE),"0") -> 0 | N50: =IFERROR(VLOOKUP(Tabela2[[#This Row],[Name]],Ratitovec!$C$18:$N$43,11,FALSE),"0") -> 0 | O50: =IFERROR(VLOOKUP(Tabela2[[#This Row],[Name]],'DP2014'!$C$19:$I$50,7,FALSE),"0") -> 0 | P50: =IFERROR(VLOOKUP(Tabela2[[#This Row],[Name]],SocaValley!$C$17:$M$39,6,FALSE),"0") -> 0 | Q50: =IFERROR(VLOOKUP(Tabela2[[#This Row],[Name]],SocaValley!$C$17:$M$39,8,FALSE),"0") -> 0 | R50: =IFERROR(VLOOKUP(Tabela2[[#This Row],[Name]],SocaValley!$C$17:$M$39,11,FALSE),"0") -> 0 | S50: =IFERROR(VLOOKUP(Tabela2[[#This Row],[Name]],SocaValley!$C$17:$M$39,11,FALSE),"0") -> 0 | T50: =SUM(E50:S50) -> 717.47212 | U50: =IFERROR(SUM(SMALL(Tabela2[[#This Row],[T 1]:[T 15]],{1;2;3;4})),"0") -> 0 | V50: =T50-U50 -> 717.47212
B51: 49 | C51: Špela Šterk | D51: NOVA MENTOR 2 | E51: =IFERROR(VLOOKUP(Tabela2[[#This Row],[Name]],PWC!$C$18:$N$55,7,FALSE),"0") -> 0 | F51: =IFERROR(VLOOKUP(Tabela2[[#This Row],[Name]],PWC!$C$18:$N$55,9,FALSE),"0") -> 0 | G51: =IFERROR(VLOOKUP(Tabela2[[#This Row],[Name]],PWC!$C$18:$N$55,11,FALSE),"0") -> 0 | H51: =IFERROR(VLOOKUP(Tabela2[[#This Row],[Name]],ParaStajerka!$C$16:$J$25,7,FALSE),"0") -> 0 | I51: =IFERROR(VLOOKUP(Tabela2[[#This Row],[Name]],Adrenalin!$C$18:$M$41,7,FALSE),"0") -> 100.60362 | J51: =IFERROR(VLOOKUP(Tabela2[[#This Row],[Name]],Adrenalin!$C$18:$M$41,9,FALSE),"0") -> 389.93711 | K51: =IFERROR(VLOOKUP(Tabela2[[#This Row],[Name]],Adrenalin!$C$18:$M$41,11,FALSE),"0") -> 143.57937 | L51: =IFERROR(VLOOKUP(Tabela2[[#This Row],[Name]],Ratitovec!$C$18:$N$43,7,FALSE),"0") -> 0 | M51: =IFERROR(VLOOKUP(Tabela2[[#This Row],[Name]],Ratitovec!$C$18:$N$43,9,FALSE),"0") -> 0 | N51: =IFERROR(VLOOKUP(Tabela2[[#This Row],[Name]],Ratitovec!$C$18:$N$43,11,FALSE),"0") -> 0 | O51: =IFERROR(VLOOKUP(Tabela2[[#This Row],[Name]],'DP2014'!$C$19:$I$50,7,FALSE),"0") -> 0 | P51: =IFERROR(VLOOKUP(Tabela2[[#This Row],[Name]],SocaValley!$C$17:$M$39,6,FALSE),"0") -> 0 | Q51: =IFERROR(VLOOKUP(Tabela2[[#This Row],[Name]],SocaValley!$C$17:$M$39,8,FALSE),"0") -> 0 | R51: =IFERROR(VLOOKUP(Tabela2[[#This Row],[Name]],SocaValley!$C$17:$M$39,11,FALSE),"0") -> 0 | S51: =IFERROR(VLOOKUP(Tabela2[[#This Row],[Name]],SocaValley!$C$17:$M$39,11,FALSE),"0") -> 0 | T51: =SUM(E51:S51) -> 634.1201 | U51: =IFERROR(SUM(SMALL(Tabela2[[#This Row],[T 1]:[T 15]],{1;2;3;4})),"0") -> 0 | V51: =T51-U51 -> 634.1201
B52: 50 | C52: Ambrož Mikelj | D52: TRIPLE SEVEN GLIDERS ROOK | E52: =IFERROR(VLOOKUP(Tabela2[[#This Row],[Name]],PWC!$C$18:$N$55,7,FALSE),"0") -> 277.77778 | F52: =IFERROR(VLOOKUP(Tabela2[[#This Row],[Name]],PWC!$C$18:$N$55,9,FALSE),"0") -> 197.49216 | G52: =IFERROR(VLOOKUP(Tabela2[[#This Row],[Name]],PWC!$C$18:$N$55,11,FALSE),"0") -> 125.37613 | H52: =IFERROR(VLOOKUP(Tabela2[[#This Row],[Name]],ParaStajerka!$C$16:$J$25,7,FALSE),"0") -> 0 | I52: =IFERROR(VLOOKUP(Tabela2[[#This Row],[Name]],Adrenalin!$C$18:$M$41,7,FALSE),"0") -> 0 | J52: =IFERROR(VLOOKUP(Tabela2[[#This Row],[Name]],Adrenalin!$C$18:$M$41,9,FALSE),"0") -> 0 | K52: =IFERROR(VLOOKUP(Tabela2[[#This Row],[Name]],Adrenalin!$C$18:$M$41,11,FALSE),"0") -> 0 | L52: =IFERROR(VLOOKUP(Tabela2[[#This Row],[Name]],Ratitovec!$C$18:$N$43,7,FALSE),"0") -> 0 | M52: =IFERROR(VLOOKUP(Tabela2[[#This Row],[Name]],Ratitovec!$C$18:$N$43,9,FALSE),"0") -> 0 | N52: =IFERROR(VLOOKUP(Tabela2[[#This Row],[Name]],Ratitovec!$C$18:$N$43,11,FALSE),"0") -> 0 | O52: =IFERROR(VLOOKUP(Tabela2[[#This Row],[Name]],'DP2014'!$C$19:$I$50,7,FALSE),"0") -> 0 | P52: =IFERROR(VLOOKUP(Tabela2[[#This Row],[Name]],SocaValley!$C$17:$M$39,6,FALSE),"0") -> 0 | Q52: =IFERROR(VLOOKUP(Tabela2[[#This Row],[Name]],SocaValley!$C$17:$M$39,8,FALSE),"0") -> 0 | R52: =IFERROR(VLOOKUP(Tabela2[[#This Row],[Name]],SocaValley!$C$17:$M$39,11,FALSE),"0") -> 0 | S52: =IFERROR(VLOOKUP(Tabela2[[#This Row],[Name]],SocaValley!$C$17:$M$39,11,FALSE),"0") -> 0 | T52: =SUM(E52:S52) -> 600.64607 | U52: =IFERROR(SUM(SMALL(Tabela2[[#This Row],[T 1]:[T 15]],{1;2;3;4})),"0") -> 0 | V52: =T52-U52 -> 600.64607
B53: 51 | C53: Peter Frelih | D53: NOVA FACTOR 2 | E53: =IFERROR(VLOOKUP(Tabela2[[#This Row],[Name]],PWC!$C$18:$N$55,7,FALSE),"0") -> 0 | F53: =IFERROR(VLOOKUP(Tabela2[[#This Row],[Name]],PWC!$C$18:$N$55,9,FALSE),"0") -> 0 | G53: =IFERROR(VLOOKUP(Tabela2[[#This Row],[Name]],PWC!$C$18:$N$55,11,FALSE),"0") -> 0 | H53: =IFERROR(VLOOKUP(Tabela2[[#This Row],[Name]],ParaStajerka!$C$16:$J$25,7,FALSE),"0") -> 0 | I53: =IFERROR(VLOOKUP(Tabela2[[#This Row],[Name]],Adrenalin!$C$18:$M$41,7,FALSE),"0") -> 0 | J53: =IFERROR(VLOOKUP(Tabela2[[#This Row],[Name]],Adrenalin!$C$18:$M$41,9,FALSE),"0") -> 0 | K53: =IFERROR(VLOOKUP(Tabela2[[#This Row],[Name]],Adrenalin!$C$18:$M$41,11,FALSE),"0") -> 0 | L53: =IFERROR(VLOOKUP(Tabela2[[#This Row],[Name]],Ratitovec!$C$18:$N$43,7,FALSE),"0") -> 74.226804 | M53: =IFERROR(VLOOKUP(Tabela2[[#This Row],[Name]],Ratitovec!$C$18:$N$43,9,FALSE),"0") -> 295 | N53: =IFERROR(VLOOKUP(Tabela2[[#This Row],[Name]],Ratitovec!$C$18:$N$43,11,FALSE),"0") -> 104.62777 | O53: =IFERROR(VLOOKUP(Tabela2[[#This Row],[Name]],'DP2014'!$C$19:$I$50,7,FALSE),"0") -> 0 | P53: =IFERROR(VLOOKUP(Tabela2[[#This Row],[Name]],SocaValley!$C$17:$M$39,6,FALSE),"0") -> 0 | Q53: =IFERROR(VLOOKUP(Tabela2[[#This Row],[Name]],SocaValley!$C$17:$M$39,8,FALSE),"0") -> 0 | R53: =IFERROR(VLOOKUP(Tabela2[[#This Row],[Name]],SocaValley!$C$17:$M$39,11,FALSE),"0") -> 0 | S53: =IFERROR(VLOOKUP(Tabela2[[#This Row],[Name]],SocaValley!$C$17:$M$39,11,FALSE),"0") -> 0 | T53: =SUM(E53:S53) -> 473.85457 | U53: =IFERROR(SUM(SMALL(Tabela2[[#This Row],[T 1]:[T 15]],{1;2;3;4})),"0") -> 0 | V53: =T53-U53 -> 473.85457
B54: 52 | C54: Andrej Erznožnik | D54: OZONE MANTRA M4 | E54: =IFERROR(VLOOKUP(Tabela2[[#This Row],[Name]],PWC!$C$18:$N$55,7,FALSE),"0") -> 0 | F54: =IFERROR(VLOOKUP(Tabela2[[#This Row],[Name]],PWC!$C$18:$N$55,9,FALSE),"0") -> 0 | G54: =IFERROR(VLOOKUP(Tabela2[[#This Row],[Name]],PWC!$C$18:$N$55,11,FALSE),"0") -> 0 | H54: =IFERROR(VLOOKUP(Tabela2[[#This Row],[Name]],ParaStajerka!$C$16:$J$25,7,FALSE),"0") -> 0 | I54: =IFERROR(VLOOKUP(Tabela2[[#This Row],[Name]],Adrenalin!$C$18:$M$41,7,FALSE),"0") -> 0 | J54: =IFERROR(VLOOKUP(Tabela2[[#This Row],[Name]],Adrenalin!$C$18:$M$41,9,FALSE),"0") -> 0 | K54: =IFERROR(VLOOKUP(Tabela2[[#This Row],[Name]],Adrenalin!$C$18:$M$41,11,FALSE),"0") -> 0 | L54: =IFERROR(VLOOKUP(Tabela2[[#This Row],[Name]],Ratitovec!$C$18:$N$43,7,FALSE),"0") -> 0 | M54: =IFERROR(VLOOKUP(Tabela2[[#This Row],[Name]],Ratitovec!$C$18:$N$43,9,FALSE),"0") -> 0 | N54: =IFERROR(VLOOKUP(Tabela2[[#This Row],[Name]],Ratitovec!$C$18:$N$43,11,FALSE),"0") -> 0 | O54: =IFERROR(VLOOKUP(Tabela2[[#This Row],[Name]],'DP2014'!$C$19:$I$50,7,FALSE),"0") -> 371.48594 | P54: =IFERROR(VLOOKUP(Tabela2[[#This Row],[Name]],SocaValley!$C$17:$M$39,6,FALSE),"0") -> 0 | Q54: =IFERROR(VLOOKUP(Tabela2[[#This Row],[Name]],SocaValley!$C$17:$M$39,8,FALSE),"0") -> 0 | R54: =IFERROR(VLOOKUP(Tabela2[[#This Row],[Name]],SocaValley!$C$17:$M$39,11,FALSE),"0") -> 0 | S54: =IFERROR(VLOOKUP(Tabela2[[#This Row],[Name]],SocaValley!$C$17:$M$39,11,FALSE),"0") -> 0 | T54: =SUM(E54:S54) -> 371.48594 | U54: =IFERROR(SUM(SMALL(Tabela2[[#This Row],[T 1]:[T 15]],{1;2;3;4})),"0") -> 0 | V54: =T54-U54 -> 371.48594
B55: 53 | C55: Stane Jakopič | D55: OZONE DELTA 2 | E55: =IFERROR(VLOOKUP(Tabela2[[#This Row],[Name]],PWC!$C$18:$N$55,7,FALSE),"0") -> 0 | F55: =IFERROR(VLOOKUP(Tabela2[[#This Row],[Name]],PWC!$C$18:$N$55,9,FALSE),"0") -> 0 | G55: =IFERROR(VLOOKUP(Tabela2[[#This Row],[Name]],PWC!$C$18:$N$55,11,FALSE),"0") -> 0 | H55: =IFERROR(VLOOKUP(Tabela2[[#This Row],[Name]],ParaStajerka!$C$16:$J$25,7,FALSE),"0") -> 0 | I55: =IFERROR(VLOOKUP(Tabela2[[#This Row],[Name]],Adrenalin!$C$18:$M$41,7,FALSE),"0") -> 0 | J55: =IFERROR(VLOOKUP(Tabela2[[#This Row],[Name]],Adrenalin!$C$18:$M$41,9,FALSE),"0") -> 0 | K55: =IFERROR(VLOOKUP(Tabela2[[#This Row],[Name]],Adrenalin!$C$18:$M$41,11,FALSE),"0") -> 0 | L55: =IFERROR(VLOOKUP(Tabela2[[#This Row],[Name]],Ratitovec!$C$18:$N$43,7,FALSE),"0") -> 0 | M55: =IFERROR(VLOOKUP(Tabela2[[#This Row],[Name]],Ratitovec!$C$18:$N$43,9,FALSE),"0") -> 0 | N55: =IFERROR(VLOOKUP(Tabela2[[#This Row],[Name]],Ratitovec!$C$18:$N$43,11,FALSE),"0") -> 0 | O55: =IFERROR(VLOOKUP(Tabela2[[#This Row],[Name]],'DP2014'!$C$19:$I$50,7,FALSE),"0") -> 369.47791 | P55: =IFERROR(VLOOKUP(Tabela2[[#This Row],[Name]],SocaValley!$C$17:$M$39,6,FALSE),"0") -> 0 | Q55: =IFERROR(VLOOKUP(Tabela2[[#This Row],[Name]],SocaValley!$C$17:$M$39,8,FALSE),"0") -> 0 | R55: =IFERROR(VLOOKUP(Tabela2[[#This Row],[Name]],SocaValley!$C$17:$M$39,11,FALSE),"0") -> 0 | S55: =IFERROR(VLOOKUP(Tabela2[[#This Row],[Name]],SocaValley!$C$17:$M$39,11,FALSE),"0") -> 0 | T55: =SUM(E55:S55) -> 369.47791 | U55: =IFERROR(SUM(SMALL(Tabela2[[#This Row],[T 1]:[T 15]],{1;2;3;4})),"0") -> 0 | V55: =T55-U55 -> 369.47791
B56: 54 | C56: Miha Novak | D56: GIN-GLIDERS SPRINT EVO | E56: =IFERROR(VLOOKUP(Tabela2[[#This Row],[Name]],PWC!$C$18:$N$55,7,FALSE),"0") -> 277.77778 | F56: =IFERROR(VLOOKUP(Tabela2[[#This Row],[Name]],PWC!$C$18:$N$55,9,FALSE),"0") -> 72.100313 | G56: =IFERROR(VLOOKUP(Tabela2[[#This Row],[Name]],PWC!$C$18:$N$55,11,FALSE),"0") -> 0 | H56: =IFERROR(VLOOKUP(Tabela2[[#This Row],[Name]],ParaStajerka!$C$16:$J$25,7,FALSE),"0") -> 0 | I56: =IFERROR(VLOOKUP(Tabela2[[#This Row],[Name]],Adrenalin!$C$18:$M$41,7,FALSE),"0") -> 0 | J56: =IFERROR(VLOOKUP(Tabela2[[#This Row],[Name]],Adrenalin!$C$18:$M$41,9,FALSE),"0") -> 0 | K56: =IFERROR(VLOOKUP(Tabela2[[#This Row],[Name]],Adrenalin!$C$18:$M$41,11,FALSE),"0") -> 0 | L56: =IFERROR(VLOOKUP(Tabela2[[#This Row],[Name]],Ratitovec!$C$18:$N$43,7,FALSE),"0") -> 0 | M56: =IFERROR(VLOOKUP(Tabela2[[#This Row],[Name]],Ratitovec!$C$18:$N$43,9,FALSE),"0") -> 0 | N56: =IFERROR(VLOOKUP(Tabela2[[#This Row],[Name]],Ratitovec!$C$18:$N$43,11,FALSE),"0") -> 0 | O56: =IFERROR(VLOOKUP(Tabela2[[#This Row],[Name]],'DP2014'!$C$19:$I$50,7,FALSE),"0") -> 0 | P56: =IFERROR(VLOOKUP(Tabela2[[#This Row],[Name]],SocaValley!$C$17:$M$39,6,FALSE),"0") -> 0 | Q56: =IFERROR(VLOOKUP(Tabela2[[#This Row],[Name]],SocaValley!$C$17:$M$39,8,FALSE),"0") -> 0 | R56: =IFERROR(VLOOKUP(Tabela2[[#This Row],[Name]],SocaValley!$C$17:$M$39,11,FALSE),"0") -> 0 | S56: =IFERROR(VLOOKUP(Tabela2[[#This Row],[Name]],SocaValley!$C$17:$M$39,11,FALSE),"0") -> 0 | T56: =SUM(E56:S56) -> 349.87809 | U56: =IFERROR(SUM(SMALL(Tabela2[[#This Row],[T 1]:[T 15]],{1;2;3;4})),"0") -> 0 | V56: =T56-U56 -> 349.87809
B57: 55 | C57: Alojz Tovornik | D57: OZONE MANTRA M4 | E57: =IFERROR(VLOOKUP(Tabela2[[#This Row],[Name]],PWC!$C$18:$N$55,7,FALSE),"0") -> 0 | F57: =IFERROR(VLOOKUP(Tabela2[[#This Row],[Name]],PWC!$C$18:$N$55,9,FALSE),"0") -> 0 | G57: =IFERROR(VLOOKUP(Tabela2[[#This Row],[Name]],PWC!$C$18:$N$55,11,FALSE),"0") -> 0 | H57: =IFERROR(VLOOKUP(Tabela2[[#This Row],[Name]],ParaStajerka!$C$16:$J$25,7,FALSE),"0") -> 0 | I57: =IFERROR(VLOOKUP(Tabela2[[#This Row],[Name]],Adrenalin!$C$18:$M$41,7,FALSE),"0") -> 0 | J57: =IFERROR(VLOOKUP(Tabela2[[#This Row],[Name]],Adrenalin!$C$18:$M$41,9,FALSE),"0") -> 0 | K57: =IFERROR(VLOOKUP(Tabela2[[#This Row],[Name]],Adrenalin!$C$18:$M$41,11,FALSE),"0") -> 0 | L57: =IFERROR(VLOOKUP(Tabela2[[#This Row],[Name]],Ratitovec!$C$18:$N$43,7,FALSE),"0") -> 0 | M57: =IFERROR(VLOOKUP(Tabela2[[#This Row],[Name]],Ratitovec!$C$18:$N$43,9,FALSE),"0") -> 0 | N57: =IFERROR(VLOOKUP(Tabela2[[#This Row],[Name]],Ratitovec!$C$18:$N$43,11,FALSE),"0") -> 0 | O57: =IFERROR(VLOOKUP(Tabela2[[#This Row],[Name]],'DP2014'!$C$19:$I$50,7,FALSE),"0") -> 242.97189 | P57: =IFERROR(VLOOKUP(Tabela2[[#This Row],[Name]],SocaValley!$C$17:$M$39,6,FALSE),"0") -> 0 | Q57: =IFERROR(VLOOKUP(Tabela2[[#This Row],[Name]],SocaValley!$C$17:$M$39,8,FALSE),"0") -> 0 | R57: =IFERROR(VLOOKUP(Tabela2[[#This Row],[Name]],SocaValley!$C$17:$M$39,11,FALSE),"0") -> 0 | S57: =IFERROR(VLOOKUP(Tabela2[[#This Row],[Name]],SocaValley!$C$17:$M$39,11,FALSE),"0") -> 0 | T57: =SUM(E57:S57) -> 242.97189 | U57: =IFERROR(SUM(SMALL(Tabela2[[#This Row],[T 1]:[T 15]],{1;2;3;4})),"0") -> 0 | V57: =T57-U57 -> 242.97189
B58: 56 | C58: Matej Belčič | D58: AIRCROSS ULTIMA 2 | E58: =IFERROR(VLOOKUP(Tabela2[[#This Row],[Name]],PWC!$C$18:$N$55,7,FALSE),"0") -> 0 | F58: =IFERROR(VLOOKUP(Tabela2[[#This Row],[Name]],PWC!$C$18:$N$55,9,FALSE),"0") -> 0 | G58: =IFERROR(VLOOKUP(Tabela2[[#This Row],[Name]],PWC!$C$18:$N$55,11,FALSE),"0") -> 0 | H58: =IFERROR(VLOOKUP(Tabela2[[#This Row],[Name]],ParaStajerka!$C$16:$J$25,7,FALSE),"0") -> 0 | I58: =IFERROR(VLOOKUP(Tabela2[[#This Row],[Name]],Adrenalin!$C$18:$M$41,7,FALSE),"0") -> 0 | J58: =IFERROR(VLOOKUP(Tabela2[[#This Row],[Name]],Adrenalin!$C$18:$M$41,9,FALSE),"0") -> 0 | K58: =IFERROR(VLOOKUP(Tabela2[[#This Row],[Name]],Adrenalin!$C$18:$M$41,11,FALSE),"0") -> 0 | L58: =IFERROR(VLOOKUP(Tabela2[[#This Row],[Name]],Ratitovec!$C$18:$N$43,7,FALSE),"0") -> 0 | M58: =IFERROR(VLOOKUP(Tabela2[[#This Row],[Name]],Ratitovec!$C$18:$N$43,9,FALSE),"0") -> 0 | N58: =IFERROR(VLOOKUP(Tabela2[[#This Row],[Name]],Ratitovec!$C$18:$N$43,11,FALSE),"0") -> 0 | O58: =IFERROR(VLOOKUP(Tabela2[[#This Row],[Name]],'DP2014'!$C$19:$I$50,7,FALSE),"0") -> 226.90763 | P58: =IFERROR(VLOOKUP(Tabela2[[#This Row],[Name]],SocaValley!$C$17:$M$39,6,FALSE),"0") -> 0 | Q58: =IFERROR(VLOOKUP(Tabela2[[#This Row],[Name]],SocaValley!$C$17:$M$39,8,FALSE),"0") -> 0 | R58: =IFERROR(VLOOKUP(Tabela2[[#This Row],[Name]],SocaValley!$C$17:$M$39,11,FALSE),"0") -> 0 | S58: =IFERROR(VLOOKUP(Tabela2[[#This Row],[Name]],SocaValley!$C$17:$M$39,11,FALSE),"0") -> 0 | T58: =SUM(E58:S58) -> 226.90763 | U58: =IFERROR(SUM(SMALL(Tabela2[[#This Row],[T 1]:[T 15]],{1;2;3;4})),"0") -> 0 | V58: =T58-U58 -> 226.90763
B59: 57 | C59: Mitja Jančič | D59: NOVA TRITON 2 | E59: =IFERROR(VLOOKUP(Tabela2[[#This Row],[Name]],PWC!$C$18:$N$55,7,FALSE),"0") -> 0 | F59: =IFERROR(VLOOKUP(Tabela2[[#This Row],[Name]],PWC!$C$18:$N$55,9,FALSE),"0") -> 0 | G59: =IFERROR(VLOOKUP(Tabela2[[#This Row],[Name]],PWC!$C$18:$N$55,11,FALSE),"0") -> 0 | H59: =IFERROR(VLOOKUP(Tabela2[[#This Row],[Name]],ParaStajerka!$C$16:$J$25,7,FALSE),"0") -> 0 | I59: =IFERROR(VLOOKUP(Tabela2[[#This Row],[Name]],Adrenalin!$C$18:$M$41,7,FALSE),"0") -> 0 | J59: =IFERROR(VLOOKUP(Tabela2[[#This Row],[Name]],Adrenalin!$C$18:$M$41,9,FALSE),"0") -> 0 | K59: =IFERROR(VLOOKUP(Tabela2[[#This Row],[Name]],Adrenalin!$C$18:$M$41,11,FALSE),"0") -> 0 | L59: =IFERROR(VLOOKUP(Tabela2[[#This Row],[Name]],Ratitovec!$C$18:$N$43,7,FALSE),"0") -> 0 | M59: =IFERROR(VLOOKUP(Tabela2[[#This Row],[Name]],Ratitovec!$C$18:$N$43,9,FALSE),"0") -> 0 | N59: =IFERROR(VLOOKUP(Tabela2[[#This Row],[Name]],Ratitovec!$C$18:$N$43,11,FALSE),"0") -> 0 | O59: =IFERROR(VLOOKUP(Tabela2[[#This Row],[Name]],'DP2014'!$C$19:$I$50,7,FALSE),"0") -> 186.74699 | P59: =IFERROR(VLOOKUP(Tabela2[[#This Row],[Name]],SocaValley!$C$17:$M$39,6,FALSE),"0") -> 0 | Q59: =IFERROR(VLOOKUP(Tabela2[[#This Row],[Name]],SocaValley!$C$17:$M$39,8,FALSE),"0") -> 0 | R59: =IFERROR(VLOOKUP(Tabela2[[#This Row],[Name]],SocaValley!$C$17:$M$39,11,FALSE),"0") -> 0 | S59: =IFERROR(VLOOKUP(Tabela2[[#This Row],[Name]],SocaValley!$C$17:$M$39,11,FALSE),"0") -> 0 | T59: =SUM(E59:S59) -> 186.74699 | U59: =IFERROR(SUM(SMALL(Tabela2[[#This Row],[T 1]:[T 15]],{1;2;3;4})),"0") -> 0 | V59: =T59-U59 -> 186.74699
... B87: 62 | C87: Boštjan Zorman | D87: Niviuk Artik 3 | E87: =IFERROR(VLOOKUP(Tabela2[[#This Row],[Name]],PWC!$C$18:$N$55,7,FALSE),"0") -> 0 | F87: =IFERROR(VLOOKUP(Tabela2[[#This Row],[Name]],PWC!$C$18:$N$55,9,FALSE),"0") -> 0 | G87: =IFERROR(VLOOKUP(Tabela2[[#This Row],[Name]],PWC!$C$18:$N$55,11,FALSE),"0") -> 0 | H87: =IFERROR(VLOOKUP(Tabela2[[#This Row],[Name]],ParaStajerka!$C$16:$J$25,7,FALSE),"0") -> 0 | I87: =IFERROR(VLOOKUP(Tabela2[[#This Row],[Name]],Adrenalin!$C$18:$M$41,7,FALSE),"0") -> 0 | J87: =IFERROR(VLOOKUP(Tabela2[[#This Row],[Name]],Adrenalin!$C$18:$M$41,9,FALSE),"0") -> 0 | K87: =IFERROR(VLOOKUP(Tabela2[[#This Row],[Name]],Adrenalin!$C$18:$M$41,11,FALSE),"0") -> 0 | L87: =IFERROR(VLOOKUP(Tabela2[[#This Row],[Name]],Ratitovec!$C$18:$N$43,7,FALSE),"0") -> 0 | M87: =IFERROR(VLOOKUP(Tabela2[[#This Row],[Name]],Ratitovec!$C$18:$N$43,9,FALSE),"0") -> 0 | N87: =IFERROR(VLOOKUP(Tabela2[[#This Row],[Name]],Ratitovec!$C$18:$N$43,11,FALSE),"0") -> 0 | O87: =IFERROR(VLOOKUP(Tabela2[[#This Row],[Name]],'DP2014'!$C$19:$I$50,7,FALSE),"0") -> 73.293173 | P87: =IFERROR(VLOOKUP(Tabela2[[#This Row],[Name]],SocaValley!$C$17:$M$39,6,FALSE),"0") -> 0 | Q87: =IFERROR(VLOOKUP(Tabela2[[#This Row],[Name]],SocaValley!$C$17:$M$39,8,FALSE),"0") -> 0 | R87: =IFERROR(VLOOKUP(Tabela2[[#This Row],[Name]],SocaValley!$C$17:$M$39,11,FALSE),"0") -> 0 | S87: =IFERROR(VLOOKUP(Tabela2[[#This Row],[Name]],SocaValley!$C$17:$M$39,11,FALSE),"0") -> 0 | T87: =SUM(E87:S87) -> 73.293173 | U87: =IFERROR(SUM(SMALL(Tabela2[[#This Row],[T 1]:[T 15]],{1;2;3;4})),"0") -> 0 | V87: =T87-U87 -> 73.293173

Sheet Klubsko
C1: Klubski rezultati slovenske lige v preletih z jadralnimi padali | O1: Sezona 2014
A3: Mesto | B3: Klub | C3: T1 | D3: T2 | E3: T3 | F3: T4 | G3: T5 | H3: T6 | I3: T7 | J3: T8 | K3: T9 | L3: T10 | M3: T11 | N3: T12 | O3: T13 | P3: T14 | Q3: T15 | R3: Skupno
A4: 2 | B4: KL Vrhnika | C4: =IFERROR(VLOOKUP(Tabela19[[#This Row],[Klub]],PWC!$R$19:$U$31,2,FALSE),"0") -> 1407.4074 | D4: =IFERROR(VLOOKUP(Tabela19[[#This Row],[Klub]],PWC!$R$19:$U$31,3,FALSE),"0") -> 2410.6583 | E4: =IFERROR(VLOOKUP(Tabela19[[#This Row],[Klub]],PWC!$R$19:$U$31,4,FALSE),"0") -> 2816.4493 | F4: =IFERROR(VLOOKUP(Tabela19[[#This Row],[Klub]],ParaStajerka!$R$16:$V$29,2,FALSE),"0") -> 2124.5353 | G4: =IFERROR(VLOOKUP(Tabela19[[#This Row],[Klub]],Adrenalin!$R$18:$V$31,2,FALSE),"0") -> 2136.8209 | H4: =IFERROR(VLOOKUP(Tabela19[[#This Row],[Klub]],Adrenalin!$R$18:$V$31,3,FALSE),"0") -> 1525.1572 | I4: =IFERROR(VLOOKUP(Tabela19[[#This Row],[Klub]],Adrenalin!$R$18:$V$31,4,FALSE),"0") -> 1521.7391 | J4: =IFERROR(VLOOKUP(Tabela19[[#This Row],[Klub]],Ratitovec!$R$18:$V$31,2,FALSE),"0") -> 531.95876 | K4: =IFERROR(VLOOKUP(Tabela19[[#This Row],[Klub]],Ratitovec!$R$18:$V$31,3,FALSE),"0") -> 397 | L4: =IFERROR(VLOOKUP(Tabela19[[#This Row],[Klub]],Ratitovec!$R$18:$V$31,4,FALSE),"0") -> 2083.501 | M4: =IFERROR(VLOOKUP(Tabela19[[#This Row],[Klub]],'DP2014'!$R$19:$V$32,2,FALSE),"0") -> 1336.3454 | N4: =IFERROR(VLOOKUP(Tabela19[[#This Row],[Klub]],SocaValley!$R$17:$V$30,2,FALSE),"0") -> 1500 | O4: =IFERROR(VLOOKUP(Tabela19[[#This Row],[Klub]],SocaValley!$R$17:$V$30,3,FALSE),"0") -> 2261.0442 | P4: =IFERROR(VLOOKUP(Tabela19[[#This Row],[Klub]],SocaValley!$R$17:$V$30,4,FALSE),"0") -> 2289 | Q4: =IFERROR(VLOOKUP(Tabela19[[#This Row],[Klub]],SocaValley!$R$17:$V$30,5,FALSE),"0") -> 2675 | R4: =SUM(Tabela19[[#This Row],[T1]:[T15]]) -> 27016.617
A5: 1 | B5: KJP Krokar | C5: =IFERROR(VLOOKUP(Tabela19[[#This Row],[Klub]],PWC!$R$19:$U$31,2,FALSE),"0") -> 1277.7778 | D5: =IFERROR(VLOOKUP(Tabela19[[#This Row],[Klub]],PWC!$R$19:$U$31,3,FALSE),"0") -> 2179.7283 | E5: =IFERROR(VLOOKUP(Tabela19[[#This Row],[Klub]],PWC!$R$19:$U$31,4,FALSE),"0") -> 1802.4072 | F5: =IFERROR(VLOOKUP(Tabela19[[#This Row],[Klub]],ParaStajerka!$R$16:$V$29,2,FALSE),"0") -> 0 | G5: =IFERROR(VLOOKUP(Tabela19[[#This Row],[Klub]],Adrenalin!$R$18:$V$31,2,FALSE),"0") -> 1660.9658 | H5: =IFERROR(VLOOKUP(Tabela19[[#This Row],[Klub]],Adrenalin!$R$18:$V$31,3,FALSE),"0") -> 2327.044 | I5: =IFERROR(VLOOKUP(Tabela19[[#This Row],[Klub]],Adrenalin!$R$18:$V$31,4,FALSE),"0") -> 1370.0708 | J5: =IFERROR(VLOOKUP(Tabela19[[#This Row],[Klub]],Ratitovec!$R$18:$V$31,2,FALSE),"0") -> 1738.1443 | K5: =IFERROR(VLOOKUP(Tabela19[[#This Row],[Klub]],Ratitovec!$R$18:$V$31,3,FALSE),"0") -> 2365 | L5: =IFERROR(VLOOKUP(Tabela19[[#This Row],[Klub]],Ratitovec!$R$18:$V$31,4,FALSE),"0") -> 2682.0926 | M5: =IFERROR(VLOOKUP(Tabela19[[#This Row],[Klub]],'DP2014'!$R$19:$V$32,2,FALSE),"0") -> 906.62651 | N5: =IFERROR(VLOOKUP(Tabela19[[#This Row],[Klub]],SocaValley!$R$17:$V$30,2,FALSE),"0") -> 1500 | O5: =IFERROR(VLOOKUP(Tabela19[[#This Row],[Klub]],SocaValley!$R$17:$V$30,3,FALSE),"0") -> 1951.8072 | P5: =IFERROR(VLOOKUP(Tabela19[[#This Row],[Klub]],SocaValley!$R$17:$V$30,4,FALSE),"0") -> 2171 | Q5: =IFERROR(VLOOKUP(Tabela19[[#This Row],[Klub]],SocaValley!$R$17:$V$30,5,FALSE),"0") -> 1914 | R5: =SUM(Tabela19[[#This Row],[T1]:[T15]]) -> 25846.665
A6: 3 | B6: DJP Metulj | C6: =IFERROR(VLOOKUP(Tabela19[[#This Row],[Klub]],PWC!$R$19:$U$31,2,FALSE),"0") -> 1305.5556 | D6: =IFERROR(VLOOKUP(Tabela19[[#This Row],[Klub]],PWC!$R$19:$U$31,3,FALSE),"0") -> 2161.9645 | E6: =IFERROR(VLOOKUP(Tabela19[[#This Row],[Klub]],PWC!$R$19:$U$31,4,FALSE),"0") -> 1989.9699 | F6: =IFERROR(VLOOKUP(Tabela19[[#This Row],[Klub]],ParaStajerka!$R$16:$V$29,2,FALSE),"0") -> 923.79182 | G6: =IFERROR(VLOOKUP(Tabela19[[#This Row],[Klub]],Adrenalin!$R$18:$V$31,2,FALSE),"0") -> 2391.3481 | H6: =IFERROR(VLOOKUP(Tabela19[[#This Row],[Klub]],Adrenalin!$R$18:$V$31,3,FALSE),"0") -> 2122.6415 | I6: =IFERROR(VLOOKUP(Tabela19[[#This Row],[Klub]],Adrenalin!$R$18:$V$31,4,FALSE),"0") -> 2228.5137 | J6: =IFERROR(VLOOKUP(Tabela19[[#This Row],[Klub]],Ratitovec!$R$18:$V$31,2,FALSE),"0") -> 598.96907 | K6: =IFERROR(VLOOKUP(Tabela19[[#This Row],[Klub]],Ratitovec!$R$18:$V$31,3,FALSE),"0") -> 1774 | L6: =IFERROR(VLOOKUP(Tabela19[[#This Row],[Klub]],Ratitovec!$R$18:$V$31,4,FALSE),"0") -> 1174.0443 | M6: =IFERROR(VLOOKUP(Tabela19[[#This Row],[Klub]],'DP2014'!$R$19:$V$32,2,FALSE),"0") -> 1125.502 | N6: =IFERROR(VLOOKUP(Tabela19[[#This Row],[Klub]],SocaValley!$R$17:$V$30,2,FALSE),"0") -> 500 | O6: =IFERROR(VLOOKUP(Tabela19[[#This Row],[Klub]],SocaValley!$R$17:$V$30,3,FALSE),"0") -> 823.29317 | P6: =IFERROR(VLOOKUP(Tabela19[[#This Row],[Klub]],SocaValley!$R$17:$V$30,4,FALSE),"0") -> 986 | Q6: =IFERROR(VLOOKUP(Tabela19[[#This Row],[Klub]],SocaValley!$R$17:$V$30,5,FALSE),"0") -> 870 | R6: =SUM(Tabela19[[#This Row],[T1]:[T15]]) -> 20975.594
A7: 5 | B7: DJP Kajuh | C7: =IFERROR(VLOOKUP(Tabela19[[#This Row],[Klub]],PWC!$R$19:$U$31,2,FALSE),"0") -> 481.48148 | D7: =IFERROR(VLOOKUP(Tabela19[[#This Row],[Klub]],PWC!$R$19:$U$31,3,FALSE),"0") -> 987.46082 | E7: =IFERROR(VLOOKUP(Tabela19[[#This Row],[Klub]],PWC!$R$19:$U$31,4,FALSE),"0") -> 902.70812 | F7: =IFERROR(VLOOKUP(Tabela19[[#This Row],[Klub]],ParaStajerka!$R$16:$V$29,2,FALSE),"0") -> 1745.3532 | G7: =IFERROR(VLOOKUP(Tabela19[[#This Row],[Klub]],Adrenalin!$R$18:$V$31,2,FALSE),"0") -> 974.84909 | H7: =IFERROR(VLOOKUP(Tabela19[[#This Row],[Klub]],Adrenalin!$R$18:$V$31,3,FALSE),"0") -> 949.68553 | I7: =IFERROR(VLOOKUP(Tabela19[[#This Row],[Klub]],Adrenalin!$R$18:$V$31,4,FALSE),"0") -> 877.6542 | J7: =IFERROR(VLOOKUP(Tabela19[[#This Row],[Klub]],Ratitovec!$R$18:$V$31,2,FALSE),"0") -> 0 | K7: =IFERROR(VLOOKUP(Tabela19[[#This Row],[Klub]],Ratitovec!$R$18:$V$31,3,FALSE),"0") -> 872 | L7: =IFERROR(VLOOKUP(Tabela19[[#This Row],[Klub]],Ratitovec!$R$18:$V$31,4,FALSE),"0") -> 800.80483 | M7: =IFERROR(VLOOKUP(Tabela19[[#This Row],[Klub]],'DP2014'!$R$19:$V$32,2,FALSE),"0") -> 381.5261 | N7: =IFERROR(VLOOKUP(Tabela19[[#This Row],[Klub]],SocaValley!$R$17:$V$30,2,FALSE),"0") -> 0 | O7: =IFERROR(VLOOKUP(Tabela19[[#This Row],[Klub]],SocaValley!$R$17:$V$30,3,FALSE),"0") -> 1000 | P7: =IFERROR(VLOOKUP(Tabela19[[#This Row],[Klub]],SocaValley!$R$17:$V$30,4,FALSE),"0") -> 1000 | Q7: =IFERROR(VLOOKUP(Tabela19[[#This Row],[Klub]],SocaValley!$R$17:$V$30,5,FALSE),"0") -> 870 | R7: =SUM(Tabela19[[#This Row],[T1]:[T15]]) -> 11843.523
A8: 6 | B8: Lintvar | C8: =IFERROR(VLOOKUP(Tabela19[[#This Row],[Klub]],PWC!$R$19:$U$31,2,FALSE),"0") -> 1250 | D8: =IFERROR(VLOOKUP(Tabela19[[#This Row],[Klub]],PWC!$R$19:$U$31,3,FALSE),"0") -> 1471.2644 | E8: =IFERROR(VLOOKUP(Tabela19[[#This Row],[Klub]],PWC!$R$19:$U$31,4,FALSE),"0") -> 1772.317 | F8: =IFERROR(VLOOKUP(Tabela19[[#This Row],[Klub]],ParaStajerka!$R$16:$V$29,2,FALSE),"0") -> 0 | G8: =IFERROR(VLOOKUP(Tabela19[[#This Row],[Klub]],Adrenalin!$R$18:$V$31,2,FALSE),"0") -> 1718.3099 | H8: =IFERROR(VLOOKUP(Tabela19[[#This Row],[Klub]],Adrenalin!$R$18:$V$31,3,FALSE),"0") -> 1547.1698 | I8: =IFERROR(VLOOKUP(Tabela19[[#This Row],[Klub]],Adrenalin!$R$18:$V$31,4,FALSE),"0") -> 1062.6896 | J8: =IFERROR(VLOOKUP(Tabela19[[#This Row],[Klub]],Ratitovec!$R$18:$V$31,2,FALSE),"0") -> 0 | K8: =IFERROR(VLOOKUP(Tabela19[[#This Row],[Klub]],Ratitovec!$R$18:$V$31,3,FALSE),"0") -> 0 | L8: =IFERROR(VLOOKUP(Tabela19[[#This Row],[Klub]],Ratitovec!$R$18:$V$31,4,FALSE),"0") -> 0 | M8: =IFERROR(VLOOKUP(Tabela19[[#This Row],[Klub]],'DP2014'!$R$19:$V$32,2,FALSE),"0") -> 695.78313 | N8: =IFERROR(VLOOKUP(Tabela19[[#This Row],[Klub]],SocaValley!$R$17:$V$30,2,FALSE),"0") -> 500 | O8: =IFERROR(VLOOKUP(Tabela19[[#This Row],[Klub]],SocaValley!$R$17:$V$30,3,FALSE),"0") -> 403.61446 | P8: =IFERROR(VLOOKUP(Tabela19[[#This Row],[Klub]],SocaValley!$R$17:$V$30,4,FALSE),"0") -> 352 | Q8: =IFERROR(VLOOKUP(Tabela19[[#This Row],[Klub]],SocaValley!$R$17:$V$30,5,FALSE),"0") -> 417 | R8: =SUM(Tabela19[[#This Row],[T1]:[T15]]) -> 11190.148
A9: 7 | B9: DJP Cumulus | C9: =IFERROR(VLOOKUP(Tabela19[[#This Row],[Klub]],PWC!$R$19:$U$31,2,FALSE),"0") -> 370.37037 | D9: =IFERROR(VLOOKUP(Tabela19[[#This Row],[Klub]],PWC!$R$19:$U$31,3,FALSE),"0") -> 1469.1745 | E9: =IFERROR(VLOOKUP(Tabela19[[#This Row],[Klub]],PWC!$R$19:$U$31,4,FALSE),"0") -> 1276.8305 | F9: =IFERROR(VLOOKUP(Tabela19[[#This Row],[Klub]],ParaStajerka!$R$16:$V$29,2,FALSE),"0") -> 0 | G9: =IFERROR(VLOOKUP(Tabela19[[#This Row],[Klub]],Adrenalin!$R$18:$V$31,2,FALSE),"0") -> 863.17907 | H9: =IFERROR(VLOOKUP(Tabela19[[#This Row],[Klub]],Adrenalin!$R$18:$V$31,3,FALSE),"0") -> 1000 | I9: =IFERROR(VLOOKUP(Tabela19[[#This Row],[Klub]],Adrenalin!$R$18:$V$31,4,FALSE),"0") -> 883.72093 | J9: =IFERROR(VLOOKUP(Tabela19[[#This Row],[Klub]],Ratitovec!$R$18:$V$31,2,FALSE),"0") -> 1000 | K9: =IFERROR(VLOOKUP(Tabela19[[#This Row],[Klub]],Ratitovec!$R$18:$V$31,3,FALSE),"0") -> 0 | L9: =IFERROR(VLOOKUP(Tabela19[[#This Row],[Klub]],Ratitovec!$R$18:$V$31,4,FALSE),"0") -> 991.95171 | M9: =IFERROR(VLOOKUP(Tabela19[[#This Row],[Klub]],'DP2014'!$R$19:$V$32,2,FALSE),"0") -> 226.90763 | N9: =IFERROR(VLOOKUP(Tabela19[[#This Row],[Klub]],SocaValley!$R$17:$V$30,2,FALSE),"0") -> 500 | O9: =IFERROR(VLOOKUP(Tabela19[[#This Row],[Klub]],SocaValley!$R$17:$V$30,3,FALSE),"0") -> 995.98394 | P9: =IFERROR(VLOOKUP(Tabela19[[#This Row],[Klub]],SocaValley!$R$17:$V$30,4,FALSE),"0") -> 957 | Q9: =IFERROR(VLOOKUP(Tabela19[[#This Row],[Klub]],SocaValley!$R$17:$V$30,5,FALSE),"0") -> 817 | R9: =SUM(Tabela19[[#This Row],[T1]:[T15]]) -> 11352.119
A10: 8 | B10: DJP Kovk | C10: =IFERROR(VLOOKUP(Tabela19[[#This Row],[Klub]],PWC!$R$19:$U$31,2,FALSE),"0") -> 935.18519 | D10: =IFERROR(VLOOKUP(Tabela19[[#This Row],[Klub]],PWC!$R$19:$U$31,3,FALSE),"0") -> 1810.8673 | E10: =IFERROR(VLOOKUP(Tabela19[[#This Row],[Klub]],PWC!$R$19:$U$31,4,FALSE),"0") -> 1770.3109 | F10: =IFERROR(VLOOKUP(Tabela19[[#This Row],[Klub]],ParaStajerka!$R$16:$V$29,2,FALSE),"0") -> 0 | G10: =IFERROR(VLOOKUP(Tabela19[[#This Row],[Klub]],Adrenalin!$R$18:$V$31,2,FALSE),"0") -> 633.80282 | H10: =IFERROR(VLOOKUP(Tabela19[[#This Row],[Klub]],Adrenalin!$R$18:$V$31,3,FALSE),"0") -> 1166.6667 | I10: =IFERROR(VLOOKUP(Tabela19[[#This Row],[Klub]],Adrenalin!$R$18:$V$31,4,FALSE),"0") -> 1077.8564 | J10: =IFERROR(VLOOKUP(Tabela19[[#This Row],[Klub]],Ratitovec!$R$18:$V$31,2,FALSE),"0") -> 534.02062 | K10: =IFERROR(VLOOKUP(Tabela19[[#This Row],[Klub]],Ratitovec!$R$18:$V$31,3,FALSE),"0") -> 407 | L10: =IFERROR(VLOOKUP(Tabela19[[#This Row],[Klub]],Ratitovec!$R$18:$V$31,4,FALSE),"0") -> 175.0503 | M10: =IFERROR(VLOOKUP(Tabela19[[#This Row],[Klub]],'DP2014'!$R$19:$V$32,2,FALSE),"0") -> 782.12851 | N10: =IFERROR(VLOOKUP(Tabela19[[#This Row],[Klub]],SocaValley!$R$17:$V$30,2,FALSE),"0") -> 0 | O10: =IFERROR(VLOOKUP(Tabela19[[#This Row],[Klub]],SocaValley!$R$17:$V$30,3,FALSE),"0") -> 488.95582 | P10: =IFERROR(VLOOKUP(Tabela19[[#This Row],[Klub]],SocaValley!$R$17:$V$30,4,FALSE),"0") -> 507 | Q10: =IFERROR(VLOOKUP(Tabela19[[#This Row],[Klub]],SocaValley!$R$17:$V$30,5,FALSE),"0") -> 421 | R10: =SUM(Tabela19[[#This Row],[T1]:[T15]]) -> 10709.845
A11: 9 | B11: Adrenalin | C11: =IFERROR(VLOOKUP(Tabela19[[#This Row],[Klub]],PWC!$R$19:$U$31,2,FALSE),"0") -> 555.55556 | D11: =IFERROR(VLOOKUP(Tabela19[[#This Row],[Klub]],PWC!$R$19:$U$31,3,FALSE),"0") -> 655.17241 | E11: =IFERROR(VLOOKUP(Tabela19[[#This Row],[Klub]],PWC!$R$19:$U$31,4,FALSE),"0") -> 628.88666 | F11: =IFERROR(VLOOKUP(Tabela19[[#This Row],[Klub]],ParaStajerka!$R$16:$V$29,2,FALSE),"0") -> 0 | G11: =IFERROR(VLOOKUP(Tabela19[[#This Row],[Klub]],Adrenalin!$R$18:$V$31,2,FALSE),"0") -> 838.02817 | H11: =IFERROR(VLOOKUP(Tabela19[[#This Row],[Klub]],Adrenalin!$R$18:$V$31,3,FALSE),"0") -> 1292.4528 | I11: =IFERROR(VLOOKUP(Tabela19[[#This Row],[Klub]],Adrenalin!$R$18:$V$31,4,FALSE),"0") -> 609.70677 | J11: =IFERROR(VLOOKUP(Tabela19[[#This Row],[Klub]],Ratitovec!$R$18:$V$31,2,FALSE),"0") -> 0 | K11: =IFERROR(VLOOKUP(Tabela19[[#This Row],[Klub]],Ratitovec!$R$18:$V$31,3,FALSE),"0") -> 0 | L11: =IFERROR(VLOOKUP(Tabela19[[#This Row],[Klub]],Ratitovec!$R$18:$V$31,4,FALSE),"0") -> 0 | M11: =IFERROR(VLOOKUP(Tabela19[[#This Row],[Klub]],'DP2014'!$R$19:$V$32,2,FALSE),"0") -> 0 | N11: =IFERROR(VLOOKUP(Tabela19[[#This Row],[Klub]],SocaValley!$R$17:$V$30,2,FALSE),"0") -> 1500 | O11: =IFERROR(VLOOKUP(Tabela19[[#This Row],[Klub]],SocaValley!$R$17:$V$30,3,FALSE),"0") -> 1818.2731 | P11: =IFERROR(VLOOKUP(Tabela19[[#This Row],[Klub]],SocaValley!$R$17:$V$30,4,FALSE),"0") -> 1668 | Q11: =IFERROR(VLOOKUP(Tabela19[[#This Row],[Klub]],SocaValley!$R$17:$V$30,5,FALSE),"0") -> 1861 | R11: =SUM(Tabela19[[#This Row],[T1]:[T15]]) -> 11427.075
A12: 4 | B12: DPL Ikar SG | C12: =IFERROR(VLOOKUP(Tabela19[[#This Row],[Klub]],PWC!$R$19:$U$31,2,FALSE),"0") -> 0 | D12: =IFERROR(VLOOKUP(Tabela19[[#This Row],[Klub]],PWC!$R$19:$U$31,3,FALSE),"0") -> 0 | E12: =IFERROR(VLOOKUP(Tabela19[[#This Row],[Klub]],PWC!$R$19:$U$31,4,FALSE),"0") -> 0 | F12: =IFERROR(VLOOKUP(Tabela19[[#This Row],[Klub]],ParaStajerka!$R$16:$V$29,2,FALSE),"0") -> 0 | G12: =IFERROR(VLOOKUP(Tabela19[[#This Row],[Klub]],Adrenalin!$R$18:$V$31,2,FALSE),"0") -> 801.81087 | H12: =IFERROR(VLOOKUP(Tabela19[[#This Row],[Klub]],Adrenalin!$R$18:$V$31,3,FALSE),"0") -> 770.44025 | I12: =IFERROR(VLOOKUP(Tabela19[[#This Row],[Klub]],Adrenalin!$R$18:$V$31,4,FALSE),"0") -> 1000 | J12: =IFERROR(VLOOKUP(Tabela19[[#This Row],[Klub]],Ratitovec!$R$18:$V$31,2,FALSE),"0") -> 1322.6804 | K12: =IFERROR(VLOOKUP(Tabela19[[#This Row],[Klub]],Ratitovec!$R$18:$V$31,3,FALSE),"0") -> 1206 | L12: =IFERROR(VLOOKUP(Tabela19[[#This Row],[Klub]],Ratitovec!$R$18:$V$31,4,FALSE),"0") -> 503.01811 | M12: =IFERROR(VLOOKUP(Tabela19[[#This Row],[Klub]],'DP2014'!$R$19:$V$32,2,FALSE),"0") -> 0 | N12: =IFERROR(VLOOKUP(Tabela19[[#This Row],[Klub]],SocaValley!$R$17:$V$30,2,FALSE),"0") -> 0 | O12: =IFERROR(VLOOKUP(Tabela19[[#This Row],[Klub]],SocaValley!$R$17:$V$30,3,FALSE),"0") -> 0 | P12: =IFERROR(VLOOKUP(Tabela19[[#This Row],[Klub]],SocaValley!$R$17:$V$30,4,FALSE),"0") -> 0 | Q12: =IFERROR(VLOOKUP(Tabela19[[#This Row],[Klub]],SocaValley!$R$17:$V$30,5,FALSE),"0") -> 0 | R12: =SUM(Tabela19[[#This Row],[T1]:[T15]]) -> 5603.9496
A13: 10 | B13: DPL Posočje | C13: =IFERROR(VLOOKUP(Tabela19[[#This Row],[Klub]],PWC!$R$19:$U$31,2,FALSE),"0") -> 277.77778 | D13: =IFERROR(VLOOKUP(Tabela19[[#This Row],[Klub]],PWC!$R$19:$U$31,3,FALSE),"0") -> 449.32079 | E13: =IFERROR(VLOOKUP(Tabela19[[#This Row],[Klub]],PWC!$R$19:$U$31,4,FALSE),"0") -> 152.45737 | F13: =IFERROR(VLOOKUP(Tabela19[[#This Row],[Klub]],ParaStajerka!$R$16:$V$29,2,FALSE),"0") -> 0 | G13: =IFERROR(VLOOKUP(Tabela19[[#This Row],[Klub]],Adrenalin!$R$18:$V$31,2,FALSE),"0") -> 0 | H13: =IFERROR(VLOOKUP(Tabela19[[#This Row],[Klub]],Adrenalin!$R$18:$V$31,3,FALSE),"0") -> 0 | I13: =IFERROR(VLOOKUP(Tabela19[[#This Row],[Klub]],Adrenalin!$R$18:$V$31,4,FALSE),"0") -> 0 | J13: =IFERROR(VLOOKUP(Tabela19[[#This Row],[Klub]],Ratitovec!$R$18:$V$31,2,FALSE),"0") -> 0 | K13: =IFERROR(VLOOKUP(Tabela19[[#This Row],[Klub]],Ratitovec!$R$18:$V$31,3,FALSE),"0") -> 0 | L13: =IFERROR(VLOOKUP(Tabela19[[#This Row],[Klub]],Ratitovec!$R$18:$V$31,4,FALSE),"0") -> 0 | M13: =IFERROR(VLOOKUP(Tabela19[[#This Row],[Klub]],'DP2014'!$R$19:$V$32,2,FALSE),"0") -> 0 | N13: =IFERROR(VLOOKUP(Tabela19[[#This Row],[Klub]],SocaValley!$R$17:$V$30,2,FALSE),"0") -> 0 | O13: =IFERROR(VLOOKUP(Tabela19[[#This Row],[Klub]],SocaValley!$R$17:$V$30,3,FALSE),"0") -> 490.96386 | P13: =IFERROR(VLOOKUP(Tabela19[[#This Row],[Klub]],SocaValley!$R$17:$V$30,4,FALSE),"0") -> 592 | Q13: =IFERROR(VLOOKUP(Tabela19[[#This Row],[Klub]],SocaValley!$R$17:$V$30,5,FALSE),"0") -> 743 | R13: =SUM(Tabela19[[#This Row],[T1]:[T15]]) -> 2705.5198
A14: 11 | B14: Polet Kamnik | C14: =IFERROR(VLOOKUP(Tabela19[[#This Row],[Klub]],PWC!$R$19:$U$31,2,FALSE),"0") -> 555.55556 | D14: =IFERROR(VLOOKUP(Tabela19[[#This Row],[Klub]],PWC!$R$19:$U$31,3,FALSE),"0") -> 518.28631 | E14: =IFERROR(VLOOKUP(Tabela19[[#This Row],[Klub]],PWC!$R$19:$U$31,4,FALSE),"0") -> 476.42929 | F14: =IFERROR(VLOOKUP(Tabela19[[#This Row],[Klub]],ParaStajerka!$R$16:$V$29,2,FALSE),"0") -> 0 | G14: =IFERROR(VLOOKUP(Tabela19[[#This Row],[Klub]],Adrenalin!$R$18:$V$31,2,FALSE),"0") -> 0 | H14: =IFERROR(VLOOKUP(Tabela19[[#This Row],[Klub]],Adrenalin!$R$18:$V$31,3,FALSE),"0") -> 0 | I14: =IFERROR(VLOOKUP(Tabela19[[#This Row],[Klub]],Adrenalin!$R$18:$V$31,4,FALSE),"0") -> 0 | J14: =IFERROR(VLOOKUP(Tabela19[[#This Row],[Klub]],Ratitovec!$R$18:$V$31,2,FALSE),"0") -> 0 | K14: =IFERROR(VLOOKUP(Tabela19[[#This Row],[Klub]],Ratitovec!$R$18:$V$31,3,FALSE),"0") -> 0 | L14: =IFERROR(VLOOKUP(Tabela19[[#This Row],[Klub]],Ratitovec!$R$18:$V$31,4,FALSE),"0") -> 0 | M14: =IFERROR(VLOOKUP(Tabela19[[#This Row],[Klub]],'DP2014'!$R$19:$V$32,2,FALSE),"0") -> 246.98795 | N14: =IFERROR(VLOOKUP(Tabela19[[#This Row],[Klub]],SocaValley!$R$17:$V$30,2,FALSE),"0") -> 0 | O14: =IFERROR(VLOOKUP(Tabela19[[#This Row],[Klub]],SocaValley!$R$17:$V$30,3,FALSE),"0") -> 0 | P14: =IFERROR(VLOOKUP(Tabela19[[#This Row],[Klub]],SocaValley!$R$17:$V$30,4,FALSE),"0") -> 0 | Q14: =IFERROR(VLOOKUP(Tabela19[[#This Row],[Klub]],SocaValley!$R$17:$V$30,5,FALSE),"0") -> 0 | R14: =SUM(Tabela19[[#This Row],[T1]:[T15]]) -> 1797.2591
A15: 12 | B15: Albatros Celje | C15: =IFERROR(VLOOKUP(Tabela19[[#This Row],[Klub]],PWC!$R$19:$U$31,2,FALSE),"0") -> 277.77778 | D15: =IFERROR(VLOOKUP(Tabela19[[#This Row],[Klub]],PWC!$R$19:$U$31,3,FALSE),"0") -> 197.49216 | E15: =IFERROR(VLOOKUP(Tabela19[[#This Row],[Klub]],PWC!$R$19:$U$31,4,FALSE),"0") -> 125.37613 | F15: =IFERROR(VLOOKUP(Tabela19[[#This Row],[Klub]],ParaStajerka!$R$16:$V$29,2,FALSE),"0") -> 0 | G15: =IFERROR(VLOOKUP(Tabela19[[#This Row],[Klub]],Adrenalin!$R$18:$V$31,2,FALSE),"0") -> 0 | H15: =IFERROR(VLOOKUP(Tabela19[[#This Row],[Klub]],Adrenalin!$R$18:$V$31,3,FALSE),"0") -> 0 | I15: =IFERROR(VLOOKUP(Tabela19[[#This Row],[Klub]],Adrenalin!$R$18:$V$31,4,FALSE),"0") -> 0 | J15: =IFERROR(VLOOKUP(Tabela19[[#This Row],[Klub]],Ratitovec!$R$18:$V$31,2,FALSE),"0") -> 0 | K15: =IFERROR(VLOOKUP(Tabela19[[#This Row],[Klub]],Ratitovec!$R$18:$V$31,3,FALSE),"0") -> 0 | L15: =IFERROR(VLOOKUP(Tabela19[[#This Row],[Klub]],Ratitovec!$R$18:$V$31,4,FALSE),"0") -> 0 | M15: =IFERROR(VLOOKUP(Tabela19[[#This Row],[Klub]],'DP2014'!$R$19:$V$32,2,FALSE),"0") -> 0 | N15: =IFERROR(VLOOKUP(Tabela19[[#This Row],[Klub]],SocaValley!$R$17:$V$30,2,FALSE),"0") -> 0 | O15: =IFERROR(VLOOKUP(Tabela19[[#This Row],[Klub]],SocaValley!$R$17:$V$30,3,FALSE),"0") -> 0 | P15: =IFERROR(VLOOKUP(Tabela19[[#This Row],[Klub]],SocaValley!$R$17:$V$30,4,FALSE),"0") -> 0 | Q15: =IFERROR(VLOOKUP(Tabela19[[#This Row],[Klub]],SocaValley!$R$17:$V$30,5,FALSE),"0") -> 0 | R15: =SUM(Tabela19[[#This Row],[T1]:[T15]]) -> 600.64607
... A21: 3 | B21: Orli Kranj | C21: =IFERROR(VLOOKUP(Tabela19[[#This Row],[Klub]],PWC!$R$19:$U$31,2,FALSE),"0") -> 0 | D21: =IFERROR(VLOOKUP(Tabela19[[#This Row],[Klub]],PWC!$R$19:$U$31,3,FALSE),"0") -> 0 | E21: =IFERROR(VLOOKUP(Tabela19[[#This Row],[Klub]],PWC!$R$19:$U$31,4,FALSE),"0") -> 0 | F21: =IFERROR(VLOOKUP(Tabela19[[#This Row],[Klub]],ParaStajerka!$R$16:$V$29,2,FALSE),"0") -> 0 | G21: =IFERROR(VLOOKUP(Tabela19[[#This Row],[Klub]],Adrenalin!$R$18:$V$31,2,FALSE),"0") -> 0 | H21: =IFERROR(VLOOKUP(Tabela19[[#This Row],[Klub]],Adrenalin!$R$18:$V$31,3,FALSE),"0") -> 0 | I21: =IFERROR(VLOOKUP(Tabela19[[#This Row],[Klub]],Adrenalin!$R$18:$V$31,4,FALSE),"0") -> 0 | J21: =IFERROR(VLOOKUP(Tabela19[[#This Row],[Klub]],Ratitovec!$R$18:$V$31,2,FALSE),"0") -> 0 | K21: =IFERROR(VLOOKUP(Tabela19[[#This Row],[Klub]],Ratitovec!$R$18:$V$31,3,FALSE),"0") -> 0 | L21: =IFERROR(VLOOKUP(Tabela19[[#This Row],[Klub]],Ratitovec!$R$18:$V$31,4,FALSE),"0") -> 0 | M21: =IFERROR(VLOOKUP(Tabela19[[#This Row],[Klub]],'DP2014'!$R$19:$V$32,2,FALSE),"0") -> 0 | N21: =IFERROR(VLOOKUP(Tabela19[[#This Row],[Klub]],SocaValley!$R$17:$V$30,2,FALSE),"0") -> 0 | O21: =IFERROR(VLOOKUP(Tabela19[[#This Row],[Klub]],SocaValley!$R$17:$V$30,3,FALSE),"0") -> 0 | P21: =IFERROR(VLOOKUP(Tabela19[[#This Row],[Klub]],SocaValley!$R$17:$V$30,4,FALSE),"0") -> 0 | Q21: =IFERROR(VLOOKUP(Tabela19[[#This Row],[Klub]],SocaValley!$R$17:$V$30,5,FALSE),"0") -> 0 | R21: =SUM(Tabela19[[#This Row],[T1]:[T15]]) -> 0
